BEGIN:VCALENDAR
VERSION:2.0
PRODID:-//hacksw/handcal//NONSGML v1.0//EN
BEGIN:VEVENT
UID:3896b573992b57205913064ae5884386
DTSTAMP:20260420T142127Z

DTSTART:20190615T210000
DTEND:20190617T210000
SUMMARY:82:"Luchosa-trai" 15-17 июня
DESCRIPTION:В четыре ходим мы потока\nВ любое время год от года.\nОчередной проект как раз\nДля вас, друзья, готовит Глаз.\n\nСмирнов, Конькова и Сантехник,\nГлаз, Миндибеков и Электрик…\nКлуб Магадан самый большой\nВ республике, как никакой другой.\n\nНа реках Витебской губернии\nЗапрет на нерест, ну, и хер с ним…\nАж до девятого июня,\nПойдем неделей позже, хуле…\n\nЛетний поход в этом году \nОдин лишь провести  могу.\nМесяц июнь весьма пригодный,\nОрганизовать чтобы сплав водный.\n\nРека в высоких берегах\nСтремится к Витебску в лесах.\nНазвание её Лучоса.\nВозьмем с собою Пузочеса.\n\nОписана Лучоса плохо:\nОтчетов про нее не много\nС собой фотографов берем,\nКорреспондентов и пойдем.\n\nОна похожая довольно\nНа нижнее течение Свольны.\nИ общего у нее вдоволь\nС участком верхним реки Оболь.\n\nТепло всегда в июне благо,\nПоэтому пора аншлагов.\nВ прошлом году в состав я бросил\nНа Оболь Первый сорок восемь.\n\nВ поход сей восемьдесят второй\nМаршрут, как никакой другой.\nТрехдневный будет наш проект,\nСто десять километров трек.\n\nВ смысл слова трейл я не вникаю, \nЗаранее охуваю...\n«Luchosa-trail» пускай зовется,\nЛучше названия не найдется!\n\nПоход, можно сказать, спортривный.\nВо первых, он довольно длинный.\nЗаросши берега, о Боже!\nБудто на Свольне иль в Камбодже!\n\nЛучосу то и отличает:\nОсобо некуда причалить.\nПо сторонам крутые склоны,\nА русло будто бы в каньоне.\n\nЕщё завалы обещают,\nОни вверху преобладают.\nНе популярная река \nДля отдыхающих пока.\n\nЛучосу приводил в пример\nЛечтчик-Максим-Пенсионер\nНад этой речкой неспроста\nМы как-то прыгали с моста.\n\nПаленый был, Гюго и Ашик,\nСмирнов, Глаз, Бай и много наших.\nУ нас немало авантюр\nПрыгали с базы тогда СУРФ!\n\nЖелающие, коль хотите, \nВы Глазу сразу же звоните.\nТакие я люблю маршруты,\nИ полагаю, будет круто!\n\nХочу предостеречь, друзья!\nВас, что за день иль два нельзя,\nМне накануне позвонить,\nЧто не идете сообщить!..\n\n15-17 июня будет проводится байдарочный сплав по маршруту Черница-Лучоса. Три ходовых дня. За это время предстоит пройти 111км. Река трансцендентна. Вместе с тем, после изучения немногочисленного описательного материала по этому проекту, усматриваются определенные характерные для Витебской области закономерности и некоторые черты, имеющие, должно быть и здесь, место у нами изученных рек. А именно - после предварительного ознакомления создались, впечатления присущности ей, Лучосе, свойств нижнего течения Свольны и тоже верхнего Оболи. Река утопающая в зелени с зарастающими джунглями крутых глинистых берегов. Обе реки в свое время оставили в нашей памяти наилучшие впечатления и сильные эстетические ощущения. \nОт Лучосы, похода и маршрута ожидания высоки. Время июнь - излюбленное для дебютантов. В походе 82 ожидается массированный численный состав. Опыт хождения большими группами вполне имеется. Просьбы учитывать, тем не менее, что сплав 82 будет проводится в глазовском стиле: весьма и весьма интенсивный, долгий и насыщенный именно ходовыми часами по воде. \nЖелающим принять участие просьба записываться. Для фотографов и корреспондентов будут дополнительные преференции. Не исключено, что «на смычку» с основной группой будет организован «велосипедно-экологический десант» с Пашей (Кириллом) в сольном исполнении или во главе. Если последний откажется, будет назначен и загримирован отдельный специально проинструктированный агент.\nС 10 июня покидать состав нельзя. Отношение «к приезду в гости без предупреждения двоюродной бабушки из Удмуртии» особенно негативно. В случае протекции новых участников и соскока последних (с этим пришлось столкнуться) после 10 июня, последние определяются в Уголок Шалуна. Вместе с соскочившим идет паровозом и рекомендующий. Относитесь с пониманием к менеджменту, ответственности и проделываемой организационной работе. \n\n                                                                            \n

X-ALT-DESC;FMTTYPE=text/html:<!DOCTYPE HTML PUBLIC "-//W3C//DTD HTML 3.2//EN">\n<HTML>\n<HEAD>\n<META NAME="Generator" CONTENT="MS Exchange Server version 08.00.0681.000">\n<TITLE></TITLE>\n</HEAD>\n<BODY>\n<!-- Converted from text/rtf format -->\n\nВ четыре ходим мы потока<br />В любое время год от года.<br />Очередной проект как раз<br />Для вас, друзья, готовит Глаз.<br /><br />Смирнов, Конькова и Сантехник,<br />Глаз, Миндибеков и Электрик…<br />Клуб Магадан самый большой<br />В республике, как никакой другой.<br /><br />На реках Витебской губернии<br />Запрет на нерест, ну, и хер с ним…<br />Аж до девятого июня,<br />Пойдем неделей позже, хуле…<br /><br />Летний поход в этом году <br />Один лишь провести  могу.<br />Месяц июнь весьма пригодный,<br />Организовать чтобы сплав водный.<br /><br />Река в высоких берегах<br />Стремится к Витебску в лесах.<br />Название её Лучоса.<br />Возьмем с собою Пузочеса.<br /><br />Описана Лучоса плохо:<br />Отчетов про нее не много<br />С собой фотографов берем,<br />Корреспондентов и пойдем.<br /><br />Она похожая довольно<br />На нижнее течение Свольны.<br />И общего у нее вдоволь<br />С участком верхним реки Оболь.<br /><br />Тепло всегда в июне благо,<br />Поэтому пора аншлагов.<br />В прошлом году в состав я бросил<br />На Оболь Первый сорок восемь.<br /><br />В поход сей восемьдесят второй<br />Маршрут, как никакой другой.<br />Трехдневный будет наш проект,<br />Сто десять километров трек.<br /><br />В смысл слова трейл я не вникаю, <br />Заранее охуваю...<br />«Luchosa-trail» пускай зовется,<br />Лучше названия не найдется!<br /><br />Поход, можно сказать, спортривный.<br />Во первых, он довольно длинный.<br />Заросши берега, о Боже!<br />Будто на Свольне иль в Камбодже!<br /><br />Лучосу то и отличает:<br />Особо некуда причалить.<br />По сторонам крутые склоны,<br />А русло будто бы в каньоне.<br /><br />Ещё завалы обещают,<br />Они вверху преобладают.<br />Не популярная река <br />Для отдыхающих пока.<br /><br />Лучосу приводил в пример<br />Лечтчик-Максим-Пенсионер<br />Над этой речкой неспроста<br />Мы как-то прыгали с моста.<br /><br />Паленый был, Гюго и Ашик,<br />Смирнов, Глаз, Бай и много наших.<br />У нас немало авантюр<br />Прыгали с базы тогда СУРФ!<br /><br />Желающие, коль хотите, <br />Вы Глазу сразу же звоните.<br />Такие я люблю маршруты,<br />И полагаю, будет круто!<br /><br />Хочу предостеречь, друзья!<br />Вас, что за день иль два нельзя,<br />Мне накануне позвонить,<br />Что не идете сообщить!..<br /><br />15-17 июня будет проводится байдарочный сплав по маршруту Черница-Лучоса. Три ходовых дня. За это время предстоит пройти 111км. Река трансцендентна. Вместе с тем, после изучения немногочисленного описательного материала по этому проекту, усматриваются определенные характерные для Витебской области закономерности и некоторые черты, имеющие, должно быть и здесь, место у нами изученных рек. А именно - после предварительного ознакомления создались, впечатления присущности ей, Лучосе, свойств нижнего течения Свольны и тоже верхнего Оболи. Река утопающая в зелени с зарастающими джунглями крутых глинистых берегов. Обе реки в свое время оставили в нашей памяти наилучшие впечатления и сильные эстетические ощущения. <br />От Лучосы, похода и маршрута ожидания высоки. Время июнь - излюбленное для дебютантов. В походе 82 ожидается массированный численный состав. Опыт хождения большими группами вполне имеется. Просьбы учитывать, тем не менее, что сплав 82 будет проводится в глазовском стиле: весьма и весьма интенсивный, долгий и насыщенный именно ходовыми часами по воде. <br />Желающим принять участие просьба записываться. Для фотографов и корреспондентов будут дополнительные преференции. Не исключено, что «на смычку» с основной группой будет организован «велосипедно-экологический десант» с Пашей (Кириллом) в сольном исполнении или во главе. Если последний откажется, будет назначен и загримирован отдельный специально проинструктированный агент.<br />С 10 июня покидать состав нельзя. Отношение «к приезду в гости без предупреждения двоюродной бабушки из Удмуртии» особенно негативно. В случае протекции новых участников и соскока последних (с этим пришлось столкнуться) после 10 июня, последние определяются в Уголок Шалуна. Вместе с соскочившим идет паровозом и рекомендующий. Относитесь с пониманием к менеджменту, ответственности и проделываемой организационной работе. <br /><br />                                                                            <br />\n\n</BODY>\n</HTML>

LOCATION:
END:VEVENT

END:VCALENDAR
