BEGIN:VCALENDAR
VERSION:2.0
PRODID:-//hacksw/handcal//NONSGML v1.0//EN
BEGIN:VEVENT
UID:27443f451b881ce034234a16eb4836ea
DTSTAMP:20260420T172644Z

DTSTART:20190419T100000
DTEND:20190421T001500
SUMMARY:Пасхальная Гайна по классике
DESCRIPTION:Всем привет! \n20-21 апреля состоится велоПВД. \nПо сему предлагаю встретить весну с яйцами. \nПриглашаются все желающие! \n\nСтарт в субботу утром от библиотеки, лагерь на озере Дикое. \nФиниш в 17-19.00 в Борисове. \nДо Минска едем электричкой. \nКилометраж: 105 км (четверть асфальт). \n\nВозможно будет переправа. В этом походе допустимый процент естественных потерь увеличен до 50 % на момент переправы. \nВ связи с высоким допуском на убыль, некоторые участники берут в поход детей. \nВсем, кто умрет, гарантируется святое воскрешение в воскресное утро) \n\nЗапись по тел:+375 29 126 41 12 (Волосач Сергей)

X-ALT-DESC;FMTTYPE=text/html:<!DOCTYPE HTML PUBLIC "-//W3C//DTD HTML 3.2//EN">\n<HTML>\n<HEAD>\n<META NAME="Generator" CONTENT="MS Exchange Server version 08.00.0681.000">\n<TITLE></TITLE>\n</HEAD>\n<BODY>\n<!-- Converted from text/rtf format -->\n\nВсем привет! <br />20-21 апреля состоится велоПВД. <br />По сему предлагаю встретить весну с яйцами. <br />Приглашаются все желающие! <br /><br />Старт в субботу утром от библиотеки, лагерь на озере Дикое. <br />Финиш в 17-19.00 в Борисове. <br />До Минска едем электричкой. <br />Километраж: 105 км (четверть асфальт). <br /><br />Возможно будет переправа. В этом походе допустимый процент естественных потерь увеличен до 50 % на момент переправы. <br />В связи с высоким допуском на убыль, некоторые участники берут в поход детей. <br />Всем, кто умрет, гарантируется святое воскрешение в воскресное утро) <br /><br />Запись по тел:+375 29 126 41 12 (Волосач Сергей)\n\n</BODY>\n</HTML>

LOCATION:
END:VEVENT

END:VCALENDAR
