BEGIN:VCALENDAR
VERSION:2.0
PRODID:-//hacksw/handcal//NONSGML v1.0//EN
BEGIN:VEVENT
UID:714d3ae32ea05bf9278202a0386fecaa
DTSTAMP:20260420T142219Z

DTSTART:20190921T190000
DTEND:20190922T190000
SUMMARY:82А «Ковальчук-трейл» Ошмяно-Нарочанский 2
DESCRIPTION:Ошмяно-Нарочанский\nВелопробег\nПроведёт Глаз Несчастный\nВозьмет коллег.\n\nХоть мало будет спорта, \nНи в этом суть\nСто двадцать всё же верст нам \nПроделать путь.\n\nНазвание гармонично\n«Ковальчук-трейл»,\nИ местность динамична\nВеселый трек.\n\nСпортсмен Сережа знатный\nИ в доску свой!\nВозможно, суррогатного\nВозьмем с собой.\n\nЗаброска симпатичная \nТуда нас ждет.\nС утра на электричке\nЕхать вперед.\n\nИ если так случится,\nКак в прошлый раз,\nЧто может вдруг напиться,\nВеселый Глаз.\n\nНаверстывать упущенное,\nГруппы догонять,\n\nВ таком придется случае,\nЧтоб грех замять.\n\nПервая часть Ошмянская\nНам предстоит.\nПотом по Нарочанской\nСей путь лежит.\n\nПридется и Ошмянку \nПересекать,\nИ близко от границы \nЛес объезжать.\n\nВ костел села Гервяты\nМожно зайти.\nТем более, ребята,\nОн по пути.\n\nОбъектов техногенных\nНе обойтись же без:\nВедь ехать охуенно\nВблизи АЭС!\n\nЖелезная дорога \nЕсть там давно.\nДо Латвии немного\nСовсем говно…\n\nНа месте Лагерь-точки\nТечет родник.\nКак в прошлом году точно,\nБудет пикник.\n\nПересекаем Страчу \nВ конце второго дня.\nВсе любят, не иначе,\nЕё не только я.\n\nМелькнут озера Швакшты\nПо левой стороне,\nС них начался однажды\nУ нас сплав по весне.\n\nОзеро Нарочь, финиш,\nИ много лебедей…\nНазад два года, слышишь,\nНам дало пиздюлей…\n\nДавно не было велов,\nПо ним скучаю сам.\n17 аж куплетов \nВ анонсе написал!\n\nЗахочет кто, звоните,\nНа этот уик-энд.\nТем более, смотрите,\nКакой прикольный брэнд.\n \nУ меня если спросят,\n- Любимая пора?..\nКонечно, люди, осень!\nИдем в поход! Ура!\n\n21-22 сентября 2019г  будет проводится вело-ПВД протяженностью 120 км по Ошмяно-Нарочанским окрестностям. Прошлогодний подобный оставил восхитительные эстетические впечатления. Грядущий трек тоже проходит примерно там, но нисколько не совпадает с предыдущим октябрьским. Они только лишь в одном месте пересекаются.\nЛогистическая схема идентичная с таковой прошлогодней похода ПВД «Ошмяно-Нарочанский»от 13-14.10.2018. Дорога вперед на электричке рано утром. Назад, - бус с прицепом. По дороге посещение самого высокого Костела Святой Троицы в Гервятах, хотя кто-то утверждает, что костел Пресвятой Девы Марии (поход по Брасловщине 2017год) в Видзах выше. Наряду с культурными и природными запланированы также и техногенные ландшафты. Трек пройдет в близости от строящейся Белоруской АЭС. Встретятся на пути реки Вилия, Ошмянка и ряд изумительных озер. Ну, и конечно же лагерь с пикниками и самодеятельностью на берегу живописного ручья вблизи полузаброшенной железной дороги из Лынтуп в Латвию.\nТребования к участникам минимальны. Для удобства состав будет разделен на подгруппы. Сливаться из состава после отправки организационной рассылки (за пять дней) нельзя. Могут быть рассмотрены вопросы по организации матрацно-экологического десанта в лагерь 82А. Планируется в ненавязчивом объеме самодеятельность. Практические лекции по велосипедам, даже найден двойник Сережи Ковальчука (гримирование потребуется минимальное).\nЖелающим просьба записываться у Глаза. Кроме 12июля-15августа.\n\n\n\n\n\n\n\n\n\n

X-ALT-DESC;FMTTYPE=text/html:<!DOCTYPE HTML PUBLIC "-//W3C//DTD HTML 3.2//EN">\n<HTML>\n<HEAD>\n<META NAME="Generator" CONTENT="MS Exchange Server version 08.00.0681.000">\n<TITLE></TITLE>\n</HEAD>\n<BODY>\n<!-- Converted from text/rtf format -->\n\nОшмяно-Нарочанский<br />Велопробег<br />Проведёт Глаз Несчастный<br />Возьмет коллег.<br /><br />Хоть мало будет спорта, <br />Ни в этом суть<br />Сто двадцать всё же верст нам <br />Проделать путь.<br /><br />Название гармонично<br />«Ковальчук-трейл»,<br />И местность динамична<br />Веселый трек.<br /><br />Спортсмен Сережа знатный<br />И в доску свой!<br />Возможно, суррогатного<br />Возьмем с собой.<br /><br />Заброска симпатичная <br />Туда нас ждет.<br />С утра на электричке<br />Ехать вперед.<br /><br />И если так случится,<br />Как в прошлый раз,<br />Что может вдруг напиться,<br />Веселый Глаз.<br /><br />Наверстывать упущенное,<br />Группы догонять,<br /><br />В таком придется случае,<br />Чтоб грех замять.<br /><br />Первая часть Ошмянская<br />Нам предстоит.<br />Потом по Нарочанской<br />Сей путь лежит.<br /><br />Придется и Ошмянку <br />Пересекать,<br />И близко от границы <br />Лес объезжать.<br /><br />В костел села Гервяты<br />Можно зайти.<br />Тем более, ребята,<br />Он по пути.<br /><br />Объектов техногенных<br />Не обойтись же без:<br />Ведь ехать охуенно<br />Вблизи АЭС!<br /><br />Железная дорога <br />Есть там давно.<br />До Латвии немного<br />Совсем говно…<br /><br />На месте Лагерь-точки<br />Течет родник.<br />Как в прошлом году точно,<br />Будет пикник.<br /><br />Пересекаем Страчу <br />В конце второго дня.<br />Все любят, не иначе,<br />Её не только я.<br /><br />Мелькнут озера Швакшты<br />По левой стороне,<br />С них начался однажды<br />У нас сплав по весне.<br /><br />Озеро Нарочь, финиш,<br />И много лебедей…<br />Назад два года, слышишь,<br />Нам дало пиздюлей…<br /><br />Давно не было велов,<br />По ним скучаю сам.<br />17 аж куплетов <br />В анонсе написал!<br /><br />Захочет кто, звоните,<br />На этот уик-энд.<br />Тем более, смотрите,<br />Какой прикольный брэнд.<br /> <br />У меня если спросят,<br />- Любимая пора?..<br />Конечно, люди, осень!<br />Идем в поход! Ура!<br /><br />21-22 сентября 2019г  будет проводится вело-ПВД протяженностью 120 км по Ошмяно-Нарочанским окрестностям. Прошлогодний подобный оставил восхитительные эстетические впечатления. Грядущий трек тоже проходит примерно там, но нисколько не совпадает с предыдущим октябрьским. Они только лишь в одном месте пересекаются.<br />Логистическая схема идентичная с таковой прошлогодней похода ПВД «Ошмяно-Нарочанский»от 13-14.10.2018. Дорога вперед на электричке рано утром. Назад, - бус с прицепом. По дороге посещение самого высокого Костела Святой Троицы в Гервятах, хотя кто-то утверждает, что костел Пресвятой Девы Марии (поход по Брасловщине 2017год) в Видзах выше. Наряду с культурными и природными запланированы также и техногенные ландшафты. Трек пройдет в близости от строящейся Белоруской АЭС. Встретятся на пути реки Вилия, Ошмянка и ряд изумительных озер. Ну, и конечно же лагерь с пикниками и самодеятельностью на берегу живописного ручья вблизи полузаброшенной железной дороги из Лынтуп в Латвию.<br />Требования к участникам минимальны. Для удобства состав будет разделен на подгруппы. Сливаться из состава после отправки организационной рассылки (за пять дней) нельзя. Могут быть рассмотрены вопросы по организации матрацно-экологического десанта в лагерь 82А. Планируется в ненавязчивом объеме самодеятельность. Практические лекции по велосипедам, даже найден двойник Сережи Ковальчука (гримирование потребуется минимальное).<br />Желающим просьба записываться у Глаза. Кроме 12июля-15августа.<br /><br /><br /><br /><br /><br /><br /><br /><br /><br />\n\n</BODY>\n</HTML>

LOCATION:
END:VEVENT

END:VCALENDAR
