BEGIN:VCALENDAR
VERSION:2.0
PRODID:-//hacksw/handcal//NONSGML v1.0//EN
BEGIN:VEVENT
UID:7b08831e86870c7849464acb8a9ddcc4
DTSTAMP:20260420T154418Z

DTSTART:20191019T220000
DTEND:20191020T220000
SUMMARY:82Б «Назарчук-трейл» Поозерье
DESCRIPTION:Что такое осень – это вело,\nГод из года вело в Магадане.\nСъездить в ПВД на два дня\nПриглашаю с нами.\nОсенью велосипеды – дело…\nСъездить в ПВД на два дня\nПриглашаю с нами.\nОсенью велосипеды – дело…\n\nОсень – самый лучший досуг.\nОсень – будет «Трейл Назарчук».\nДождь, паутина, туман и листва,\nОсень прекрасна всегда…\n\nЧто такое осень – это Гайна,\nБерега с болотною травою.\nВолосач, перенеси-перевези нас\nНа тот берег.\nЯ с Волосачом всегда спокоен…\nВолосач, перенеси-перевези нас\nНа тот берег.\nЯ с Волосачом всегда спокоен…\n\nОсень – это Сергей Волосач.\nОчень спортивный не любит первач.\nПухлому чужда Сереже печаль:\nКрутит он вела педаль…\n\nЧто такое осень – это Паша,\nВ вилках разбирается с цепями.\nПаша, хоть проедем \nНа колесах мы шоссейных?\nПаша, что в лесах, песках случится с нами? \nПаша, хоть проедем \nНа колесах мы шоссейных?\nПаша, что в песках случится с нами? \n\nОсень – это Паша Кирилл.\nОсень, друг ситный, про нас ты забыл.\nС Сусловым Паша внешностью схож\nЛюбим такого и что ж…\nС Сусловым Паша внешностью схож\nЛюбим такого и что ж…\n\nБудет у нас в Поозерье поход.\nЕздим в осенний такой каждый год.\nСкоро настанет октябрь золотой,\nОсень – вечный покой!\n\nВашему вниманию предлагается очередной вело-ПВД 82Б. \nМного лет в апогей золотой левитановской осени практикуются такие мероприятия. Пожалуй, одни из самых душевных и красивых событий местного значения, которые только могут быть раз в году, - единственные и неповторимые. Самое блаженное и степенно-умиротворенное время…\n«Назарчук-трейл» будет проводится по региону Беларускае Паазерье. 82Б назначен на 19-20 октября. Трек 120 км. В зависимости от ветра в это время, маршрут будет организован или с севера на юг, или, наоборот, с юга на север. Лагерь посередине трека. \nЗначительная часть пути вдоль акватории озер. Исключительно живописная дорога оставит даже в душе самых черствых неизгладимые впечатления. \nОрганизационная схема отработана. Коллектив для удобства движения  будет разделен на несколько подгрупп со своими звеньевыми. Заброска на автотранспорте. Участие согласовывать с Глазом. Критерии отбора – исправный велосипед с багажником и способность за выходные дни преодолеть 120 км по проселочным дорогам. При отсутствии оригинального Назарчука проводится работа по гримированию дублера. Возможности участия матрацно-экологического десанта рассматриваются. Организационная рассылка 15 октября. После получения письма-рассылки покидать состав участников ПВД «82Б» нельзя. \n    \n

X-ALT-DESC;FMTTYPE=text/html:<!DOCTYPE HTML PUBLIC "-//W3C//DTD HTML 3.2//EN">\n<HTML>\n<HEAD>\n<META NAME="Generator" CONTENT="MS Exchange Server version 08.00.0681.000">\n<TITLE></TITLE>\n</HEAD>\n<BODY>\n<!-- Converted from text/rtf format -->\n\nЧто такое осень – это вело,<br />Год из года вело в Магадане.<br />Съездить в ПВД на два дня<br />Приглашаю с нами.<br />Осенью велосипеды – дело…<br />Съездить в ПВД на два дня<br />Приглашаю с нами.<br />Осенью велосипеды – дело…<br /><br />Осень – самый лучший досуг.<br />Осень – будет «Трейл Назарчук».<br />Дождь, паутина, туман и листва,<br />Осень прекрасна всегда…<br /><br />Что такое осень – это Гайна,<br />Берега с болотною травою.<br />Волосач, перенеси-перевези нас<br />На тот берег.<br />Я с Волосачом всегда спокоен…<br />Волосач, перенеси-перевези нас<br />На тот берег.<br />Я с Волосачом всегда спокоен…<br /><br />Осень – это Сергей Волосач.<br />Очень спортивный не любит первач.<br />Пухлому чужда Сереже печаль:<br />Крутит он вела педаль…<br /><br />Что такое осень – это Паша,<br />В вилках разбирается с цепями.<br />Паша, хоть проедем <br />На колесах мы шоссейных?<br />Паша, что в лесах, песках случится с нами? <br />Паша, хоть проедем <br />На колесах мы шоссейных?<br />Паша, что в песках случится с нами? <br /><br />Осень – это Паша Кирилл.<br />Осень, друг ситный, про нас ты забыл.<br />С Сусловым Паша внешностью схож<br />Любим такого и что ж…<br />С Сусловым Паша внешностью схож<br />Любим такого и что ж…<br /><br />Будет у нас в Поозерье поход.<br />Ездим в осенний такой каждый год.<br />Скоро настанет октябрь золотой,<br />Осень – вечный покой!<br /><br />Вашему вниманию предлагается очередной вело-ПВД 82Б. <br />Много лет в апогей золотой левитановской осени практикуются такие мероприятия. Пожалуй, одни из самых душевных и красивых событий местного значения, которые только могут быть раз в году, - единственные и неповторимые. Самое блаженное и степенно-умиротворенное время…<br />«Назарчук-трейл» будет проводится по региону Беларускае Паазерье. 82Б назначен на 19-20 октября. Трек 120 км. В зависимости от ветра в это время, маршрут будет организован или с севера на юг, или, наоборот, с юга на север. Лагерь посередине трека. <br />Значительная часть пути вдоль акватории озер. Исключительно живописная дорога оставит даже в душе самых черствых неизгладимые впечатления. <br />Организационная схема отработана. Коллектив для удобства движения  будет разделен на несколько подгрупп со своими звеньевыми. Заброска на автотранспорте. Участие согласовывать с Глазом. Критерии отбора – исправный велосипед с багажником и способность за выходные дни преодолеть 120 км по проселочным дорогам. При отсутствии оригинального Назарчука проводится работа по гримированию дублера. Возможности участия матрацно-экологического десанта рассматриваются. Организационная рассылка 15 октября. После получения письма-рассылки покидать состав участников ПВД «82Б» нельзя. <br />    <br />\n\n</BODY>\n</HTML>

LOCATION:
END:VEVENT

END:VCALENDAR
