BEGIN:VCALENDAR
VERSION:2.0
PRODID:-//hacksw/handcal//NONSGML v1.0//EN
BEGIN:VEVENT
UID:4e5071eadbfdde9944f7a8cb9d11cdaa
DTSTAMP:20260420T142238Z

DTSTART:20190810T210000
DTEND:20190811T210000
SUMMARY:83А «Вихра-Сож» Байдарочный сплав
DESCRIPTION:Уж полгода пролетело, -\nВыпито до дна.\nУж полгода пролетело, -\nНа кону Вихра.\nВ свете лета чище краски,\nС виду хоть просты.\nНежней стали и прекрасней \nБерегов цветы.\n\nМстИславль древний полон тайны\nТам река Вихра.\nБеларуси угол дальний \nНам туда, ура!\nСплавы с Пузом в конце лета,\nДоля нам одна…\nТакой будет в году этом \nПо реке Вихра.\n\nВихра-вихра! Цветы-цветы!\nНам часто в жизни не хватает\nДрузей и простоты… \nВихра-вихра! Цветы-цветы!\nОт сплавов много ожидаем\nНадежды и мечты…\n\nЖизнь чудесна, если миром\nПравит любовь.\nС Пузочесом-бригадиром\nВ сплав пойдем мы вновь.\nЖизнь прекрасна, \nЕсли где-то песенка слышна,\nНовое для Секты место, - \nРека Вихра!\n\nИгорь-Пузо с Озеринским\nСлавный наш тандем!\nИ от этого союза\nВыгоднее всем!\nОбладают интеллектом\n(Видел это сам)\nПомогают членам Секты\nВерить в чудеса!\n\nВихра-вихра! Цветы-цветы!\nНам часто в жизни не хватает\nДрузей и простоты… \nВихра-вихра! Цветы-цветы!\nОт сплавов много ожидаем\nНадежды и мечты…\n\nСтатус «Памятник Природы»\nПридадут Вихре.\nНе сплавляется народ там,\nТак известно мне.\nВ интернете не раздута,\nВИхра, - и хуй с ним!\nЯ слыхал, в сети как будто,\nЕсть один лишь фильм!\n\nВихра-вихра! Цветы-цветы!\nНам часто в жизни не хватает\nДрузей и простоты… \nВихра-вихра! Цветы-цветы!\nОт сплавов много ожидаем\nНадежды и мечты…\n\n10-11 августа будет проводиться байдарочный сплав по уникальному и совершенно не популярному среди байдарочных туристов маршруту Вихра-Сож.\nНа этот раз регион выбора сухоземельная Могилевщина. Вихра, соответствуя своему названию, вьется в сухих песчаных берегах. Они высокие, долина реки глубокая. Особенно сильно врезано русло ближе к устью. Ландшафты столь живописны, что для окрестностей райцентра Мстиславль с рекой Вихрой, местные власти добиваются, чтобы стали наделены статусом памятника природы. \nФорумы я изучал бегло. Среди дайверов вода реки считается одной из самых прозрачных среди идентичных рек Беларуси. Течение Вихры сравнительно бодрое. Удивительным образом туристы-водники  реку эту не практикуют. Описания маршрута в свободном доступе тоже отсутствуют. \nСовсем недавно, 15-17 июня от Секты Глазом организовывался проект тоже по фешенебельной и труднодоступной реке Словечне. Она оказалась очень харизматичной и многоликой. Такая же отдаленная и непосещаемая следующая этим летом - Вихра. Она ничуть не похожа на радиоактивную Словечну (только среднегодовая водоносность в устье совпадают 14,5 кубометров в секунду), но интрига её прохождения также очень соблазнительна. Поэтому тем более интересно ее пройти и описать, собрать фотоматериал. К тому же сезон середины августа к этому располагает. \nЗначительная и наиболее активно действующая часть кадрового состава Секты в это время будет отвлечена в походах по дальним азиатским регионам, как то горы Киргизии и Таджикистана. Но это не означает, что не будет проводится мероприятий местного значения.\nТри эпицентра стабильной инициативы окажутся  отвлечены. Четвертый, Костя Минкевич перешел на консультативную работу, поэтому этот ПВД для оставшихся в отпуске и вне отпуска особенно ценен!\nСроки проведения  ПВД 83А 10-11 августа. Заброска на автотранспорте. Выезд поздно вечером 9 августа. Стапель в деревне Полом (Российская Федерация), антистапель на реке Сож подле деревни Парадино. Быстрее всего река удобная и не подразумевает глазовского мясничества, режима цейтнот и хардкор. Протяженность маршрута  комфортная для ПВД летом - 68 километров. Руководитель мероприятия сплав 83А Пузо Игорь.+375447911528. Снабженец и заместитель Александр Озеринский +375296727775. Желающим просьба записываться. Особенно приветствуются фотографы и корреспонденты. Отчет, фотокорреспонденция и анализ обязательны.\n\n\n\n

X-ALT-DESC;FMTTYPE=text/html:<!DOCTYPE HTML PUBLIC "-//W3C//DTD HTML 3.2//EN">\n<HTML>\n<HEAD>\n<META NAME="Generator" CONTENT="MS Exchange Server version 08.00.0681.000">\n<TITLE></TITLE>\n</HEAD>\n<BODY>\n<!-- Converted from text/rtf format -->\n\nУж полгода пролетело, -<br />Выпито до дна.<br />Уж полгода пролетело, -<br />На кону Вихра.<br />В свете лета чище краски,<br />С виду хоть просты.<br />Нежней стали и прекрасней <br />Берегов цветы.<br /><br />МстИславль древний полон тайны<br />Там река Вихра.<br />Беларуси угол дальний <br />Нам туда, ура!<br />Сплавы с Пузом в конце лета,<br />Доля нам одна…<br />Такой будет в году этом <br />По реке Вихра.<br /><br />Вихра-вихра! Цветы-цветы!<br />Нам часто в жизни не хватает<br />Друзей и простоты… <br />Вихра-вихра! Цветы-цветы!<br />От сплавов много ожидаем<br />Надежды и мечты…<br /><br />Жизнь чудесна, если миром<br />Правит любовь.<br />С Пузочесом-бригадиром<br />В сплав пойдем мы вновь.<br />Жизнь прекрасна, <br />Если где-то песенка слышна,<br />Новое для Секты место, - <br />Река Вихра!<br /><br />Игорь-Пузо с Озеринским<br />Славный наш тандем!<br />И от этого союза<br />Выгоднее всем!<br />Обладают интеллектом<br />(Видел это сам)<br />Помогают членам Секты<br />Верить в чудеса!<br /><br />Вихра-вихра! Цветы-цветы!<br />Нам часто в жизни не хватает<br />Друзей и простоты… <br />Вихра-вихра! Цветы-цветы!<br />От сплавов много ожидаем<br />Надежды и мечты…<br /><br />Статус «Памятник Природы»<br />Придадут Вихре.<br />Не сплавляется народ там,<br />Так известно мне.<br />В интернете не раздута,<br />ВИхра, - и хуй с ним!<br />Я слыхал, в сети как будто,<br />Есть один лишь фильм!<br /><br />Вихра-вихра! Цветы-цветы!<br />Нам часто в жизни не хватает<br />Друзей и простоты… <br />Вихра-вихра! Цветы-цветы!<br />От сплавов много ожидаем<br />Надежды и мечты…<br /><br />10-11 августа будет проводиться байдарочный сплав по уникальному и совершенно не популярному среди байдарочных туристов маршруту Вихра-Сож.<br />На этот раз регион выбора сухоземельная Могилевщина. Вихра, соответствуя своему названию, вьется в сухих песчаных берегах. Они высокие, долина реки глубокая. Особенно сильно врезано русло ближе к устью. Ландшафты столь живописны, что для окрестностей райцентра Мстиславль с рекой Вихрой, местные власти добиваются, чтобы стали наделены статусом памятника природы. <br />Форумы я изучал бегло. Среди дайверов вода реки считается одной из самых прозрачных среди идентичных рек Беларуси. Течение Вихры сравнительно бодрое. Удивительным образом туристы-водники  реку эту не практикуют. Описания маршрута в свободном доступе тоже отсутствуют. <br />Совсем недавно, 15-17 июня от Секты Глазом организовывался проект тоже по фешенебельной и труднодоступной реке Словечне. Она оказалась очень харизматичной и многоликой. Такая же отдаленная и непосещаемая следующая этим летом - Вихра. Она ничуть не похожа на радиоактивную Словечну (только среднегодовая водоносность в устье совпадают 14,5 кубометров в секунду), но интрига её прохождения также очень соблазнительна. Поэтому тем более интересно ее пройти и описать, собрать фотоматериал. К тому же сезон середины августа к этому располагает. <br />Значительная и наиболее активно действующая часть кадрового состава Секты в это время будет отвлечена в походах по дальним азиатским регионам, как то горы Киргизии и Таджикистана. Но это не означает, что не будет проводится мероприятий местного значения.<br />Три эпицентра стабильной инициативы окажутся  отвлечены. Четвертый, Костя Минкевич перешел на консультативную работу, поэтому этот ПВД для оставшихся в отпуске и вне отпуска особенно ценен!<br />Сроки проведения  ПВД 83А 10-11 августа. Заброска на автотранспорте. Выезд поздно вечером 9 августа. Стапель в деревне Полом (Российская Федерация), антистапель на реке Сож подле деревни Парадино. Быстрее всего река удобная и не подразумевает глазовского мясничества, режима цейтнот и хардкор. Протяженность маршрута  комфортная для ПВД летом - 68 километров. Руководитель мероприятия сплав 83А Пузо Игорь.+375447911528. Снабженец и заместитель Александр Озеринский +375296727775. Желающим просьба записываться. Особенно приветствуются фотографы и корреспонденты. Отчет, фотокорреспонденция и анализ обязательны.<br /><br /><br /><br />\n\n</BODY>\n</HTML>

LOCATION:
END:VEVENT

END:VCALENDAR
