BEGIN:VCALENDAR
VERSION:2.0
PRODID:-//hacksw/handcal//NONSGML v1.0//EN
BEGIN:VEVENT
UID:218b6aae71498eedde8ba5535a63c728
DTSTAMP:20260421T145309Z

DTSTART:20190726T100000
DTEND:20190728T111500
SUMMARY:Пеший ПВД на Кромань
DESCRIPTION:Всем привет. \n26-28 июля 2019 планируется пеший ПВД. Приглашаются все желающие.\nПлан таков: 26 июля (пятница) отправление из Минска в 18.00. Едем до Ивенца. Проходим пару км и становимся на ночевку.\nНа следующий день идем до озера Кромань, где и заночуем. Если придем не очень поздно, то есть шанс попасть в баню.\nВ воскресенье едем домой. Точная логистика и прочие детали в разработке.\nКилометраж примерный - 37 км.\nЗвоним и записываемся:\nтел. + 375 44 760 87 51 Рустам

X-ALT-DESC;FMTTYPE=text/html:<!DOCTYPE HTML PUBLIC "-//W3C//DTD HTML 3.2//EN">\n<HTML>\n<HEAD>\n<META NAME="Generator" CONTENT="MS Exchange Server version 08.00.0681.000">\n<TITLE></TITLE>\n</HEAD>\n<BODY>\n<!-- Converted from text/rtf format -->\n\nВсем привет. <br />26-28 июля 2019 планируется пеший ПВД. Приглашаются все желающие.<br />План таков: 26 июля (пятница) отправление из Минска в 18.00. Едем до Ивенца. Проходим пару км и становимся на ночевку.<br />На следующий день идем до озера Кромань, где и заночуем. Если придем не очень поздно, то есть шанс попасть в баню.<br />В воскресенье едем домой. Точная логистика и прочие детали в разработке.<br />Километраж примерный - 37 км.<br />Звоним и записываемся:<br />тел. + 375 44 760 87 51 Рустам\n\n</BODY>\n</HTML>

LOCATION:
END:VEVENT

END:VCALENDAR
