BEGIN:VCALENDAR
VERSION:2.0
PRODID:-//hacksw/handcal//NONSGML v1.0//EN
BEGIN:VEVENT
UID:895ca0c666fc137914dc478218336be5
DTSTAMP:20260420T142347Z

DTSTART:20191109T210000
DTEND:20191110T210000
SUMMARY:83А: Slovechna 2 
DESCRIPTION:Ноябрь, конец года…\nИ время не ждет.\nРека под названием\nСловечна течет.\n\nБыл жаркий июнь\nКругом зарослей тьма:\nКуда нос ни сунь, -\nНет прохода, хана!\n\nНо мы проскочили\nСреди тростников,\nКрепились, не ныли\n(Был главный Глазков).\n\nСобрались протоки \nЕдиной рекой.\nОстались болота \nУ нас за спиной.\n\nРубеж с Украиной\nНам стал на пути.\nРеки половину,\nСмогли лишь пройти.\n\nКордон на границе \nИдти не дает.\nНикак не пробиться\nНам дальше вперед.\n\nНо благо объехать\nПоможет канал.\nВ начале помеха, - \nУж больно он мал.\n\nА ниже как будто\nДругая река.\nИ выглядят круче\nЕё берега.\n\nТечение быстрее,\nПески, сухой лес,\nИдти веселее, - \nБыстрее процесс.\n\nМеста те не ждут нас,\nИ местность фонит.\n«Не едь туда, Глаз!» -\nОльга Конь говорит.\n\nГде цезий и стронций\nНе видимы нам.\nОбычное солнце\nИ всё с виду там.\n\nМаршрут упирается \nВ ПГРЭЗ,\nВедь приближается \nЗона ЧАЭС.\n\nЧто тут поделаешь,\nЖалко, друзья:\nПо реке ниже\nЕхать нельзя.\n\nТуда не пускает \nОхранник и мент.\n(Так запрещает\nНаш Президент).\n\nДа хуй с ним!\nДля ПВД хватит реки.\nВедь светлые сутки\nНе велики.\n\nЗакончить Словечну \nВ этом году\nС сердечным приветом\nУчастников жду!\n\nПВД 83А на байдарках состоится 9-10 ноября. Выезд намечен в ночь с 8 на 9 ноября. \nМаршрут не популярный. Будет продолжение полесской реки Словечна. Первая часть была пройдена в июне этого года. Начало с мелиоративного канала в деревне Гажин. Через 48 километров маршрут упирается в зону Природного Государственного Радиационно-Экологического Заповедника. Оттуда выброска (трасса Наровля-Александровка). Трансферные расходы составят порядка 50 рублей. \nНачинали реку эту мы с болотных лабиринтов. Завершить предстоит ее довольно проворную часть среди леса по обоим берегам, песчаных обрывчиков, пляжей и дюн с ощутимым течением. Ожидается что-то наподобие Ствиги. Учитывая небольшой километраж, этот ПВД не оценивается предварительно, как спортивный. Но возможная холодная погода и короткий световой день наверняка привнесут свои сложности. \nПоход для любителей новых не избитых маршрутов. Для экологически настороженных лиц иметь в виду - берега радиоактивные. В прошлый поход брали дозиметр. Фон мало отличался от станции метро Октябрьская, но – ниже он больше.\nЖелающим присоединиться, обращаться к Глазу. Спрыгивать с 4 ноября уже нельзя.    \n

X-ALT-DESC;FMTTYPE=text/html:<!DOCTYPE HTML PUBLIC "-//W3C//DTD HTML 3.2//EN">\n<HTML>\n<HEAD>\n<META NAME="Generator" CONTENT="MS Exchange Server version 08.00.0681.000">\n<TITLE></TITLE>\n</HEAD>\n<BODY>\n<!-- Converted from text/rtf format -->\n\nНоябрь, конец года…<br />И время не ждет.<br />Река под названием<br />Словечна течет.<br /><br />Был жаркий июнь<br />Кругом зарослей тьма:<br />Куда нос ни сунь, -<br />Нет прохода, хана!<br /><br />Но мы проскочили<br />Среди тростников,<br />Крепились, не ныли<br />(Был главный Глазков).<br /><br />Собрались протоки <br />Единой рекой.<br />Остались болота <br />У нас за спиной.<br /><br />Рубеж с Украиной<br />Нам стал на пути.<br />Реки половину,<br />Смогли лишь пройти.<br /><br />Кордон на границе <br />Идти не дает.<br />Никак не пробиться<br />Нам дальше вперед.<br /><br />Но благо объехать<br />Поможет канал.<br />В начале помеха, - <br />Уж больно он мал.<br /><br />А ниже как будто<br />Другая река.<br />И выглядят круче<br />Её берега.<br /><br />Течение быстрее,<br />Пески, сухой лес,<br />Идти веселее, - <br />Быстрее процесс.<br /><br />Места те не ждут нас,<br />И местность фонит.<br />«Не едь туда, Глаз!» -<br />Ольга Конь говорит.<br /><br />Где цезий и стронций<br />Не видимы нам.<br />Обычное солнце<br />И всё с виду там.<br /><br />Маршрут упирается <br />В ПГРЭЗ,<br />Ведь приближается <br />Зона ЧАЭС.<br /><br />Что тут поделаешь,<br />Жалко, друзья:<br />По реке ниже<br />Ехать нельзя.<br /><br />Туда не пускает <br />Охранник и мент.<br />(Так запрещает<br />Наш Президент).<br /><br />Да хуй с ним!<br />Для ПВД хватит реки.<br />Ведь светлые сутки<br />Не велики.<br /><br />Закончить Словечну <br />В этом году<br />С сердечным приветом<br />Участников жду!<br /><br />ПВД 83А на байдарках состоится 9-10 ноября. Выезд намечен в ночь с 8 на 9 ноября. <br />Маршрут не популярный. Будет продолжение полесской реки Словечна. Первая часть была пройдена в июне этого года. Начало с мелиоративного канала в деревне Гажин. Через 48 километров маршрут упирается в зону Природного Государственного Радиационно-Экологического Заповедника. Оттуда выброска (трасса Наровля-Александровка). Трансферные расходы составят порядка 50 рублей. <br />Начинали реку эту мы с болотных лабиринтов. Завершить предстоит ее довольно проворную часть среди леса по обоим берегам, песчаных обрывчиков, пляжей и дюн с ощутимым течением. Ожидается что-то наподобие Ствиги. Учитывая небольшой километраж, этот ПВД не оценивается предварительно, как спортивный. Но возможная холодная погода и короткий световой день наверняка привнесут свои сложности. <br />Поход для любителей новых не избитых маршрутов. Для экологически настороженных лиц иметь в виду - берега радиоактивные. В прошлый поход брали дозиметр. Фон мало отличался от станции метро Октябрьская, но – ниже он больше.<br />Желающим присоединиться, обращаться к Глазу. Спрыгивать с 4 ноября уже нельзя.    <br />\n\n</BODY>\n</HTML>

LOCATION:
END:VEVENT

END:VCALENDAR
