BEGIN:VCALENDAR
VERSION:2.0
PRODID:-//hacksw/handcal//NONSGML v1.0//EN
BEGIN:VEVENT
UID:3bcc786088f86486c7e2229116ba2fae
DTSTAMP:20260421T002630Z

DTSTART:20190925T093000
DTEND:20190930T063000
SUMMARY:Ельня-2019
DESCRIPTION:Пеший ПВД на болото Ельня выезд 27.09 в 21.31 на 625Б поезде обратно 29.09 если без ночёвки или 30.09(пн) если с ночёвкой 618Б с прибытием 6.31 в Минск. Питание индивидуально или по договоренности. Трек прилагаю пройденный Юрой на этих выходных.\nhttps://strava.app.link/fvnS0KSdd0\nhttps://strava.app.link/5O77IWUdd0\nкак там хорошо можно посмотреть на фотографиях с прошедших выходных фото: Serge Ro (Сергей Романовский)\nhttps://drive.google.com/drive/folders/1NWnQJqEWFxyQkMF57jx8p953R-fXM1mn,\nгруппа с подробностями и записью желающих https://vk.com/event186870106

X-ALT-DESC;FMTTYPE=text/html:<!DOCTYPE HTML PUBLIC "-//W3C//DTD HTML 3.2//EN">\n<HTML>\n<HEAD>\n<META NAME="Generator" CONTENT="MS Exchange Server version 08.00.0681.000">\n<TITLE></TITLE>\n</HEAD>\n<BODY>\n<!-- Converted from text/rtf format -->\n\nПеший ПВД на болото Ельня выезд 27.09 в 21.31 на 625Б поезде обратно 29.09 если без ночёвки или 30.09(пн) если с ночёвкой 618Б с прибытием 6.31 в Минск. Питание индивидуально или по договоренности. Трек прилагаю пройденный Юрой на этих выходных.<br />https://strava.app.link/fvnS0KSdd0<br />https://strava.app.link/5O77IWUdd0<br />как там хорошо можно посмотреть на фотографиях с прошедших выходных фото: Serge Ro (Сергей Романовский)<br />https://drive.google.com/drive/folders/1NWnQJqEWFxyQkMF57jx8p953R-fXM1mn,<br />группа с подробностями и записью желающих https://vk.com/event186870106\n\n</BODY>\n</HTML>

LOCATION:Суховержье, Беларусь
END:VEVENT

END:VCALENDAR
