BEGIN:VCALENDAR
VERSION:2.0
PRODID:-//hacksw/handcal//NONSGML v1.0//EN
BEGIN:VEVENT
UID:49ebe16447db82926b1096a91e68a84a
DTSTAMP:20260421T041000Z

DTSTART:20191011T200000
DTEND:20191013T220000
SUMMARY:Котра-ностра-2019
DESCRIPTION:Приглашаем вас принять участие в сплаве по одной из красивейших рек Беларуси — реке Котра, которая течет среди живописных лесных пейзажей, что позволит наслаждаться разнообразием природных ландшафтов и пением птиц. Живописная долина, чистейшая вода делают плавание здесь очень приятным. Трудности, которые встретятся на маршруте, окупятся окружающим очарованием естественной, нетронутой человеком природы.\nМаршрут по реке Котра от д.Бершты до д.Головачи составит 63 км.\nМаршрут рассчитан на людей без специальной подготовки, главное наличие физических возможностей преодолеть за два дня 63км !\nПитание на маршруте трёхразовое, разнообразное. Готовим на костре.\nТранспортировка участников к месту старта наемным транспортом.\nЗапись участников в группе мероприятия:\nhttps://vk.com/event187107651

X-ALT-DESC;FMTTYPE=text/html:<!DOCTYPE HTML PUBLIC "-//W3C//DTD HTML 3.2//EN">\n<HTML>\n<HEAD>\n<META NAME="Generator" CONTENT="MS Exchange Server version 08.00.0681.000">\n<TITLE></TITLE>\n</HEAD>\n<BODY>\n<!-- Converted from text/rtf format -->\n\nПриглашаем вас принять участие в сплаве по одной из красивейших рек Беларуси — реке Котра, которая течет среди живописных лесных пейзажей, что позволит наслаждаться разнообразием природных ландшафтов и пением птиц. Живописная долина, чистейшая вода делают плавание здесь очень приятным. Трудности, которые встретятся на маршруте, окупятся окружающим очарованием естественной, нетронутой человеком природы.<br />Маршрут по реке Котра от д.Бершты до д.Головачи составит 63 км.<br />Маршрут рассчитан на людей без специальной подготовки, главное наличие физических возможностей преодолеть за два дня 63км !<br />Питание на маршруте трёхразовое, разнообразное. Готовим на костре.<br />Транспортировка участников к месту старта наемным транспортом.<br />Запись участников в группе мероприятия:<br />https://vk.com/event187107651\n\n</BODY>\n</HTML>

LOCATION:
END:VEVENT

END:VCALENDAR
