BEGIN:VCALENDAR
VERSION:2.0
PRODID:-//hacksw/handcal//NONSGML v1.0//EN
BEGIN:VEVENT
UID:a14a0b67b8fb8a99eed1ddc4749b68d8
DTSTAMP:20260420T211651Z

DTSTART:20191106T200000
DTEND:20191110T200000
SUMMARY:Традиционный выезд на скалы 
DESCRIPTION:С 6-го по 10 ноября мы планируем традиционный выезд на скалы.\nКакие именно это будут скалы - Дениши или Южноукраинск - мы решим позже исходя из прогноза погоды (в этом году она совсем непредсказуема).\nЯ бы хотел поехать в Южноукраинск, потому что мы там уже давно не были. \nДля трансфера планируем взять в аренду микроавтубус или несколько микроавтобусов. \nПо деньгам это выходит около 50$ + питание. \nКому интересно - пишите в личку, будем собирать группу.

X-ALT-DESC;FMTTYPE=text/html:<!DOCTYPE HTML PUBLIC "-//W3C//DTD HTML 3.2//EN">\n<HTML>\n<HEAD>\n<META NAME="Generator" CONTENT="MS Exchange Server version 08.00.0681.000">\n<TITLE></TITLE>\n</HEAD>\n<BODY>\n<!-- Converted from text/rtf format -->\n\nС 6-го по 10 ноября мы планируем традиционный выезд на скалы.<br />Какие именно это будут скалы - Дениши или Южноукраинск - мы решим позже исходя из прогноза погоды (в этом году она совсем непредсказуема).<br />Я бы хотел поехать в Южноукраинск, потому что мы там уже давно не были. <br />Для трансфера планируем взять в аренду микроавтубус или несколько микроавтобусов. <br />По деньгам это выходит около 50$ + питание. <br />Кому интересно - пишите в личку, будем собирать группу.\n\n</BODY>\n</HTML>

LOCATION:
END:VEVENT

END:VCALENDAR
