BEGIN:VCALENDAR
VERSION:2.0
PRODID:-//hacksw/handcal//NONSGML v1.0//EN
BEGIN:VEVENT
UID:983cc456c296ba8090d8cbbeb4b17880
DTSTAMP:20260420T142226Z

DTSTART:20191207T200000
DTEND:20191208T200000
SUMMARY:83Б: Айзертаг-аквакантри 06-07 декабря 2019
DESCRIPTION:\nВ декабря декаде первой \nПроведет Глаз сплав. \nДесять человек примерно\nСоберет состав.\n\nА декабрь время года -\nЭто не зима.\nИзвращенная погода \nВ эти времена.\n\nСнега и мороза нету,\nПоди, разберись.\nПровести как время это\nЧтобы заебись.\n\nА идти пешком, ребята,\nНужен ледостав.\nБудет более оправдан\nНа байдарках сплав.\n\nИслочь небольшая речка\nВозле Минска есть.\nБыть не может даже речи\nЕю пренебречь!\n\nДля туристов минских мекка\nМаршрут водный сей.\nМало кто из нашей Секты \nСплавился по ней.\n\nОчень любит Озеринский \nКоммерсов водить.\nПикники псевдотуристы\nНа ней проводить.\n\nМилый, Озеринский Саша!\nЛюдям помоги.\nИ маршрут для Секты нашей.\nТы прибереги.\n\nДушу радует звучанием,\nГлаз придумал так,\nПоход будет под названием \n«Кантри-Айзертаг».\n\nГлаз, хоть и руководитель,\nСто лет не был там.\nАйзер же путеводитель \nТакже будет нам.\n\nИслочь с самого начала\nСразу красота!\nИ напомню не случайно,\nМощного места.\n\nПойма, лес и луговины,\nРечка для души.\nБлизко к Минску краявiды \nОчень хороши!\n\nЛагерь в середине трека.\nСтанем, ждем гостей.\nНебольшая дискотека,\nБудет для друзей.\n\nЗимой актуальна баня.\nВремя мчит вперед.\nТакже в Ислочи купанье \n Экстремалов ждет.\n\nНиже будет приложение\nВсе это не вздор\nВсе скажу для завершения \nПрозою набор.\n\nНабор анонса в прозе\nДекабрь  не очень популярный месяц для мероприятий нашей Секты. Короткий световой день и особенно не предсказуемая погода делают его наименее привлекательным и из года в год вялым месяцем.\nПешком в декабре ходить скучно. Вряд ли происходит ледостав на водоемах. Тогда рациональнее планировать поход выходного дня водный. До сих пор такой в декабре у нас такой был один. В маловодном 2015-ом году в декабре мы провели 80 (!) километровый сплав по Гайне. \n07-08 декабря планируется ПВД на байдарках по замечательной реке Ислочь. Маршрут составит 77 километров и начинается он  в деревне Падневичи. Идти до устья. Питание Ислочи в основном родниковое. Она в меньшей степени зависит от количества осадков. Уклон 1,3 промилле. Для беларуской реки это очень значительно. Подобный уклон подразумевает существенное течение. Километраж Глаз для декабря запланировал, сразу говорю, драконовский, подразумевающий несколько часов хода в темноте с фонарями на лбу. Такое не впервые и многократно практиковалось.\nМаршрут  по Ислочи - мекка минских байдарочников. Река в сезон ими и отдыхающими запрессингована. Но другое дело декабрь…\nОчень мероприятие заманчиво для матрасов. Близость от гродненской трассы делает визит на точку ночевки весьма доступной. Матрацная группа поддержки выгодна и для активных сплавщиков. Последние могут приехать изрядно замерзшими и изношенными, что возникнет необходимость готового развернутого лагеря, и лучше бани.\nИслочь сочетает в себе участок русла в сухих лесных берегах Налибокской Пущи, луговую часть. Луговины переходят в любимое Глазом болото.  На 60-ом километре трека русло рассыпается на протоки и лабиринты. Не сродни, конечно, сезонной Льве и верховий Словечны, но всё же.  \nЕсли летом Ислочь (в сезон берега очень устают от туристов и отдыхающих) – не самый лучший выбор, то для декабря сей удобный логистический проект и мекка сплавщиков подойдет как нельзя лучше! Позопрошлая и прошлогодняя Нарочанка тому подтверждение. Людей по берегам мы не видели.\nЖелающим принять участие просьба записываться! Запись проводит Глаз.\n  \n\n

X-ALT-DESC;FMTTYPE=text/html:<!DOCTYPE HTML PUBLIC "-//W3C//DTD HTML 3.2//EN">\n<HTML>\n<HEAD>\n<META NAME="Generator" CONTENT="MS Exchange Server version 08.00.0681.000">\n<TITLE></TITLE>\n</HEAD>\n<BODY>\n<!-- Converted from text/rtf format -->\n\n<br />В декабря декаде первой <br />Проведет Глаз сплав. <br />Десять человек примерно<br />Соберет состав.<br /><br />А декабрь время года -<br />Это не зима.<br />Извращенная погода <br />В эти времена.<br /><br />Снега и мороза нету,<br />Поди, разберись.<br />Провести как время это<br />Чтобы заебись.<br /><br />А идти пешком, ребята,<br />Нужен ледостав.<br />Будет более оправдан<br />На байдарках сплав.<br /><br />Ислочь небольшая речка<br />Возле Минска есть.<br />Быть не может даже речи<br />Ею пренебречь!<br /><br />Для туристов минских мекка<br />Маршрут водный сей.<br />Мало кто из нашей Секты <br />Сплавился по ней.<br /><br />Очень любит Озеринский <br />Коммерсов водить.<br />Пикники псевдотуристы<br />На ней проводить.<br /><br />Милый, Озеринский Саша!<br />Людям помоги.<br />И маршрут для Секты нашей.<br />Ты прибереги.<br /><br />Душу радует звучанием,<br />Глаз придумал так,<br />Поход будет под названием <br />«Кантри-Айзертаг».<br /><br />Глаз, хоть и руководитель,<br />Сто лет не был там.<br />Айзер же путеводитель <br />Также будет нам.<br /><br />Ислочь с самого начала<br />Сразу красота!<br />И напомню не случайно,<br />Мощного места.<br /><br />Пойма, лес и луговины,<br />Речка для души.<br />Близко к Минску краявiды <br />Очень хороши!<br /><br />Лагерь в середине трека.<br />Станем, ждем гостей.<br />Небольшая дискотека,<br />Будет для друзей.<br /><br />Зимой актуальна баня.<br />Время мчит вперед.<br />Также в Ислочи купанье <br /> Экстремалов ждет.<br /><br />Ниже будет приложение<br />Все это не вздор<br />Все скажу для завершения <br />Прозою набор.<br /><br />Набор анонса в прозе<br />Декабрь  не очень популярный месяц для мероприятий нашей Секты. Короткий световой день и особенно не предсказуемая погода делают его наименее привлекательным и из года в год вялым месяцем.<br />Пешком в декабре ходить скучно. Вряд ли происходит ледостав на водоемах. Тогда рациональнее планировать поход выходного дня водный. До сих пор такой в декабре у нас такой был один. В маловодном 2015-ом году в декабре мы провели 80 (!) километровый сплав по Гайне. <br />07-08 декабря планируется ПВД на байдарках по замечательной реке Ислочь. Маршрут составит 77 километров и начинается он  в деревне Падневичи. Идти до устья. Питание Ислочи в основном родниковое. Она в меньшей степени зависит от количества осадков. Уклон 1,3 промилле. Для беларуской реки это очень значительно. Подобный уклон подразумевает существенное течение. Километраж Глаз для декабря запланировал, сразу говорю, драконовский, подразумевающий несколько часов хода в темноте с фонарями на лбу. Такое не впервые и многократно практиковалось.<br />Маршрут  по Ислочи - мекка минских байдарочников. Река в сезон ими и отдыхающими запрессингована. Но другое дело декабрь…<br />Очень мероприятие заманчиво для матрасов. Близость от гродненской трассы делает визит на точку ночевки весьма доступной. Матрацная группа поддержки выгодна и для активных сплавщиков. Последние могут приехать изрядно замерзшими и изношенными, что возникнет необходимость готового развернутого лагеря, и лучше бани.<br />Ислочь сочетает в себе участок русла в сухих лесных берегах Налибокской Пущи, луговую часть. Луговины переходят в любимое Глазом болото.  На 60-ом километре трека русло рассыпается на протоки и лабиринты. Не сродни, конечно, сезонной Льве и верховий Словечны, но всё же.  <br />Если летом Ислочь (в сезон берега очень устают от туристов и отдыхающих) – не самый лучший выбор, то для декабря сей удобный логистический проект и мекка сплавщиков подойдет как нельзя лучше! Позопрошлая и прошлогодняя Нарочанка тому подтверждение. Людей по берегам мы не видели.<br />Желающим принять участие просьба записываться! Запись проводит Глаз.<br />  <br /><br />\n\n</BODY>\n</HTML>

LOCATION:
END:VEVENT

END:VCALENDAR
