BEGIN:VCALENDAR
VERSION:2.0
PRODID:-//hacksw/handcal//NONSGML v1.0//EN
BEGIN:VEVENT
UID:d6a9d332ff17f4f468264a19a6cd230d
DTSTAMP:20260420T173932Z

DTSTART:20200118T230000
DTEND:20200119T230000
SUMMARY:84А: Прорыв Червоный
DESCRIPTION:Сыплецца мяккi, пушысты сняжок.\nБелаю коудрай пакрыуся лужок.\nЛес нерухома стаiць за сялом.\nВозера сцiхла пад тоустым iльдлом.\n\nВандроукi у студзенi хоць i цяжэй,\nЗ намi хадзем у Прэдпалессе хутчэй!\nУдзельникi з Глазам звычайна хоць пьюць,\nПесню удзячную нам прапяюць!\n\nСам я там нават нi разу не быу.\nПаход назавецца «Чырвоны Прарыу».\nКнязь-Возера трэцье у Краiне усеж.\nПехам прайсцi яго прыдзецца уздоуж.\n\nПа вузкакалейцы далей iдзе пуць,\nВагоны дзе з торфам бывае iдуць.\nНа захад пасля iсцi праз балаты.\nУ студзенi iх мы праходзiм заужды.\n\nВакол дарог нет, а лес надта дрымуч,\nСкончым паход мы каля речкi Случ.\nНе ведаю, прауда то iлi хлусня:\nДулебау пасля, паход гэты хуйня.\n\n18-19 января 2020г от Секты под руководством Глаза будет проводится ПВД пешком. Логистическая часть автомобильная (бус). Протяженность трека составляет 37 км. Лагарь на 22-ом километре. Маршрут начинается со льда третьего по размеру озера в Беларуси – озера Чырвонага (ранее Князь-Озеро). Пересекает обширные торфоразработки. Заключительный участок пути проходит через заболоченный лес, частично по пересеченной местности, частично по дорогам. По предварительным оценкам мероприятие легче небезызвестного похода Duleby-mix, но маршрут довольно длинный и придется определенно находится в тонусе. Скучных и унылых маршрутов у нас  я не помню… Культурно-развлекательная программа и самодеятельность в работе.\nЖелающие могут записываться. Предпочтительнее заранее.. Запись проводит Глаз. Глаз как менеджер ленив и изношен. Алгоритмами действий просьба не озадачивать и не давать  дополнительные нагрузки.\n

X-ALT-DESC;FMTTYPE=text/html:<!DOCTYPE HTML PUBLIC "-//W3C//DTD HTML 3.2//EN">\n<HTML>\n<HEAD>\n<META NAME="Generator" CONTENT="MS Exchange Server version 08.00.0681.000">\n<TITLE></TITLE>\n</HEAD>\n<BODY>\n<!-- Converted from text/rtf format -->\n\nСыплецца мяккi, пушысты сняжок.<br />Белаю коудрай пакрыуся лужок.<br />Лес нерухома стаiць за сялом.<br />Возера сцiхла пад тоустым iльдлом.<br /><br />Вандроукi у студзенi хоць i цяжэй,<br />З намi хадзем у Прэдпалессе хутчэй!<br />Удзельникi з Глазам звычайна хоць пьюць,<br />Песню удзячную нам прапяюць!<br /><br />Сам я там нават нi разу не быу.<br />Паход назавецца «Чырвоны Прарыу».<br />Князь-Возера трэцье у Краiне усеж.<br />Пехам прайсцi яго прыдзецца уздоуж.<br /><br />Па вузкакалейцы далей iдзе пуць,<br />Вагоны дзе з торфам бывае iдуць.<br />На захад пасля iсцi праз балаты.<br />У студзенi iх мы праходзiм заужды.<br /><br />Вакол дарог нет, а лес надта дрымуч,<br />Скончым паход мы каля речкi Случ.<br />Не ведаю, прауда то iлi хлусня:<br />Дулебау пасля, паход гэты хуйня.<br /><br />18-19 января 2020г от Секты под руководством Глаза будет проводится ПВД пешком. Логистическая часть автомобильная (бус). Протяженность трека составляет 37 км. Лагарь на 22-ом километре. Маршрут начинается со льда третьего по размеру озера в Беларуси – озера Чырвонага (ранее Князь-Озеро). Пересекает обширные торфоразработки. Заключительный участок пути проходит через заболоченный лес, частично по пересеченной местности, частично по дорогам. По предварительным оценкам мероприятие легче небезызвестного похода Duleby-mix, но маршрут довольно длинный и придется определенно находится в тонусе. Скучных и унылых маршрутов у нас  я не помню… Культурно-развлекательная программа и самодеятельность в работе.<br />Желающие могут записываться. Предпочтительнее заранее.. Запись проводит Глаз. Глаз как менеджер ленив и изношен. Алгоритмами действий просьба не озадачивать и не давать  дополнительные нагрузки.<br />\n\n</BODY>\n</HTML>

LOCATION:
END:VEVENT

END:VCALENDAR
