BEGIN:VCALENDAR
VERSION:2.0
PRODID:-//hacksw/handcal//NONSGML v1.0//EN
BEGIN:VEVENT
UID:c08c712f55cf47b82aa97e01989e975a
DTSTAMP:20260420T142251Z

DTSTART:20200812T170000
DTEND:20200817T170000
SUMMARY:Мечта автомобилиста в теплой компании.
DESCRIPTION:17 августа мы начинаем сплав по Катуни! А мы с Палычем решили вылететь 12 августа в Улан-Уде. Взять на прокат машинку и прокатиться вдоль Байкала. После этого решили проехать Чуйский тракт. Снять с гор Алексея, встретить ребят в аэропорту и сделать кучу событий! Кто с нами?

X-ALT-DESC;FMTTYPE=text/html:<!DOCTYPE HTML PUBLIC "-//W3C//DTD HTML 3.2//EN">\n<HTML>\n<HEAD>\n<META NAME="Generator" CONTENT="MS Exchange Server version 08.00.0681.000">\n<TITLE></TITLE>\n</HEAD>\n<BODY>\n<!-- Converted from text/rtf format -->\n\n17 августа мы начинаем сплав по Катуни! А мы с Палычем решили вылететь 12 августа в Улан-Уде. Взять на прокат машинку и прокатиться вдоль Байкала. После этого решили проехать Чуйский тракт. Снять с гор Алексея, встретить ребят в аэропорту и сделать кучу событий! Кто с нами?\n\n</BODY>\n</HTML>

LOCATION:
END:VEVENT

END:VCALENDAR
