BEGIN:VCALENDAR
VERSION:2.0
PRODID:-//hacksw/handcal//NONSGML v1.0//EN
BEGIN:VEVENT
UID:987a2c09b10680ec8128739dd97069de
DTSTAMP:20260420T141815Z

DTSTART:20200105T070000
DTEND:20200106T200000
SUMMARY:Рождественско-гастрономический суперлайт
DESCRIPTION:Здравствуйте!\nЯ очень соскучился по Магадану, поэтому приглашаю желающих прогуляться в первые выходные 2020 года по лесу. В программе:\nпешая прогулка\nвкусная еда (ну, как обычно)\nсамое главное: отличная компания.\n\nПриглашаются ходячие, ездящие на велосипедах (Сергей Волосач формирует велозвено), байдарочники, лыжники, матрасники - в общем, всем найдется место :) Основная группа идет пешком.\nПринципы участия традиционные: хотеть, мочь, не напрягать, не бухать (выпивать можно :)).\n\nТехнические подробности: доставка на место рейсовым автобусом со Славинского, обратно - электричкой. Трек 32 - 33 км, возможно, обойдется без переправы. Стоимость участия складывается из стоимости проезда туда - обратно - в пределах 5 рублей + общак на еду, не знаю, сколько она сейчас стоит.\n\nЗаписываться желательно заранее - буду покупать билеты на автобус. Крайний срок для записи - 30 декабря, далее - с применением кумовства и связей.\n\nЗапись только личная через вайбер, фейсбук. В крайнем случае можно через л/с на сайте.

X-ALT-DESC;FMTTYPE=text/html:<!DOCTYPE HTML PUBLIC "-//W3C//DTD HTML 3.2//EN">\n<HTML>\n<HEAD>\n<META NAME="Generator" CONTENT="MS Exchange Server version 08.00.0681.000">\n<TITLE></TITLE>\n</HEAD>\n<BODY>\n<!-- Converted from text/rtf format -->\n\nЗдравствуйте!<br />Я очень соскучился по Магадану, поэтому приглашаю желающих прогуляться в первые выходные 2020 года по лесу. В программе:<br />пешая прогулка<br />вкусная еда (ну, как обычно)<br />самое главное: отличная компания.<br /><br />Приглашаются ходячие, ездящие на велосипедах (Сергей Волосач формирует велозвено), байдарочники, лыжники, матрасники - в общем, всем найдется место :) Основная группа идет пешком.<br />Принципы участия традиционные: хотеть, мочь, не напрягать, не бухать (выпивать можно :)).<br /><br />Технические подробности: доставка на место рейсовым автобусом со Славинского, обратно - электричкой. Трек 32 - 33 км, возможно, обойдется без переправы. Стоимость участия складывается из стоимости проезда туда - обратно - в пределах 5 рублей + общак на еду, не знаю, сколько она сейчас стоит.<br /><br />Записываться желательно заранее - буду покупать билеты на автобус. Крайний срок для записи - 30 декабря, далее - с применением кумовства и связей.<br /><br />Запись только личная через вайбер, фейсбук. В крайнем случае можно через л/с на сайте.\n\n</BODY>\n</HTML>

LOCATION:
END:VEVENT

END:VCALENDAR
