BEGIN:VCALENDAR
VERSION:2.0
PRODID:-//hacksw/handcal//NONSGML v1.0//EN
BEGIN:VEVENT
UID:fd6674f4e2bee54156bfbba65ac4243e
DTSTAMP:20260420T174039Z

DTSTART:20200208T080000
DTEND:20200209T210000
SUMMARY:Запарниковый эффект
DESCRIPTION:Зима все никак не наступает, и все уже устали ждать снега и лыжных походов. Поэтому предлагаю прогуляться и запариться хотя бы пешком. \nРегион: на юг от деревни Зеленый Бор (что под Жодино). \nМаршрут кольцевой 20+10 км. Т.е. можно оставить личный автотранспорт в Зеленом Бору. Район имеет интересную историю и уникальные ландшафты. Места живописные, по пути ни одного населенного пункта. Во время ВОВ в районе действовала самая большая партизанская бригада "Разгром", об этом свидетельствует несколько памятников, которые мы посетим и историю которых узнаем. Ночлег планируется на озере Песочное. Возможен подъезд на автомобиле. \nМузыкальная программа, доклады и кухня прилагается. \nПо всем вопросам обращаться к Смирнову\n\n\n\n\n

X-ALT-DESC;FMTTYPE=text/html:<!DOCTYPE HTML PUBLIC "-//W3C//DTD HTML 3.2//EN">\n<HTML>\n<HEAD>\n<META NAME="Generator" CONTENT="MS Exchange Server version 08.00.0681.000">\n<TITLE></TITLE>\n</HEAD>\n<BODY>\n<!-- Converted from text/rtf format -->\n\nЗима все никак не наступает, и все уже устали ждать снега и лыжных походов. Поэтому предлагаю прогуляться и запариться хотя бы пешком. <br />Регион: на юг от деревни Зеленый Бор (что под Жодино). <br />Маршрут кольцевой 20+10 км. Т.е. можно оставить личный автотранспорт в Зеленом Бору. Район имеет интересную историю и уникальные ландшафты. Места живописные, по пути ни одного населенного пункта. Во время ВОВ в районе действовала самая большая партизанская бригада "Разгром", об этом свидетельствует несколько памятников, которые мы посетим и историю которых узнаем. Ночлег планируется на озере Песочное. Возможен подъезд на автомобиле. <br />Музыкальная программа, доклады и кухня прилагается. <br />По всем вопросам обращаться к Смирнову<br /><br /><br /><br /><br />\n\n</BODY>\n</HTML>

LOCATION:Зеленый Бор, Беларусь
END:VEVENT

END:VCALENDAR
