BEGIN:VCALENDAR
VERSION:2.0
PRODID:-//hacksw/handcal//NONSGML v1.0//EN
BEGIN:VEVENT
UID:716edff56c021433483b2ed03354ded7
DTSTAMP:20260420T142242Z

DTSTART:20200321T230000
DTEND:20200322T230000
SUMMARY:84В Fluminae lupum
DESCRIPTION:По Волке плыть – по волчьи выть (Игорь Пузо)\n\nУспешно мы сходили Бродню,\nНашли на полигоне мину…\nЗатеял что-то её вроде\nГрядущий сплав Lupum fluminae.\n\nМассивы Налибокской Пущи\nТак обожает Магадан.\nИ водный ПВД грядущий \nПроведен в марте будет там.\n\nИслочь, Березина и Неман\nНеоднократно пройдены.\nА выбор следующий основан,\nГде не были ни разу мы.\n\nПодумал Глаз, что это Изледь:\n(На Гугл-Земле так увидал).\nИ захотел её увидеть,\nПо ней что ходят, не слыхал.\n\nНо Изледь Волкой оказалась,\nГенштаб картинку прояснил.\nТеперь сходить туда осталось.\nНайдется времени и сил.\n\nЭтот маршрут будет короткий.\nЛишь километров 45.\nНе сложно распороть там лодки.\nИ часть состава потерять.\n\nЛетом туда идти без толку:\nВсё зарастает, нет воды,\nВ виду имею реку Волка,\nКругом погрызли лес бобры.\n\nСелений нет почти вдоль Волки.\nПисала одна группа, дескать,\nБлиз лагеря завыли волки.\nС тех пор прошло где-то лет десять.\n\nА Волосач неугомонный \nВдоль Волки обновляет путь.\nВелосипед его коронный\nПлетется рысью как-нибудь.\n\nК нам мчится Волосач на веле,\nБодрый, подтянутый, не пьет.\nВсегда он с Магаданом в деле,\nБывает, песню пропоёт.\n\n«Порвали парус!» - так случилось,\n«Порвали парус!», - еб их мать!\nЧтоб пожелания наши сбылись,\nЧтоб собирались мы опять…\n\nЧуть седовласый, но могучий,\nВ ухе серьгу раньше носил.\nВ стратегии его нет лучше,\nСергей сейчас в рассвете сил. \n\nСреди болот не забалуешь.\nБери весло и соберись,\nЗатопленный лес в марте, - хуле,\nБайдарочникам  заебись!\n\nА холодильник Миндибеков \nПоможет группе подыскать.\nПридется на поляне где-то\nЕго петардою взорвать.\n\nА прошлый раз сожгли весь пластик,\nПрибрали муссор ведь неплохо.\nВот это понимаю праздник,\nХоть Грета Тунберг мне и похуй.\n\nЗаранее говорю, ребята,\nМаршрут по Волке - трэшеватый!\nТам расслабляться я не стал бы:\nВ начале будут сплошь завалы.\n\nПоэтому предупреждаю сразу,\nЛучше подумайте, друзья,\nСтоит ли связываться с Глазом,\nХардкор предсказываю я.\n\nОставь надежду ты, участник,\nВ байдарочном походе новом.\nНе обещаю я вам праздник,\nПредвосхищаю сплав хуевый!\n\n21-22 марта будет проводиться сплав по реке Волка (39км) и около шести километров  после её впадения идти будем по реке Западная Березина. Рассматривая территорию Налибокской Пущи, этот маршрут я наметил не очень давно, может, с полгода. Даже выбрал место стапеля, полагая тогда, что это река Изледь. Потом оказалось, - Волка! И не самый я такой находчивый. Её уже ходили небезызвестные апологеты экзотики и камерных непопулярных сплавов Кирилл Тихомиров и Павел Сацута. Привожу ссылки для предварительного ознакомления. http://kir2003.ru/?p=1017;\nhttps://poehali.net/forum/sobytiya-i-otchety/otchety/reka-volka/\nВолка, значит, Волка… Пока много в Налибоксой Пуще воды, сам Бог её велел идти теперь. Свежи впечатления от прекрасной и даже восхитительной Бродни! Дикой, уютной такой динамичной и неповторимой. Очень она мне понравилась. Рек одинаковых не бывает.  У всех свои красота, норов и шарм. Настал черед пройти Волку. И она, уверен, не разочарует!\nСразу спешу предупредить, что не балуем, этот сплав хуевый! Верховья дикой и лесной Волки завальные со всеми вытекающими. Чуть ниже разбои русла. Есть где потеряться. Еще дальше пойменные участки, где будет вероятность не только потеряться, но и заблудиться, долго рыская по залитым заливным лугам.\nЭтот активный 45 километровый маршрут 84В «Fluminae lupum» хоть и сравнительно короткий, но спортивный, подразумевает он весьма активные действия. В сильно большой группе Глаз не заинтересован. Нет возможности контролировать не самостоятельные экипажи. Поэтому в анонсе этом довольно категоричен. Тем не менее, все в  Магадане и я лично всегда рады видеть мотивированных  участников.  \nВолка не для дебютантов, романтичных мечтателей, морбидных алкоголиков и исторических кадров (с которыми происходят какие-либо истории). Теряющиеся потеряются непременно, сдыхающие - сдохнут обязательно, замерзающие и киляющиеся - кильнуться и неизбежно замерзнут. Для привыкших к опеке, курации и рассчитывающих на это – не ходите на Волку! Не балуем. Проект для поклонников нетривиальных маршрутов. Навигатор с треком для каждого экипажа обязателен. \nНе все так сурово. Как бы интимно не пряталось русло этой реки, младшей сестры Ислочи, среди заболоченного леса, разбоев и болотин, есть и вполне приемлемые подъезды. Окрестные леса изобилуют удобными и даже очень привлекательными дорогами для велосипедных прогулок. На 21 ом километре трека будет даже подъезд для группы моральной поддержки и технического обеспечения. Там и лагерь "Вифлеем Волкачачизма". Конечно же, это территория заказника Налибокская Пуща со всеми вытекающими. Костры разводить нельзя. На группу необходимы два мангала. Вопросы с расстрелом очередного холодильника и его утилизацией устанавливаются. \nВ последнее время практикуются миксты между байдарочниками, велосипедными группами, и даже ещё более сложные синдикаты с пешеходами и матрастскими формированиями. Налибокская Пуща это тот регион, который устроит всех. Тем более, что находится он в непосредственной близости от столицы. Возглавить велосипедное звено взял на себя бессменный и постоянно действующий лидер Сергей Волосач. Новатор и преисполненный жизненной энергии романтизатор велосипеда. Алексей Сантехник возглавит на этот раз пешеходное подразделение.\nЗапланировано общее место ночевки байдарочной группы и велосипедного звена «Вифлеем Волкасачизма».  \nПредварительно имеющийся кворум - 18 водников и два матрацника, восемь велосипедистов и два пешехода (на 11 марта). Желающим просьба записываться. \nРеферента для похода 84В «Fluminae lupum» пока нет: Глаза голова не мусорный ящик и алгоритмами действий просьба не озадачивать. В байдарочную группу ожидаю заявки до 16 марта. С 17 марта после получения документа-рассылки покидать состав уже нельзя (соскок каждого подразумевает в условиях дефицита времени дополнительные нагрузки). Иначе Уголок Шалуна в установленном порядке. Для планирующих разделить велосипедный уикэнд – на связи Волосач Сергей. Любителям пеших прогулок, действия согласовывать с Алексеем Сантехником.\n84В состоится при любой погоде и вне зависимости от каких-либо обстоятельств. \n\n\n\n

X-ALT-DESC;FMTTYPE=text/html:<!DOCTYPE HTML PUBLIC "-//W3C//DTD HTML 3.2//EN">\n<HTML>\n<HEAD>\n<META NAME="Generator" CONTENT="MS Exchange Server version 08.00.0681.000">\n<TITLE></TITLE>\n</HEAD>\n<BODY>\n<!-- Converted from text/rtf format -->\n\nПо Волке плыть – по волчьи выть (Игорь Пузо)<br /><br />Успешно мы сходили Бродню,<br />Нашли на полигоне мину…<br />Затеял что-то её вроде<br />Грядущий сплав Lupum fluminae.<br /><br />Массивы Налибокской Пущи<br />Так обожает Магадан.<br />И водный ПВД грядущий <br />Проведен в марте будет там.<br /><br />Ислочь, Березина и Неман<br />Неоднократно пройдены.<br />А выбор следующий основан,<br />Где не были ни разу мы.<br /><br />Подумал Глаз, что это Изледь:<br />(На Гугл-Земле так увидал).<br />И захотел её увидеть,<br />По ней что ходят, не слыхал.<br /><br />Но Изледь Волкой оказалась,<br />Генштаб картинку прояснил.<br />Теперь сходить туда осталось.<br />Найдется времени и сил.<br /><br />Этот маршрут будет короткий.<br />Лишь километров 45.<br />Не сложно распороть там лодки.<br />И часть состава потерять.<br /><br />Летом туда идти без толку:<br />Всё зарастает, нет воды,<br />В виду имею реку Волка,<br />Кругом погрызли лес бобры.<br /><br />Селений нет почти вдоль Волки.<br />Писала одна группа, дескать,<br />Близ лагеря завыли волки.<br />С тех пор прошло где-то лет десять.<br /><br />А Волосач неугомонный <br />Вдоль Волки обновляет путь.<br />Велосипед его коронный<br />Плетется рысью как-нибудь.<br /><br />К нам мчится Волосач на веле,<br />Бодрый, подтянутый, не пьет.<br />Всегда он с Магаданом в деле,<br />Бывает, песню пропоёт.<br /><br />«Порвали парус!» - так случилось,<br />«Порвали парус!», - еб их мать!<br />Чтоб пожелания наши сбылись,<br />Чтоб собирались мы опять…<br /><br />Чуть седовласый, но могучий,<br />В ухе серьгу раньше носил.<br />В стратегии его нет лучше,<br />Сергей сейчас в рассвете сил. <br /><br />Среди болот не забалуешь.<br />Бери весло и соберись,<br />Затопленный лес в марте, - хуле,<br />Байдарочникам  заебись!<br /><br />А холодильник Миндибеков <br />Поможет группе подыскать.<br />Придется на поляне где-то<br />Его петардою взорвать.<br /><br />А прошлый раз сожгли весь пластик,<br />Прибрали муссор ведь неплохо.<br />Вот это понимаю праздник,<br />Хоть Грета Тунберг мне и похуй.<br /><br />Заранее говорю, ребята,<br />Маршрут по Волке - трэшеватый!<br />Там расслабляться я не стал бы:<br />В начале будут сплошь завалы.<br /><br />Поэтому предупреждаю сразу,<br />Лучше подумайте, друзья,<br />Стоит ли связываться с Глазом,<br />Хардкор предсказываю я.<br /><br />Оставь надежду ты, участник,<br />В байдарочном походе новом.<br />Не обещаю я вам праздник,<br />Предвосхищаю сплав хуевый!<br /><br />21-22 марта будет проводиться сплав по реке Волка (39км) и около шести километров  после её впадения идти будем по реке Западная Березина. Рассматривая территорию Налибокской Пущи, этот маршрут я наметил не очень давно, может, с полгода. Даже выбрал место стапеля, полагая тогда, что это река Изледь. Потом оказалось, - Волка! И не самый я такой находчивый. Её уже ходили небезызвестные апологеты экзотики и камерных непопулярных сплавов Кирилл Тихомиров и Павел Сацута. Привожу ссылки для предварительного ознакомления. http://kir2003.ru/?p=1017;<br />https://poehali.net/forum/sobytiya-i-otchety/otchety/reka-volka/<br />Волка, значит, Волка… Пока много в Налибоксой Пуще воды, сам Бог её велел идти теперь. Свежи впечатления от прекрасной и даже восхитительной Бродни! Дикой, уютной такой динамичной и неповторимой. Очень она мне понравилась. Рек одинаковых не бывает.  У всех свои красота, норов и шарм. Настал черед пройти Волку. И она, уверен, не разочарует!<br />Сразу спешу предупредить, что не балуем, этот сплав хуевый! Верховья дикой и лесной Волки завальные со всеми вытекающими. Чуть ниже разбои русла. Есть где потеряться. Еще дальше пойменные участки, где будет вероятность не только потеряться, но и заблудиться, долго рыская по залитым заливным лугам.<br />Этот активный 45 километровый маршрут 84В «Fluminae lupum» хоть и сравнительно короткий, но спортивный, подразумевает он весьма активные действия. В сильно большой группе Глаз не заинтересован. Нет возможности контролировать не самостоятельные экипажи. Поэтому в анонсе этом довольно категоричен. Тем не менее, все в  Магадане и я лично всегда рады видеть мотивированных  участников.  <br />Волка не для дебютантов, романтичных мечтателей, морбидных алкоголиков и исторических кадров (с которыми происходят какие-либо истории). Теряющиеся потеряются непременно, сдыхающие - сдохнут обязательно, замерзающие и киляющиеся - кильнуться и неизбежно замерзнут. Для привыкших к опеке, курации и рассчитывающих на это – не ходите на Волку! Не балуем. Проект для поклонников нетривиальных маршрутов. Навигатор с треком для каждого экипажа обязателен. <br />Не все так сурово. Как бы интимно не пряталось русло этой реки, младшей сестры Ислочи, среди заболоченного леса, разбоев и болотин, есть и вполне приемлемые подъезды. Окрестные леса изобилуют удобными и даже очень привлекательными дорогами для велосипедных прогулок. На 21 ом километре трека будет даже подъезд для группы моральной поддержки и технического обеспечения. Там и лагерь "Вифлеем Волкачачизма". Конечно же, это территория заказника Налибокская Пуща со всеми вытекающими. Костры разводить нельзя. На группу необходимы два мангала. Вопросы с расстрелом очередного холодильника и его утилизацией устанавливаются. <br />В последнее время практикуются миксты между байдарочниками, велосипедными группами, и даже ещё более сложные синдикаты с пешеходами и матрастскими формированиями. Налибокская Пуща это тот регион, который устроит всех. Тем более, что находится он в непосредственной близости от столицы. Возглавить велосипедное звено взял на себя бессменный и постоянно действующий лидер Сергей Волосач. Новатор и преисполненный жизненной энергии романтизатор велосипеда. Алексей Сантехник возглавит на этот раз пешеходное подразделение.<br />Запланировано общее место ночевки байдарочной группы и велосипедного звена «Вифлеем Волкасачизма».  <br />Предварительно имеющийся кворум - 18 водников и два матрацника, восемь велосипедистов и два пешехода (на 11 марта). Желающим просьба записываться. <br />Референта для похода 84В «Fluminae lupum» пока нет: Глаза голова не мусорный ящик и алгоритмами действий просьба не озадачивать. В байдарочную группу ожидаю заявки до 16 марта. С 17 марта после получения документа-рассылки покидать состав уже нельзя (соскок каждого подразумевает в условиях дефицита времени дополнительные нагрузки). Иначе Уголок Шалуна в установленном порядке. Для планирующих разделить велосипедный уикэнд – на связи Волосач Сергей. Любителям пеших прогулок, действия согласовывать с Алексеем Сантехником.<br />84В состоится при любой погоде и вне зависимости от каких-либо обстоятельств. <br /><br /><br /><br />\n\n</BODY>\n</HTML>

LOCATION:
END:VEVENT

END:VCALENDAR
