BEGIN:VCALENDAR
VERSION:2.0
PRODID:-//hacksw/handcal//NONSGML v1.0//EN
BEGIN:VEVENT
UID:f8d34789bfaff50cc5ade4c6f9b18b0a
DTSTAMP:20260420T142221Z

DTSTART:20200613T170000
DTEND:20200614T170000
SUMMARY:85А ВО ЛучОСА время Ч
DESCRIPTION:Ширь привольная вокруг,\nСолнце светит ярко.\nДля туриста лучший друг\nЛодка и байдарка!\n\nМчится Ковалев Сергей\nПо лесной дороге.\nВ Магадане средь друзей\nОн примером многим.\n\nУ него велосипед\nПламенный, ретивый,\nНесколько последний лет  \nОчень он активный!\n\nСледом катит Волосач,\nГаджеты, обгрейды,\nА несется будто вскач:\nОн одним из первых!\n\nВремя наступает Ча\nВместе с Пузочесом,\nС помощью Волосача\nСходим на Лучосу.\n\nГруппа Мощного пойдет\nВерхитой притоком.\nВстреча на слиянии ждет,\nНа пляжу пологом.\n\nСоставляет часть пути \nИз Варягов в Греки.\nМожно с Балтики пройти\nВ Днепровские реки.\n\nГорбиков мне говорил,\nЕсть какой-то волок.\nСам его он не ходил\n(Путь этот не долог).\n\nНе годится для дрыщей\nСплав июньский этот,\nНе смотря, что вообще \nДело будет летом.\n\nЧасть состава собирать,\nЭто очень грустно:\nСбившихся с пути искать\nПо речному руслу.\n\nХуйвенбинов можно взять\nВ лагерь на машине,\nБудем также предлагать \nВиктору Калине.\n\nКрайние скажу года,\nЧто это прискорбно:\nОчень низкая вода,\nРеки не удобны.\n\nВодник милый, подожди,\nХоть с водою глухо,\nДумаю, пройдут дожди,\nВерховия разбухнут!\n\nШирь привольная вокруг,\nСолнце светит ярко.\nДля туриста лучший друг\nЛодка и байдарка!\n13-14 июня будет проводиться двухдневный ПВД по рекам Черница-Лучоса и Верхита –Лучоса. Июнь, а точнее его середина, – время Ч совершить вторую попытку пойти по этому маршруту. В прошлом июне в реках бассейна Западной Двины количество воды было совсем скудным. Дабы не портить впечатления об этом замечательном участке, предпочли сплав на Полесье.  То, что попало в «лист ожидания» Магадана уже нельзя отменить. Хотя по количество воды  и в этом году никуда не годится. За неделю до сплава на места будут высланы агенты для проведения рекогносцировки. \nБрэнд Волосача выбран не случайно. Как участника, пожалуй, самого активного по ПВД на текущее время. Человека, который организует и объединяет людей.\nКак обычно, хочу предостеречь. Маршруты у меня длинные. Протяженность этого 70 километров. Изначально планируется начинать с дамбы в Добромыслях. Вторая подгруппа начинает с притока Верхита. Рандеву в устье или уже прямо в лагере.\nРешение вопроса на счет комбинирования мероприятия с велогруппами и матрацными формированиями в разработке. В любом случае байдарочная часть состоится. При проявлении дополнительной инициативы возможна и культурно-образовательная импровизация.\nЛогистическая часть автомобильная (бус). Байдарки свои или арендные. Организационная рыба отработана. Желающих просьба записываться в «одно окно» через Глаза. Для фотографов дорога бесплатно за счет организации \n\n\n\n

X-ALT-DESC;FMTTYPE=text/html:<!DOCTYPE HTML PUBLIC "-//W3C//DTD HTML 3.2//EN">\n<HTML>\n<HEAD>\n<META NAME="Generator" CONTENT="MS Exchange Server version 08.00.0681.000">\n<TITLE></TITLE>\n</HEAD>\n<BODY>\n<!-- Converted from text/rtf format -->\n\nШирь привольная вокруг,<br />Солнце светит ярко.<br />Для туриста лучший друг<br />Лодка и байдарка!<br /><br />Мчится Ковалев Сергей<br />По лесной дороге.<br />В Магадане средь друзей<br />Он примером многим.<br /><br />У него велосипед<br />Пламенный, ретивый,<br />Несколько последний лет  <br />Очень он активный!<br /><br />Следом катит Волосач,<br />Гаджеты, обгрейды,<br />А несется будто вскач:<br />Он одним из первых!<br /><br />Время наступает Ча<br />Вместе с Пузочесом,<br />С помощью Волосача<br />Сходим на Лучосу.<br /><br />Группа Мощного пойдет<br />Верхитой притоком.<br />Встреча на слиянии ждет,<br />На пляжу пологом.<br /><br />Составляет часть пути <br />Из Варягов в Греки.<br />Можно с Балтики пройти<br />В Днепровские реки.<br /><br />Горбиков мне говорил,<br />Есть какой-то волок.<br />Сам его он не ходил<br />(Путь этот не долог).<br /><br />Не годится для дрыщей<br />Сплав июньский этот,<br />Не смотря, что вообще <br />Дело будет летом.<br /><br />Часть состава собирать,<br />Это очень грустно:<br />Сбившихся с пути искать<br />По речному руслу.<br /><br />Хуйвенбинов можно взять<br />В лагерь на машине,<br />Будем также предлагать <br />Виктору Калине.<br /><br />Крайние скажу года,<br />Что это прискорбно:<br />Очень низкая вода,<br />Реки не удобны.<br /><br />Водник милый, подожди,<br />Хоть с водою глухо,<br />Думаю, пройдут дожди,<br />Верховия разбухнут!<br /><br />Ширь привольная вокруг,<br />Солнце светит ярко.<br />Для туриста лучший друг<br />Лодка и байдарка!<br />13-14 июня будет проводиться двухдневный ПВД по рекам Черница-Лучоса и Верхита –Лучоса. Июнь, а точнее его середина, – время Ч совершить вторую попытку пойти по этому маршруту. В прошлом июне в реках бассейна Западной Двины количество воды было совсем скудным. Дабы не портить впечатления об этом замечательном участке, предпочли сплав на Полесье.  То, что попало в «лист ожидания» Магадана уже нельзя отменить. Хотя по количество воды  и в этом году никуда не годится. За неделю до сплава на места будут высланы агенты для проведения рекогносцировки. <br />Брэнд Волосача выбран не случайно. Как участника, пожалуй, самого активного по ПВД на текущее время. Человека, который организует и объединяет людей.<br />Как обычно, хочу предостеречь. Маршруты у меня длинные. Протяженность этого 70 километров. Изначально планируется начинать с дамбы в Добромыслях. Вторая подгруппа начинает с притока Верхита. Рандеву в устье или уже прямо в лагере.<br />Решение вопроса на счет комбинирования мероприятия с велогруппами и матрацными формированиями в разработке. В любом случае байдарочная часть состоится. При проявлении дополнительной инициативы возможна и культурно-образовательная импровизация.<br />Логистическая часть автомобильная (бус). Байдарки свои или арендные. Организационная рыба отработана. Желающих просьба записываться в «одно окно» через Глаза. Для фотографов дорога бесплатно за счет организации <br /><br /><br /><br />\n\n</BODY>\n</HTML>

LOCATION:
END:VEVENT

END:VCALENDAR
