BEGIN:VCALENDAR
VERSION:2.0
PRODID:-//hacksw/handcal//NONSGML v1.0//EN
BEGIN:VEVENT
UID:02831b952e01cebbe803a4667af5781a
DTSTAMP:20260421T080347Z

DTSTART:20200516T060000
DTEND:20200517T180000
SUMMARY:Внимание Сенсация от Гильдии Миндибекова!!! - 84Г «Реста - Проня - Славгород»
DESCRIPTION:Тип: Промежуточный тактический.
Категория: Водный ПВД
Задачи: Пропаганда водного туризма. Изыскание новых кадров. Увеличение направлений и массовости ПВД. 
Жлобинское подразделение Гильдии Миндибекова проводит байдарочный поход «Реста-Проня Славгород» 16.05.2020-17.05.2020. Маршрут – река Реста - Проня до впадения в Сож. Длина маршрута  40 км.  Стапель на Ресте на поляне «Мозгова» возле деревни Хоронево по трассе Р138 населенные пункты далее отсутствуют, по всему маршруту великолепные пейзажи, дружная компания и активный отдых. Через 15 км впадение в Проню и обед, На отметке в 25 км будет лагерь 84Г. Антистапель на пляже в Славгороде. В программе кулинарные изыски, организованные профессиональным аниматором развлечения и просто прекрасный отдых.
 


X-ALT-DESC;FMTTYPE=text/html:<!DOCTYPE HTML PUBLIC "-//W3C//DTD HTML 3.2//EN">\n<HTML>\n<HEAD>\n<META NAME="Generator" CONTENT="MS Exchange Server version 08.00.0681.000">\n<TITLE></TITLE>\n</HEAD>\n<BODY>\n<!-- Converted from text/rtf format -->\n\nТип: Промежуточный тактический.
Категория: Водный ПВД
Задачи: Пропаганда водного туризма. Изыскание новых кадров. Увеличение направлений и массовости ПВД. 
Жлобинское подразделение Гильдии Миндибекова проводит байдарочный поход «Реста-Проня Славгород» 16.05.2020-17.05.2020. Маршрут – река Реста - Проня до впадения в Сож. Длина маршрута  40 км.  Стапель на Ресте на поляне «Мозгова» возле деревни Хоронево по трассе Р138 населенные пункты далее отсутствуют, по всему маршруту великолепные пейзажи, дружная компания и активный отдых. Через 15 км впадение в Проню и обед, На отметке в 25 км будет лагерь 84Г. Антистапель на пляже в Славгороде. В программе кулинарные изыски, организованные профессиональным аниматором развлечения и просто прекрасный отдых.
 
\n\n</BODY>\n</HTML>

LOCATION:
END:VEVENT

END:VCALENDAR
