BEGIN:VCALENDAR
VERSION:2.0
PRODID:-//hacksw/handcal//NONSGML v1.0//EN
BEGIN:VEVENT
UID:f845c1d4dfdf9d12d399c0bc3b720c07
DTSTAMP:20260420T142224Z

DTSTART:20200711T210000
DTEND:20200712T210000
SUMMARY:85Б :»Сафари М5-М5-М5»
DESCRIPTION:Рафт – это большая сила!\nРафт – это наш лушший друг!\nРафт –это занятье смелых,\nЛовких и умелых рук!\n\nВот на них идти в сафари\nСобрались на этот раз.\nВместе с Горбиковым в паре\nЗанялся проектом Глаз.\n\nЛюди Глаза критикуют,\nЧто затеял этот вздор. \nПервый раз я практикую\nВ жопе пламенный мотор!\n\nПускай будет не спортивен\nНа моторах этот сплав.\n150 км посильно,\nЗа два дня пройти стремглав.\n\nЕдет Волосач Сережа\nПо полям и по лесам.\nЧто увидел, с нами тоже\nПоделись скорее сам.\n\nВидел горе он народа,\nЭпидемии болезнь,\nЭкономики невзгоды\nИ озлобленность людей.\n\n\nОбожает очень Гайну,\nМандарины, ламинат.\nСерого – это не тайна,\nСредь нас каждый видеть рад!\n\nВолосач по треку мчится,\nГаджеты есть GPS.\nНе боится заблудиться,\nДаже если в чащу влез.\n\nБудет Волосач Сережа,\nИли может даже два.\nОзеринского Глаз тоже\nХорошо сыграл весьма.\n\nНиже Пухович лесами \nСвислочь в основном течет.\nУбедился в этом самя.\nНас река в июле ждет.\n\nПойдет с нами Грета Тунберг,\nЕсли станет нести  вздор,\nИ выебываться будет,\nВыбросим ее за борт!\n\n\n11-12 июля 2020 будет проводиться экстраординарный сплав по реке Свислочь. А именно - а моторных рафтах. Протяженность  маршрута 138 километров! От Пуховичей с трассы М-5 вниз. Через 40 километров река снова пересекает трассу М-5. Далее по Березине продолжение почти до Бобруйска. Снова до трассы М-5, откуда и планируется сниматься. Кроме необычного формата водного похода будет ставиться оперетта с уникальными персонажами. Это будут мизантропами с пулеметом, милиционер, кроме того в сценарии присутствуют Волосач на велосипеде (оригинальный не обязателен), Батюшка и Грета Тунберг. \nДля участия необходимы пенсионные удостоверения. Удостоверения выписывает Глаз. Желающим просьба записываться. Дорого, не спортивно.\n

X-ALT-DESC;FMTTYPE=text/html:<!DOCTYPE HTML PUBLIC "-//W3C//DTD HTML 3.2//EN">\n<HTML>\n<HEAD>\n<META NAME="Generator" CONTENT="MS Exchange Server version 08.00.0681.000">\n<TITLE></TITLE>\n</HEAD>\n<BODY>\n<!-- Converted from text/rtf format -->\n\nРафт – это большая сила!<br />Рафт – это наш лушший друг!<br />Рафт –это занятье смелых,<br />Ловких и умелых рук!<br /><br />Вот на них идти в сафари<br />Собрались на этот раз.<br />Вместе с Горбиковым в паре<br />Занялся проектом Глаз.<br /><br />Люди Глаза критикуют,<br />Что затеял этот вздор. <br />Первый раз я практикую<br />В жопе пламенный мотор!<br /><br />Пускай будет не спортивен<br />На моторах этот сплав.<br />150 км посильно,<br />За два дня пройти стремглав.<br /><br />Едет Волосач Сережа<br />По полям и по лесам.<br />Что увидел, с нами тоже<br />Поделись скорее сам.<br /><br />Видел горе он народа,<br />Эпидемии болезнь,<br />Экономики невзгоды<br />И озлобленность людей.<br /><br /><br />Обожает очень Гайну,<br />Мандарины, ламинат.<br />Серого – это не тайна,<br />Средь нас каждый видеть рад!<br /><br />Волосач по треку мчится,<br />Гаджеты есть GPS.<br />Не боится заблудиться,<br />Даже если в чащу влез.<br /><br />Будет Волосач Сережа,<br />Или может даже два.<br />Озеринского Глаз тоже<br />Хорошо сыграл весьма.<br /><br />Ниже Пухович лесами <br />Свислочь в основном течет.<br />Убедился в этом самя.<br />Нас река в июле ждет.<br /><br />Пойдет с нами Грета Тунберг,<br />Если станет нести  вздор,<br />И выебываться будет,<br />Выбросим ее за борт!<br /><br /><br />11-12 июля 2020 будет проводиться экстраординарный сплав по реке Свислочь. А именно - а моторных рафтах. Протяженность  маршрута 138 километров! От Пуховичей с трассы М-5 вниз. Через 40 километров река снова пересекает трассу М-5. Далее по Березине продолжение почти до Бобруйска. Снова до трассы М-5, откуда и планируется сниматься. Кроме необычного формата водного похода будет ставиться оперетта с уникальными персонажами. Это будут мизантропами с пулеметом, милиционер, кроме того в сценарии присутствуют Волосач на велосипеде (оригинальный не обязателен), Батюшка и Грета Тунберг. <br />Для участия необходимы пенсионные удостоверения. Удостоверения выписывает Глаз. Желающим просьба записываться. Дорого, не спортивно.<br />\n\n</BODY>\n</HTML>

LOCATION:
END:VEVENT

END:VCALENDAR
