BEGIN:VCALENDAR
VERSION:2.0
PRODID:-//hacksw/handcal//NONSGML v1.0//EN
BEGIN:VEVENT
UID:803901cff938fd113f01d0dd8635f44b
DTSTAMP:20260420T141651Z

DTSTART:20210731T230000
DTEND:20210816T230000
SUMMARY:8X\1:«Укок – Таван-Богдо –Ула»
DESCRIPTION:«Задворки» Алтайского Края\nТревожны и хороши.\nПусть даже немного пугают,\nНо самое то для души…\n\nВот, наконец, придет отпуск!\nНа социум хуй я ложил.\nСлучился весной этой фокус:\nГраницы Covid все закрыл.\n\nЧто может быть лучше похода!\nОсобенно по горам.\nХожу я по ним год от года,\nЖелаю такого и вам.\n\nНе дешево добираться,\nТам всякие духи живут.\nА можно и дома остаться,\nНо время и годы идут.\n\nНедавно образовался,\nКазалось бы Магадан.\nДесяток годов  так промчался,\nКак будто бы ураган!\n\nПланируется Плато Укок,\nПик Малчин и Найрамдал\nМаршрут на 11 суток\nПо тем местам я набросал.\n\nЯ не был в отпуске уже почти год. По объективным причинам не состоялся весенний сплав в Грузию. Должны открыть, надеюсь, границы и наконец-то заслуженный отдых!\nСобираемся на задворки Алтайского Края, в места, где стыкуются Россия, Китай и Монголия. Поход горно туристический. От начала Каньона Чолок-Чат траверс отрогов Хребта Таван-Богдо-Ула (маршрут не надо придумывать, я взял готовый). Затем будет восхождение на Пик Малчин 4021м. Далее проникновение на территорию Монголии на Ледник Потанина. Это тоже не мое изобретение. Описаний маршрутов восхождений на Найрамдал с северной стороны я не нашел. Восхождение на Пик Найрамдал (Куйтэн Уул) 4373м планируется по 2Б альп. (радиально). Через тот же перевал (Цаст Даба) возвращение в Россию и спуск Плато Укок. \nСроки проведения с дорогой. 31июля – 16 августа. Могу взять 2-3 желающих. Но - это не популярная Белуха. Поход будет мизантропический. Автономный, тяжелый и трудоемкий. Подойдет только для любителей хоррора, сквозных похождений и «духа автономки». Маршрут на Найрамдал (кульминационная часть) с Ледника Потанина схож в чем-то с классическим маршрутом на грузинский Тетнульд. Техническая составляющая не сложная. Но уже пугает, что первопроход через каньон Чолок-Чат (н\к) был всего лишь десять лет назад. Регион значительно мифологизирован и насыщен духами. Недавно я как раз прочитал, как известный  альпинист Владимир Кавуненко на Кавказе при восхождении на гору Трапеция получил ожоги от чего-то неизвестного и год потом был пациентом ожогового центра. Мне идти в горы сразу расхотелось. К тому же есть в тех краях Шамбала. Это что-то типа Замка Святого Грааля, но только глобальнее. Ни того ни другого, пожалуй, никто никогда не видел, но уже стремно. Учитывая фешенебельность, поход этот нельзя отнести к бюджетным. Самолет до Новосибирска + 1000км трансфера по Чуйскому Тракту и определяют стоимость. \nЧерез не полных три недели нужно отослать документы на погранзаставу «Кош-Агач». \nИнтересующимся, просьба принимать решение в эти сроки.\n                                                    Спасибо за внимание!\n

X-ALT-DESC;FMTTYPE=text/html:<!DOCTYPE HTML PUBLIC "-//W3C//DTD HTML 3.2//EN">\n<HTML>\n<HEAD>\n<META NAME="Generator" CONTENT="MS Exchange Server version 08.00.0681.000">\n<TITLE></TITLE>\n</HEAD>\n<BODY>\n<!-- Converted from text/rtf format -->\n\n«Задворки» Алтайского Края<br />Тревожны и хороши.<br />Пусть даже немного пугают,<br />Но самое то для души…<br /><br />Вот, наконец, придет отпуск!<br />На социум хуй я ложил.<br />Случился весной этой фокус:<br />Границы Covid все закрыл.<br /><br />Что может быть лучше похода!<br />Особенно по горам.<br />Хожу я по ним год от года,<br />Желаю такого и вам.<br /><br />Не дешево добираться,<br />Там всякие духи живут.<br />А можно и дома остаться,<br />Но время и годы идут.<br /><br />Недавно образовался,<br />Казалось бы Магадан.<br />Десяток годов  так промчался,<br />Как будто бы ураган!<br /><br />Планируется Плато Укок,<br />Пик Малчин и Найрамдал<br />Маршрут на 11 суток<br />По тем местам я набросал.<br /><br />Я не был в отпуске уже почти год. По объективным причинам не состоялся весенний сплав в Грузию. Должны открыть, надеюсь, границы и наконец-то заслуженный отдых!<br />Собираемся на задворки Алтайского Края, в места, где стыкуются Россия, Китай и Монголия. Поход горно туристический. От начала Каньона Чолок-Чат траверс отрогов Хребта Таван-Богдо-Ула (маршрут не надо придумывать, я взял готовый). Затем будет восхождение на Пик Малчин 4021м. Далее проникновение на территорию Монголии на Ледник Потанина. Это тоже не мое изобретение. Описаний маршрутов восхождений на Найрамдал с северной стороны я не нашел. Восхождение на Пик Найрамдал (Куйтэн Уул) 4373м планируется по 2Б альп. (радиально). Через тот же перевал (Цаст Даба) возвращение в Россию и спуск Плато Укок. <br />Сроки проведения с дорогой. 31июля – 16 августа. Могу взять 2-3 желающих. Но - это не популярная Белуха. Поход будет мизантропический. Автономный, тяжелый и трудоемкий. Подойдет только для любителей хоррора, сквозных похождений и «духа автономки». Маршрут на Найрамдал (кульминационная часть) с Ледника Потанина схож в чем-то с классическим маршрутом на грузинский Тетнульд. Техническая составляющая не сложная. Но уже пугает, что первопроход через каньон Чолок-Чат (н\к) был всего лишь десять лет назад. Регион значительно мифологизирован и насыщен духами. Недавно я как раз прочитал, как известный  альпинист Владимир Кавуненко на Кавказе при восхождении на гору Трапеция получил ожоги от чего-то неизвестного и год потом был пациентом ожогового центра. Мне идти в горы сразу расхотелось. К тому же есть в тех краях Шамбала. Это что-то типа Замка Святого Грааля, но только глобальнее. Ни того ни другого, пожалуй, никто никогда не видел, но уже стремно. Учитывая фешенебельность, поход этот нельзя отнести к бюджетным. Самолет до Новосибирска + 1000км трансфера по Чуйскому Тракту и определяют стоимость. <br />Через не полных три недели нужно отослать документы на погранзаставу «Кош-Агач». <br />Интересующимся, просьба принимать решение в эти сроки.<br />                                                    Спасибо за внимание!<br />\n\n</BODY>\n</HTML>

LOCATION:
END:VEVENT

END:VCALENDAR
