BEGIN:VCALENDAR
VERSION:2.0
PRODID:-//hacksw/handcal//NONSGML v1.0//EN
BEGIN:VEVENT
UID:1a749de843be5c1206c97ab6e0dd1cac
DTSTAMP:20260420T142342Z

DTSTART:20200703T080000
DTEND:20200705T200000
SUMMARY:Драндулебы
DESCRIPTION:В Дулебы ходили пешком, на лыжах. А вот на великах Магадан там еще не бывал. Хотя по отзывам, Дулебские болота созданы для велосипедов. Предлагаю увидеть своими глазами. Маршрут не разведан. Предполагаются бродики, мостики, велоболотинг и хорошая компания. Две ночевки. Первая на речке Малыш, вторая на Чигиринском водохранилище. Протяженность маршрута 160+\nМаршрут кольцевой. Едем на собственном автотранспорте. Матрасников пока не предусмотрено. \nОстальные инструкции будут позже. \n

X-ALT-DESC;FMTTYPE=text/html:<!DOCTYPE HTML PUBLIC "-//W3C//DTD HTML 3.2//EN">\n<HTML>\n<HEAD>\n<META NAME="Generator" CONTENT="MS Exchange Server version 08.00.0681.000">\n<TITLE></TITLE>\n</HEAD>\n<BODY>\n<!-- Converted from text/rtf format -->\n\nВ Дулебы ходили пешком, на лыжах. А вот на великах Магадан там еще не бывал. Хотя по отзывам, Дулебские болота созданы для велосипедов. Предлагаю увидеть своими глазами. Маршрут не разведан. Предполагаются бродики, мостики, велоболотинг и хорошая компания. Две ночевки. Первая на речке Малыш, вторая на Чигиринском водохранилище. Протяженность маршрута 160+<br />Маршрут кольцевой. Едем на собственном автотранспорте. Матрасников пока не предусмотрено. <br />Остальные инструкции будут позже. <br />\n\n</BODY>\n</HTML>

LOCATION:
END:VEVENT

END:VCALENDAR
