BEGIN:VCALENDAR
VERSION:2.0
PRODID:-//hacksw/handcal//NONSGML v1.0//EN
BEGIN:VEVENT
UID:885bf74da9e074d50268b2c0e2808f3f
DTSTAMP:20260420T142238Z

DTSTART:20200822T170000
DTEND:20200823T170000
SUMMARY:85Г: «Luchosa Forever»  22-23 августа 2020
DESCRIPTION:Рыжая Лучоса\nЗа моим бортом\nСветится на солнце,\nБудто  янтарем.\n\nС берегов высоких\nДымчатой каймой\nВетки нависают,\nСловно бахромой.\n\nИ течет Лучоса\nВ сонной тишине.\nИ горят закаты\nВ золотом огне.\n\nА заря лениво,\nОбходя кругом,\nОбсыпает воду \nНовым серебром.\n\nЖаль короновирус\nПланы все сломал.\nНе утихомирюсь,\nЧто Алтай пропал.\n\nБрать не стану отпуск\nГде-то с  месяцок,\nБлаго, что Лучосы\nЕсть еще кусок.\n\nПуть этот не близкий.\nСходим, не беда.\nВ памяти Лучоса\nБудет навсегда.\n\nХочет кто Лучосу\nДальше продолжать\nГлазу без вопросов\nНужно набирать.\n\nЛучоса один из прекрасных и динамичных маршрутов. Река, текущая в высоких берегах с янтарного оттенка глинистой водой. У Веселого Глаза вкусы определенно отличаются от большинства. От подобных маршрутов многие предпочитает держаться подальше. Взять нижнюю Свольну. В каком-то из отчетов даже сплав по ней приравнивали к мазохизму. После того как прошли ее МЫ, завершив маршрут в Верхнедвинске, вся без исключения большая группа в 28 человек получила наилучшие впечатления. То же и Лучоса. Река с заросшими крутыми глинистыми берегами  и сильно закоряженным руслом с мутной водой делает ее малопривлекательной для рыбаков и отдыхающих. Для байдарочного сплава река весьма импозантна.  «Лучоса навсегда» - продолжение «Лучоса, время Ч». Желающим рекомендую ознакомиться с первой частью проекта https://magadan.by/tours/obshchee/85b-13-14-iyunya-2020-chernitsa-luchosa-48km-vo-luchosa-vremya-ch. В нем приняло участие 28 человек.\nРеализация данного мероприятия назначена на 22-23 августа. Август обычно это время стратегических дальних походов, что стало невозможно в этом году по объективным причинам. И сплав по белоруской речке в августе –  для меня не привычно…\nВыезд ночью (0.30 22 августа) с перекрестка улиц Одинцова-Лобанка от рыбного магазина Виталюр. Бус пойдет по внутреннему кольцу с остановками Мирошниченко, Боровляны. Обратно отъезд из Витебска 23 августа в воскресенье в 19.00. Дорого. Логистические расходы от 50 рублей. Сплав буде подразумевать определенный набор тягот и страданий. Русло и дальше довольно закоряженно. Воды, естественно, больше, но первые 26 километров до впадения слева Оболянки ее может по-прежнему  не хватать. Пейзажи – фирменные для этой реки. Высокие и утопающие в зелени крутые склоны берегов.  Нигде не видел я столько родников. Интрига особенно сильна для тех, кто начинал с завальной и безводной Черницы, закончить сплав на Западной Двине  среди городских кварталов Витебска. \nЛодки пластмассовые. С человека по 30 рублей. Или брать свои.\nСледует поговорить об ограничениях.\nПротяженность маршрута 85Г 77километров. Лагерь ровно посередине. Километраж существенный, а сплав этот плохой и подойти может не всем. Ходовых часов много, будет присутствовать некоторая экспрессивность, употребление спиртных напитков, характерные для глазовских походов. Быстрее всего к набору издержек добавиться отвратительная погода. Для «парашютистов» соскочить с маршрута можно, но трудно. Одним словом проект хуевый и именно для застарелых любителей байдарочных сплавов. Мероприятие для спортсменов, метросексуалов, перфекционистов может прийтись не по вкусу. Но не подходят сюда  также кандидатуры девиантных и агрессивных участников.\nВ качестве средств утешения, не состоявшиеся в прошлый раз из-за дождя небесные фонарики и, конечно же, взрыв холодильника (с последующей утилизацией останков, разумеется)! Возможно, потешная часть будет чем-либо дополнена. Попробуем пролоббировать фирменное блюдо – тушеные фаршированные перцы в сметане.\nЗапись в одно окно через Глаза. Организационная коллегия 6 человек. Руководитель Глаз. Топ-менеджер Татьяна Ковган.\n\n

X-ALT-DESC;FMTTYPE=text/html:<!DOCTYPE HTML PUBLIC "-//W3C//DTD HTML 3.2//EN">\n<HTML>\n<HEAD>\n<META NAME="Generator" CONTENT="MS Exchange Server version 08.00.0681.000">\n<TITLE></TITLE>\n</HEAD>\n<BODY>\n<!-- Converted from text/rtf format -->\n\nРыжая Лучоса<br />За моим бортом<br />Светится на солнце,<br />Будто  янтарем.<br /><br />С берегов высоких<br />Дымчатой каймой<br />Ветки нависают,<br />Словно бахромой.<br /><br />И течет Лучоса<br />В сонной тишине.<br />И горят закаты<br />В золотом огне.<br /><br />А заря лениво,<br />Обходя кругом,<br />Обсыпает воду <br />Новым серебром.<br /><br />Жаль короновирус<br />Планы все сломал.<br />Не утихомирюсь,<br />Что Алтай пропал.<br /><br />Брать не стану отпуск<br />Где-то с  месяцок,<br />Благо, что Лучосы<br />Есть еще кусок.<br /><br />Путь этот не близкий.<br />Сходим, не беда.<br />В памяти Лучоса<br />Будет навсегда.<br /><br />Хочет кто Лучосу<br />Дальше продолжать<br />Глазу без вопросов<br />Нужно набирать.<br /><br />Лучоса один из прекрасных и динамичных маршрутов. Река, текущая в высоких берегах с янтарного оттенка глинистой водой. У Веселого Глаза вкусы определенно отличаются от большинства. От подобных маршрутов многие предпочитает держаться подальше. Взять нижнюю Свольну. В каком-то из отчетов даже сплав по ней приравнивали к мазохизму. После того как прошли ее МЫ, завершив маршрут в Верхнедвинске, вся без исключения большая группа в 28 человек получила наилучшие впечатления. То же и Лучоса. Река с заросшими крутыми глинистыми берегами  и сильно закоряженным руслом с мутной водой делает ее малопривлекательной для рыбаков и отдыхающих. Для байдарочного сплава река весьма импозантна.  «Лучоса навсегда» - продолжение «Лучоса, время Ч». Желающим рекомендую ознакомиться с первой частью проекта https://magadan.by/tours/obshchee/85b-13-14-iyunya-2020-chernitsa-luchosa-48km-vo-luchosa-vremya-ch. В нем приняло участие 28 человек.<br />Реализация данного мероприятия назначена на 22-23 августа. Август обычно это время стратегических дальних походов, что стало невозможно в этом году по объективным причинам. И сплав по белоруской речке в августе –  для меня не привычно…<br />Выезд ночью (0.30 22 августа) с перекрестка улиц Одинцова-Лобанка от рыбного магазина Виталюр. Бус пойдет по внутреннему кольцу с остановками Мирошниченко, Боровляны. Обратно отъезд из Витебска 23 августа в воскресенье в 19.00. Дорого. Логистические расходы от 50 рублей. Сплав буде подразумевать определенный набор тягот и страданий. Русло и дальше довольно закоряженно. Воды, естественно, больше, но первые 26 километров до впадения слева Оболянки ее может по-прежнему  не хватать. Пейзажи – фирменные для этой реки. Высокие и утопающие в зелени крутые склоны берегов.  Нигде не видел я столько родников. Интрига особенно сильна для тех, кто начинал с завальной и безводной Черницы, закончить сплав на Западной Двине  среди городских кварталов Витебска. <br />Лодки пластмассовые. С человека по 30 рублей. Или брать свои.<br />Следует поговорить об ограничениях.<br />Протяженность маршрута 85Г 77километров. Лагерь ровно посередине. Километраж существенный, а сплав этот плохой и подойти может не всем. Ходовых часов много, будет присутствовать некоторая экспрессивность, употребление спиртных напитков, характерные для глазовских походов. Быстрее всего к набору издержек добавиться отвратительная погода. Для «парашютистов» соскочить с маршрута можно, но трудно. Одним словом проект хуевый и именно для застарелых любителей байдарочных сплавов. Мероприятие для спортсменов, метросексуалов, перфекционистов может прийтись не по вкусу. Но не подходят сюда  также кандидатуры девиантных и агрессивных участников.<br />В качестве средств утешения, не состоявшиеся в прошлый раз из-за дождя небесные фонарики и, конечно же, взрыв холодильника (с последующей утилизацией останков, разумеется)! Возможно, потешная часть будет чем-либо дополнена. Попробуем пролоббировать фирменное блюдо – тушеные фаршированные перцы в сметане.<br />Запись в одно окно через Глаза. Организационная коллегия 6 человек. Руководитель Глаз. Топ-менеджер Татьяна Ковган.<br /><br />\n\n</BODY>\n</HTML>

LOCATION:
END:VEVENT

END:VCALENDAR
