BEGIN:VCALENDAR
VERSION:2.0
PRODID:-//hacksw/handcal//NONSGML v1.0//EN
BEGIN:VEVENT
UID:b136459e762dbfc5bcb5d2e5e4b5f364
DTSTAMP:20260420T142220Z

DTSTART:20200821T220000
DTEND:20200823T220000
SUMMARY:85Д «Осень Патриархов» 12-13 сентября 2020
DESCRIPTION:И в счастье миг\nИ в трудный час\nГосподь вовек\nОн не оставит нас.\n\nДруг ситный, свой\nТы горизонт расширь.\nМаршрут есть неплохой \nПо речке Стырь.\n\nПритоки Припяти прошли\nПочти мы в большинстве.\nПолесье, хоть и не Бали,\nНо любят его все.\n\nЧто там байдарки,\nНесомненно, -\nБольшие лодки\n Это трансцендентно.\n\nНа каждую мотор \nВозьмем сознательно.\nДо Припяти дойдем\nМы обязательно.\n\nАктив Руководителей \nБудет рачителен.\nКто исполнительный,\nТот предпочтителен.\n\nПолесье Секту ждет\nПопутешествовать,\nА Глаз в состав зовет,\nКто соответствует.\n\nПрирода второй дом,\nЕё я обожаю.\nИ осень каждый год\nЯ ожидаю.\n\nБудет река широкая \nНе трудная.\nВода коричневая,\nМутная.\n\nВетвится русло\nИногда протоками.\nГлазу по вкусу\nПроезжать болотами.\n\nНельзя там соскочить,\nРазве назад, друзья,\nИли все проходить,\nА иначе нельзя!\n\n12-13 сентября 2020 года будет проводиться сплав по рекам Стырь-Припять. Протяженность маршрута 104 км. Выезд в 0.30 12 сентября. Бус будет забирать группу с левого берега припяти ниже железнодорожного моста Лунинец-Сарны 13 сентября в 19.00\nПоход ПВД исключительно для любителей Полесья и болотных рек. В сентябре берега еще все-таки представляют собой джунгли. Это сентябрьское видео. https://www.youtube.com/watch?v=9FrTYGc7Iuo\nФаватер непростой. Река закономерно ветвится, дробится на протоки с запустеванием отдельных и фильтрацией воды через болото. Но основное русло есть всегда (трек обязательно предварительно закачать в навигатор). Разбрестись и потеряться даже в сентябре на Стыри ничего не стоит. Водоносность реки примерно, как и у Свислочи. Однако, у последней сравнительно стабильный водный режим. Наполненность Стыри очень зависит от осадков. Но проходима она круглый год. Для байдарочного сплава река эта великовата, и длинна маршрута уже запредельна для ПВД на веслах. \nПоход будет на моторных рафтах для пенсионеров-патриархов истинных любителей подобных болотных джунглей. Подразумевает многочасовой ход безо всяких ориентиров среди тростника и исполинского вербья всех видов по мутной коричневой воде. Такова река Стырь – правый приток Припяти. Начало сплава от границы с Украиной из большой деревни Ладорож. До лагеря в первый день ехать 72 км. Объявились и старые приятели, которые родом из Полесья. Связались сами, и готовы они посодействовать вплоть до предоставления лодок в распоряжение и их доставки. Может статься, что одну придется взять в качестве буксировщика. Последнее будет решаться исходя из имеющегося состава. Идеальный состав 15-20 участников (не 30, конечно же). Когда рентабельны логистические расходы и такой состав группы еще можно контролировать.\nУчастие только по пенсионному удостоверению. То есть для патриархов. У кого нет пенсионных удостоверений, выписывать у сотрудника службы соцобеспечения (Мацак Сергей). \nВ любом случае этот проект дороже прочих аналогичных, учитывая отдаленность от Минска. Будет проходить он в режиме цейтнота. Подойдет болотная Стырь не всем. Для желающих съездить на Полесье просьба подойти к проекту (глазовскому) взвешенно. Маршрут не подразумевает возможность соскочить. На реке будут несколько населенных пунктов. Но они все же «по ту сторону» Припяти. С учетом мостов через Припять и накрученного километража, ценник за выброску слившихся будет соответствующим. Сентябрь время лайтовое, теплое, однако просьба учесть, что погода может быть закономерно для глазовских походов ненастной.\nТем не менее, два дня проехать по Полесским джунглям многого стоит. Это "Легкие Европы"… Все выполнимо и достигаемо. Физическая выносливость не имеет в этом формате сплава решающего значения. Но стрессоустойчивость и адаптивность весьма актуальны. Мы обязательно этот маршрут пройдем. Для не готовых к болотной реки участников проект подразумевает величайшие разочарование и страдания.\n Появился участник, который будет отмечать с нами мальчишник. Запланирована покупка живого барана. Баран будет доставлен в лагерь вместе с экипажем одного из моторных рафтов. Вместо кавказского кровавого убийства животное гуманно застрелим пулей. Весельчак Глаз обязуется разделать (не готовить). Также планируется плов, шашлык. \nФлот его тип и состав в фазе формирования. Возможности более чем посильные. Желающим пройти Срырь просьба записываться. Вероятно подключение ресурса местного реквизита. Руководитель Глаз. Организационная коллегия: Глаз, Слава-Электрик, Дед Носов, Желтый Палыч и Алексей-Сантехник. \n\nЭто легкие Европы\nВам ответственно скажу.\nНа Полесье съездить чтобы,\nСей проект вам предложу.\n\n«Ни огня, ни черной хаты»\nГлушь, вода навстречу мне,\nТолько версты полосаты\nПопадаются одне…\n\nНа обложках фото из сети. Прустьевая Стырь в сентябре\n\n\n

X-ALT-DESC;FMTTYPE=text/html:<!DOCTYPE HTML PUBLIC "-//W3C//DTD HTML 3.2//EN">\n<HTML>\n<HEAD>\n<META NAME="Generator" CONTENT="MS Exchange Server version 08.00.0681.000">\n<TITLE></TITLE>\n</HEAD>\n<BODY>\n<!-- Converted from text/rtf format -->\n\nИ в счастье миг<br />И в трудный час<br />Господь вовек<br />Он не оставит нас.<br /><br />Друг ситный, свой<br />Ты горизонт расширь.<br />Маршрут есть неплохой <br />По речке Стырь.<br /><br />Притоки Припяти прошли<br />Почти мы в большинстве.<br />Полесье, хоть и не Бали,<br />Но любят его все.<br /><br />Что там байдарки,<br />Несомненно, -<br />Большие лодки<br /> Это трансцендентно.<br /><br />На каждую мотор <br />Возьмем сознательно.<br />До Припяти дойдем<br />Мы обязательно.<br /><br />Актив Руководителей <br />Будет рачителен.<br />Кто исполнительный,<br />Тот предпочтителен.<br /><br />Полесье Секту ждет<br />Попутешествовать,<br />А Глаз в состав зовет,<br />Кто соответствует.<br /><br />Природа второй дом,<br />Её я обожаю.<br />И осень каждый год<br />Я ожидаю.<br /><br />Будет река широкая <br />Не трудная.<br />Вода коричневая,<br />Мутная.<br /><br />Ветвится русло<br />Иногда протоками.<br />Глазу по вкусу<br />Проезжать болотами.<br /><br />Нельзя там соскочить,<br />Разве назад, друзья,<br />Или все проходить,<br />А иначе нельзя!<br /><br />12-13 сентября 2020 года будет проводиться сплав по рекам Стырь-Припять. Протяженность маршрута 104 км. Выезд в 0.30 12 сентября. Бус будет забирать группу с левого берега припяти ниже железнодорожного моста Лунинец-Сарны 13 сентября в 19.00<br />Поход ПВД исключительно для любителей Полесья и болотных рек. В сентябре берега еще все-таки представляют собой джунгли. Это сентябрьское видео. https://www.youtube.com/watch?v=9FrTYGc7Iuo<br />Фаватер непростой. Река закономерно ветвится, дробится на протоки с запустеванием отдельных и фильтрацией воды через болото. Но основное русло есть всегда (трек обязательно предварительно закачать в навигатор). Разбрестись и потеряться даже в сентябре на Стыри ничего не стоит. Водоносность реки примерно, как и у Свислочи. Однако, у последней сравнительно стабильный водный режим. Наполненность Стыри очень зависит от осадков. Но проходима она круглый год. Для байдарочного сплава река эта великовата, и длинна маршрута уже запредельна для ПВД на веслах. <br />Поход будет на моторных рафтах для пенсионеров-патриархов истинных любителей подобных болотных джунглей. Подразумевает многочасовой ход безо всяких ориентиров среди тростника и исполинского вербья всех видов по мутной коричневой воде. Такова река Стырь – правый приток Припяти. Начало сплава от границы с Украиной из большой деревни Ладорож. До лагеря в первый день ехать 72 км. Объявились и старые приятели, которые родом из Полесья. Связались сами, и готовы они посодействовать вплоть до предоставления лодок в распоряжение и их доставки. Может статься, что одну придется взять в качестве буксировщика. Последнее будет решаться исходя из имеющегося состава. Идеальный состав 15-20 участников (не 30, конечно же). Когда рентабельны логистические расходы и такой состав группы еще можно контролировать.<br />Участие только по пенсионному удостоверению. То есть для патриархов. У кого нет пенсионных удостоверений, выписывать у сотрудника службы соцобеспечения (Мацак Сергей). <br />В любом случае этот проект дороже прочих аналогичных, учитывая отдаленность от Минска. Будет проходить он в режиме цейтнота. Подойдет болотная Стырь не всем. Для желающих съездить на Полесье просьба подойти к проекту (глазовскому) взвешенно. Маршрут не подразумевает возможность соскочить. На реке будут несколько населенных пунктов. Но они все же «по ту сторону» Припяти. С учетом мостов через Припять и накрученного километража, ценник за выброску слившихся будет соответствующим. Сентябрь время лайтовое, теплое, однако просьба учесть, что погода может быть закономерно для глазовских походов ненастной.<br />Тем не менее, два дня проехать по Полесским джунглям многого стоит. Это "Легкие Европы"… Все выполнимо и достигаемо. Физическая выносливость не имеет в этом формате сплава решающего значения. Но стрессоустойчивость и адаптивность весьма актуальны. Мы обязательно этот маршрут пройдем. Для не готовых к болотной реки участников проект подразумевает величайшие разочарование и страдания.<br /> Появился участник, который будет отмечать с нами мальчишник. Запланирована покупка живого барана. Баран будет доставлен в лагерь вместе с экипажем одного из моторных рафтов. Вместо кавказского кровавого убийства животное гуманно застрелим пулей. Весельчак Глаз обязуется разделать (не готовить). Также планируется плов, шашлык. <br />Флот его тип и состав в фазе формирования. Возможности более чем посильные. Желающим пройти Срырь просьба записываться. Вероятно подключение ресурса местного реквизита. Руководитель Глаз. Организационная коллегия: Глаз, Слава-Электрик, Дед Носов, Желтый Палыч и Алексей-Сантехник. <br /><br />Это легкие Европы<br />Вам ответственно скажу.<br />На Полесье съездить чтобы,<br />Сей проект вам предложу.<br /><br />«Ни огня, ни черной хаты»<br />Глушь, вода навстречу мне,<br />Только версты полосаты<br />Попадаются одне…<br /><br />На обложках фото из сети. Прустьевая Стырь в сентябре<br /><br /><br />\n\n</BODY>\n</HTML>

LOCATION:
END:VEVENT

END:VCALENDAR
