BEGIN:VCALENDAR
VERSION:2.0
PRODID:-//hacksw/handcal//NONSGML v1.0//EN
BEGIN:VEVENT
UID:f1643043d7cbaac5f31789b0c000ae9e
DTSTAMP:20260421T112339Z

DTSTART:20201121T120000
DTEND:20201122T120000
SUMMARY:86В «Slovechna Siquentia» 21-22.11.2020
DESCRIPTION:И снова хочу предложить вам выбраться на Полесье. Продолжить и, наконец, завершить сплав по реке Словечна! \nМаршрут 44 километра. Для концовки ноября вполне достаточный. Начинается он от границы с Украиной (мелиоративный канал). Сниматься запланировано с трассы Наровля-Вербовичи-Александровка от начала Государственного Природного Радиационно-Экологического Заповедника. Нижняя часть реки позиционирована как лесной маршрут. По ней Словечне, раньше не сплавлялись. Маршрут беларуские водники  стали использовать только второй сезон. Пересечение границы с Украиной и загрязненность территорий радиоактивными цезием 137 и стронцием 90, а также существенная удаленность реки от Минска отпугивают часть туристической аудитории и ограничивают посещение Словечны. Для глазовских ПВД эти факторы не являются препятствующими.  Населенными пунктами она также не запрессингована, что создает маршруту дополнительные бонусы. \nЕжели «Словечна 1» https://magadan.by/tours/rafting/82-slovechna1-15-17-iyunya-2019 проходила в условиях тропической инфернальной жары, то «Slovechna Siquentia» подразумевает значительный холодовой дискомфорт. Мероприятие говняное, для небольшой аудитории. Не подразумевает матрасные формирования. На плохо адаптированных участников и лиц с низкой мотивацией тоже не рассчитано. Дорого, далеко, жестко, но фешенебельно. Расчет на мобильную камерную группу. Выезд в ночь с 20 на 21 ноября. Возвращение 22 ноября 2020 поздно вечером.  \nИмеется предварительный кворум. Желающим просьба записываться.\n

X-ALT-DESC;FMTTYPE=text/html:<!DOCTYPE HTML PUBLIC "-//W3C//DTD HTML 3.2//EN">\n<HTML>\n<HEAD>\n<META NAME="Generator" CONTENT="MS Exchange Server version 08.00.0681.000">\n<TITLE></TITLE>\n</HEAD>\n<BODY>\n<!-- Converted from text/rtf format -->\n\nИ снова хочу предложить вам выбраться на Полесье. Продолжить и, наконец, завершить сплав по реке Словечна! <br />Маршрут 44 километра. Для концовки ноября вполне достаточный. Начинается он от границы с Украиной (мелиоративный канал). Сниматься запланировано с трассы Наровля-Вербовичи-Александровка от начала Государственного Природного Радиационно-Экологического Заповедника. Нижняя часть реки позиционирована как лесной маршрут. По ней Словечне, раньше не сплавлялись. Маршрут беларуские водники  стали использовать только второй сезон. Пересечение границы с Украиной и загрязненность территорий радиоактивными цезием 137 и стронцием 90, а также существенная удаленность реки от Минска отпугивают часть туристической аудитории и ограничивают посещение Словечны. Для глазовских ПВД эти факторы не являются препятствующими.  Населенными пунктами она также не запрессингована, что создает маршруту дополнительные бонусы. <br />Ежели «Словечна 1» https://magadan.by/tours/rafting/82-slovechna1-15-17-iyunya-2019 проходила в условиях тропической инфернальной жары, то «Slovechna Siquentia» подразумевает значительный холодовой дискомфорт. Мероприятие говняное, для небольшой аудитории. Не подразумевает матрасные формирования. На плохо адаптированных участников и лиц с низкой мотивацией тоже не рассчитано. Дорого, далеко, жестко, но фешенебельно. Расчет на мобильную камерную группу. Выезд в ночь с 20 на 21 ноября. Возвращение 22 ноября 2020 поздно вечером.  <br />Имеется предварительный кворум. Желающим просьба записываться.<br />\n\n</BODY>\n</HTML>

LOCATION:
END:VEVENT

END:VCALENDAR
