BEGIN:VCALENDAR
VERSION:2.0
PRODID:-//hacksw/handcal//NONSGML v1.0//EN
BEGIN:VEVENT
UID:9fbc78b5be152983e6dbc76d17727f5e
DTSTAMP:20260420T155429Z

DTSTART:20201226T200000
DTEND:20201227T200000
SUMMARY:86Г «Парк Сульского Периода»
DESCRIPTION:Изношенного Глаза в последнее время окружающее быстро вводит в декомпенсацию. Имеется потребность в ежемесячном снятии стресса. Что в принципе пока успешно проводится. От части для этого и будет организован очередной ПВД, который особенно актуален, чтобы «спустить в унитаз» предновогодний сумбур. \nВ завершение високосного 2020-ого года 26-27 декабря будет проводиться очередной байдарочный ПВД по реке Сула. Река красива. Динамична она своими меняющимися пейзажами. Хвойные леса чередуются с сырыми ольшаниками, луговины с зарослями черемухи. По маршруту встречаются шлюзы, бобровые плотины, мельничные развалины. Сула самая чистая река Минской области. По берегам нет распашных полей, не поддалась она и мелиораторам. В ней даже водится ручьевая форель (рыба эта в Красной Книге Беларуси) . \nМаршрут, вопреки предыдущему ноябрьскому по радиоактивной Словечне, не считается диким. По популярности он немногим уступает Западной Березине, Ислочи, Верхнему Неману, Нарочанке. Посему подавляющее большинство завалов русла пропилены. По берегам не редкость оборудованные стоянки с беседками. В сезон Сула изношена отдыхающими и туристами. Особенно коммерсами. Поэтому такие маршруты предпочтительны для зимы. Хотя и какая по теперешним временам у нас в декабре зима… Самый что ни на есть байдарочный сезон. Тем более удобно, что растительность к тому времени ложится на дно. Не характерны засухи и уровень воды вполне приемлемый.\nСула весьма доступна и более того – любимая река Пьера Вудмана. Также не редко посещаемая Горбиковым и Озеринским! Братья Гетюки в минувшем октябре оставили Глазу на 10 километре запланированного трека закладку.\nПротяженность пути 58 километров. Старт там же, где обожают начинать коммерсы, – мост между деревнями Рудня и Каролина. Финиш на Немане в Криничном. При непредвиденных трудностях сняться можно на десять километров раньше в Зуберово. \nПри всей популярности реки, имеющиеся лоции слабые. Фотоматериала не много. Но интернет изобилует вместо того коммерческими предложениями. \nВодная часть для физически адаптированного контингента. При принятии решения просьба настроится на Глазовский Трэшак. Лагерь примерно в начале 30-ых километров трека. Планируется кроме того участие нескольких матрацев. Учитывая близость от Минска, стоимость мероприятия не высока, а дорога не утомительна. Логистика автомобильная. Для лагеря разрабатывается культурная программа. Отчасти она будет приурочена к Новому Году. Гастрономическая часть в разработке. Для декоративных целей утилизация старинной стиральной машины марки «Riga 17».\nЗапись участников ведет Глаз. Ответственные исполнители приветствуются. \nПриведены фотографии обложки Алексея Горбикова и Виктора Гетюка\n

X-ALT-DESC;FMTTYPE=text/html:<!DOCTYPE HTML PUBLIC "-//W3C//DTD HTML 3.2//EN">\n<HTML>\n<HEAD>\n<META NAME="Generator" CONTENT="MS Exchange Server version 08.00.0681.000">\n<TITLE></TITLE>\n</HEAD>\n<BODY>\n<!-- Converted from text/rtf format -->\n\nИзношенного Глаза в последнее время окружающее быстро вводит в декомпенсацию. Имеется потребность в ежемесячном снятии стресса. Что в принципе пока успешно проводится. От части для этого и будет организован очередной ПВД, который особенно актуален, чтобы «спустить в унитаз» предновогодний сумбур. <br />В завершение високосного 2020-ого года 26-27 декабря будет проводиться очередной байдарочный ПВД по реке Сула. Река красива. Динамична она своими меняющимися пейзажами. Хвойные леса чередуются с сырыми ольшаниками, луговины с зарослями черемухи. По маршруту встречаются шлюзы, бобровые плотины, мельничные развалины. Сула самая чистая река Минской области. По берегам нет распашных полей, не поддалась она и мелиораторам. В ней даже водится ручьевая форель (рыба эта в Красной Книге Беларуси) . <br />Маршрут, вопреки предыдущему ноябрьскому по радиоактивной Словечне, не считается диким. По популярности он немногим уступает Западной Березине, Ислочи, Верхнему Неману, Нарочанке. Посему подавляющее большинство завалов русла пропилены. По берегам не редкость оборудованные стоянки с беседками. В сезон Сула изношена отдыхающими и туристами. Особенно коммерсами. Поэтому такие маршруты предпочтительны для зимы. Хотя и какая по теперешним временам у нас в декабре зима… Самый что ни на есть байдарочный сезон. Тем более удобно, что растительность к тому времени ложится на дно. Не характерны засухи и уровень воды вполне приемлемый.<br />Сула весьма доступна и более того – любимая река Пьера Вудмана. Также не редко посещаемая Горбиковым и Озеринским! Братья Гетюки в минувшем октябре оставили Глазу на 10 километре запланированного трека закладку.<br />Протяженность пути 58 километров. Старт там же, где обожают начинать коммерсы, – мост между деревнями Рудня и Каролина. Финиш на Немане в Криничном. При непредвиденных трудностях сняться можно на десять километров раньше в Зуберово. <br />При всей популярности реки, имеющиеся лоции слабые. Фотоматериала не много. Но интернет изобилует вместо того коммерческими предложениями. <br />Водная часть для физически адаптированного контингента. При принятии решения просьба настроится на Глазовский Трэшак. Лагерь примерно в начале 30-ых километров трека. Планируется кроме того участие нескольких матрацев. Учитывая близость от Минска, стоимость мероприятия не высока, а дорога не утомительна. Логистика автомобильная. Для лагеря разрабатывается культурная программа. Отчасти она будет приурочена к Новому Году. Гастрономическая часть в разработке. Для декоративных целей утилизация старинной стиральной машины марки «Riga 17».<br />Запись участников ведет Глаз. Ответственные исполнители приветствуются. <br />Приведены фотографии обложки Алексея Горбикова и Виктора Гетюка<br />\n\n</BODY>\n</HTML>

LOCATION:
END:VEVENT

END:VCALENDAR
