BEGIN:VCALENDAR
VERSION:2.0
PRODID:-//hacksw/handcal//NONSGML v1.0//EN
BEGIN:VEVENT
UID:15d8e344483facc6c7f4a049a1ab2981
DTSTAMP:20260420T142235Z

DTSTART:20210122T220000
DTEND:20210124T220000
SUMMARY:86Д «Напеу Зямлi Маей» 22-24 января 2021
DESCRIPTION:22 (выезд вечарам)-24 студзеня ад арганізацыі Magadan.by будзе праводзіцца ПВД у пешым фармаце. Працягласць трэка 35+ км. Праходзіць маршрут будзе па перасечанай мясцовасці без населеных пунктаў. Канкрэтны трэк прапанаваць пакуль не магу. Бо ўсе залежыць ад наяўнасці і якасці ледостава на прызначаныя даты. Таксама па меркаваннях, што шлях будзе закранаць часткова рэжымныя тэрыторыі. Сустрэча з людзьмі не маецца на ўвазе. Каб пазбегнуць апошняй, -будзе дадатковым квэстам. З навінак гэтага ПВД ўпершыню будзе выкарыстоўвацца разведка і весціся фотасесія з дапамогай дрона. ПВД першапачаткова рыхтуецца ў камерным фармаце даволі мабільнай групай (або двума, ідучымі збежнымі напрамкамі)... У гэты раз веласіпедыстаў і аўтамабільна-матрацную групу маральнай падтрымкі і тэхнічнага забеспячэння я прапанаваць не магу.\nПершапачаткова заяўляю дрэнныя ўмовы руху. Мясцовасць моцна забалочаная, зарослая хмызняком і заваленая бураломам. Плануюцца таксама пераправы. Сродкі перапраў будуць вызначаны непасрэдна за тыдзень да гэтага пешага праменаду (надзіманая лодка, пакарфт ці няхай гэта будзе сап-дошка). Як элемент флэшмобу форма адзення мінімальна прыкметная. Пры наяўнасці снегу белыя супрацьчумныя касцюмы, без снега адзенне тыпу мілітары на ня вегетатыўны сезон. Не выключаны сустрэчы з дзікімі жывёламі.\nХодиць ваўчык ля ракі \nХоча спиздзiць буракі \nТут насустрач прям з гушчару\nВыпаўзаюць Хадакі .\n\n- Куды йдзете, Хадакі?\n- Мы гуляем уздоуж ракi,\n Па балоце і па полі \nІ па лесе мы прашлi…\n\n Прызадумауся Ваўчара:\n-Буракоу ў вас няма?\nЗасмяялися рабяты:\n-Ты дурны, - зараз зіма..\n\n Прыхадзі сюды ўлетку,\nМы дадзiм табе таблетку\n І тады ты кінеш тэму\n Буракі зімой шукаць…\n\nВоўчык піў турыстау  чай, \nСажрау хлебны каравай.\n Паказаў праз лес дарогу. \nІ уцек у таежны край…\n\nУ шлях пусцились Хадакі\nКлічуць усех з сабою\nУ лесе водятся вауки\nНо яны спакойны…\n\nМагадан витае Вас!\nУ паход гэты прыдзе час,\nДзе вяселаю гурбой ,\nИ Напеу Зямли Маёй.\n\nПа выхадзе з рэжымнай тэрыторыі святочны салют, сцэнка-мініяцюра «Напеу Зямлі Маёй».\nКулінарная праграма прОстая. Вуха з высакародных відаў рыб (будуць набытыя загадзя). Лагістычная частка Аўтамабільная. Вяртанне дадому позна ўвечары ў нядзелю. Для фотоопператора і панарамнага фатографа дарога бясплатна\nМерапрыемства адбудзецца пры любым надвор'і. Па зімовай пешцы я ўжо засумаваў. Нават калі і зіма не зіма. Жадаючым прыняць удзел звяртацца да Глаза.\n                                                                                                           Верш и абразкi      Сяргей Мацак\n             \n

X-ALT-DESC;FMTTYPE=text/html:<!DOCTYPE HTML PUBLIC "-//W3C//DTD HTML 3.2//EN">\n<HTML>\n<HEAD>\n<META NAME="Generator" CONTENT="MS Exchange Server version 08.00.0681.000">\n<TITLE></TITLE>\n</HEAD>\n<BODY>\n<!-- Converted from text/rtf format -->\n\n22 (выезд вечарам)-24 студзеня ад арганізацыі Magadan.by будзе праводзіцца ПВД у пешым фармаце. Працягласць трэка 35+ км. Праходзіць маршрут будзе па перасечанай мясцовасці без населеных пунктаў. Канкрэтны трэк прапанаваць пакуль не магу. Бо ўсе залежыць ад наяўнасці і якасці ледостава на прызначаныя даты. Таксама па меркаваннях, што шлях будзе закранаць часткова рэжымныя тэрыторыі. Сустрэча з людзьмі не маецца на ўвазе. Каб пазбегнуць апошняй, -будзе дадатковым квэстам. З навінак гэтага ПВД ўпершыню будзе выкарыстоўвацца разведка і весціся фотасесія з дапамогай дрона. ПВД першапачаткова рыхтуецца ў камерным фармаце даволі мабільнай групай (або двума, ідучымі збежнымі напрамкамі)... У гэты раз веласіпедыстаў і аўтамабільна-матрацную групу маральнай падтрымкі і тэхнічнага забеспячэння я прапанаваць не магу.<br />Першапачаткова заяўляю дрэнныя ўмовы руху. Мясцовасць моцна забалочаная, зарослая хмызняком і заваленая бураломам. Плануюцца таксама пераправы. Сродкі перапраў будуць вызначаны непасрэдна за тыдзень да гэтага пешага праменаду (надзіманая лодка, пакарфт ці няхай гэта будзе сап-дошка). Як элемент флэшмобу форма адзення мінімальна прыкметная. Пры наяўнасці снегу белыя супрацьчумныя касцюмы, без снега адзенне тыпу мілітары на ня вегетатыўны сезон. Не выключаны сустрэчы з дзікімі жывёламі.<br />Ходиць ваўчык ля ракі <br />Хоча спиздзiць буракі <br />Тут насустрач прям з гушчару<br />Выпаўзаюць Хадакі .<br /><br />- Куды йдзете, Хадакі?<br />- Мы гуляем уздоуж ракi,<br /> Па балоце і па полі <br />І па лесе мы прашлi…<br /><br /> Прызадумауся Ваўчара:<br />-Буракоу ў вас няма?<br />Засмяялися рабяты:<br />-Ты дурны, - зараз зіма..<br /><br /> Прыхадзі сюды ўлетку,<br />Мы дадзiм табе таблетку<br /> І тады ты кінеш тэму<br /> Буракі зімой шукаць…<br /><br />Воўчык піў турыстау  чай, <br />Сажрау хлебны каравай.<br /> Паказаў праз лес дарогу. <br />І уцек у таежны край…<br /><br />У шлях пусцились Хадакі<br />Клічуць усех з сабою<br />У лесе водятся вауки<br />Но яны спакойны…<br /><br />Магадан витае Вас!<br />У паход гэты прыдзе час,<br />Дзе вяселаю гурбой ,<br />И Напеу Зямли Маёй.<br /><br />Па выхадзе з рэжымнай тэрыторыі святочны салют, сцэнка-мініяцюра «Напеу Зямлі Маёй».<br />Кулінарная праграма прОстая. Вуха з высакародных відаў рыб (будуць набытыя загадзя). Лагістычная частка Аўтамабільная. Вяртанне дадому позна ўвечары ў нядзелю. Для фотоопператора і панарамнага фатографа дарога бясплатна<br />Мерапрыемства адбудзецца пры любым надвор'і. Па зімовай пешцы я ўжо засумаваў. Нават калі і зіма не зіма. Жадаючым прыняць удзел звяртацца да Глаза.<br />                                                                                                           Верш и абразкi      Сяргей Мацак<br />             <br />\n\n</BODY>\n</HTML>

LOCATION:
END:VEVENT

END:VCALENDAR
