BEGIN:VCALENDAR
VERSION:2.0
PRODID:-//hacksw/handcal//NONSGML v1.0//EN
BEGIN:VEVENT
UID:a848ed40696ac6b2233f579dd40348ab
DTSTAMP:20260420T142117Z

DTSTART:20210320T210000
DTEND:20210321T210000
SUMMARY:87Б «Маршрутами Мужества»
DESCRIPTION:Для тех, с кем тьма светлее стала, \nС кем все проблемы нипочем.\nИ жизнь поярче заиграла,\nЗажглась безжалостным огнем.\n\nВы видели в лесу зарубки,\nНаше приветствие всем тем,\nКто бродит по тропинкам узким,\nВ походах пеших в темноте!\n\nМы ставим памятные метки,\nВезде, где след наших шагов,\nВ болотах в грунт втыкаем ветки,\nЛепим в горах снеговиков!\n\nПАлим костры с осенних листьев,\nПалатку ставим на корчах.\nЯ шлю приветы всем туристам,\nТаким же Ёбнутым как и я.\n\nПусть светят всем налобным светом\nНаши приметы и значки.\nВсегда мы вместе с вами где-то \nПакуем в гермы рюкзаки.\n\nРека Мужанка на сап-досках\nВнимания моего предмет,\nЭто, пожалуй, не так просто,\nНе байда, не велосипед.\n\nНа берегах реки свободной,\nИз камышей плетем круги,\nТуристы из походов водных,\nПривет получат наш по ним.\n\nМарт месяц голый и холодный,\nЯ с убеждением говорю,\nЕсли в поход поехать водный,\nТо больше всех его люблю!\n\nДрузья, река Мужанка летом\nМелким становится ручьем.\nИ, несомненно, в году этом,\nПо ней на досках мы пойдем.\n\nВ затее мы не пионеры,\nПусть это будет плагиат,\nВ душе же не пенсионеры,\nЛюбому кипишу я рад!\n\nМаршрут начнется с Замужанья.\nЗавалов много на реке.\nНо главное это желание,\nНа досках, - значит налегке!\n\nЧуть не забыл сказать, ребята,\nБыл у меня по отцу дед.\nТак вот, именно в эти даты\nЕму исполнится сто лет.\n\nВ этом проекте не ищите умиротворения, ностальгических вечеров, туристической романтики и размеренного отдыха с пениями у костра. Проект 87Б изначально хуевый.\nПосле  анализа 86*«Любанский Инцидент» от 15 ноября 2020г установлено, что локальные мероприятия как-то сплавы на сап-бордах имеют право быть. Непосредственно в «Любанском Инциденте» собственно инцидент случился на финишной прямой и внешних от нас не зависящих причин. ПВД 87Б «Маршрутами Мужества» будет новый для нас вид сплавов. Это свежее веяние. Такие перемещения, как правило,  короткие, и  по сезонным паводковым рекам, оказывается, практикуются. Пока единично.\n Уровень впечатлений в рамках этого ПВД изначально, как бы ни пошло дело, ожидается высокий. ПВД 87Б будет проводиться по левому притоку Березины – реке Мужанка. Само название реки подразумевает назвать этот уикенд «Маршрутами Мужества». А другого - и быть не может! Тем более что трек начинается из населенного пункта в виде слившихся деревень Замужанье и Мужье. Вне паводка эта река представляет собой канаву-вонючку. Однако по весне и после таяния снегов она превращается в полноценный насыщенный поток. А нынешняя зима обещает обилие воды. Множество завалов, мостков и кладок предопределяют затрату значительного физического ресурса, а порою и склонность к импровизации. Я изначально рассматривал реку Мужанка, как объект для байдарочного похода (с расчетом на сезонный первопроход), но наткнулся на экстраординарные видео. https://yandex.by/video/preview/?text=сплав%20о%20реке%20мужанка&path\nА такое ведь в наших силах повторить. Насыщенность каждого километра русла препятствиями делает не выгодными условия сплава байдарочным экипажем. Как нельзя лучше здесь подойдут сап-борды. В противном случае сап можно взять под мышку и обойти протяженные препятствия по берегу. Группа моральной поддержки и технического обеспечения здесь, в этом формате ПВД, обязательна. С собой в багаж берется только небольшая герма с термосом и разве бутылочкой коньяка (только для согрева и расширения сосудов). \nПодобное в Секте пока не практиковалось. Активный состав участников планируется камерный. То есть небольшая группа идеально в 4-6 человек. Требования к участникам выше, нежели в любой прочий водный поход. Наличие гидрокостюма обязательно. Заброска дешевая – это близко, Минская область. Траты на аренду сапов превосходят таковые на байдарки вдвое. Отсутствие навыка передвижения на них можно компенсировать  склонностью к импровизации. Лагерь в беседке на правом берегу (17 км от старта). Конкуренты на нее в виде отдыхающих в это время года не актуальны. Завершение маршрута будет на разливах Березины. А протяженность последнего 28 километров.\nКроме имеющегося кворума рассмотрю участие в проекте всех желающих. Как матрацев, так и активных туристов. Смельчакам присоединиться на байдарке рекомендую разве бензопилу.\n Даты проведения 20-21 марта\n\n\n\n

X-ALT-DESC;FMTTYPE=text/html:<!DOCTYPE HTML PUBLIC "-//W3C//DTD HTML 3.2//EN">\n<HTML>\n<HEAD>\n<META NAME="Generator" CONTENT="MS Exchange Server version 08.00.0681.000">\n<TITLE></TITLE>\n</HEAD>\n<BODY>\n<!-- Converted from text/rtf format -->\n\nДля тех, с кем тьма светлее стала, <br />С кем все проблемы нипочем.<br />И жизнь поярче заиграла,<br />Зажглась безжалостным огнем.<br /><br />Вы видели в лесу зарубки,<br />Наше приветствие всем тем,<br />Кто бродит по тропинкам узким,<br />В походах пеших в темноте!<br /><br />Мы ставим памятные метки,<br />Везде, где след наших шагов,<br />В болотах в грунт втыкаем ветки,<br />Лепим в горах снеговиков!<br /><br />ПАлим костры с осенних листьев,<br />Палатку ставим на корчах.<br />Я шлю приветы всем туристам,<br />Таким же Ёбнутым как и я.<br /><br />Пусть светят всем налобным светом<br />Наши приметы и значки.<br />Всегда мы вместе с вами где-то <br />Пакуем в гермы рюкзаки.<br /><br />Река Мужанка на сап-досках<br />Внимания моего предмет,<br />Это, пожалуй, не так просто,<br />Не байда, не велосипед.<br /><br />На берегах реки свободной,<br />Из камышей плетем круги,<br />Туристы из походов водных,<br />Привет получат наш по ним.<br /><br />Март месяц голый и холодный,<br />Я с убеждением говорю,<br />Если в поход поехать водный,<br />То больше всех его люблю!<br /><br />Друзья, река Мужанка летом<br />Мелким становится ручьем.<br />И, несомненно, в году этом,<br />По ней на досках мы пойдем.<br /><br />В затее мы не пионеры,<br />Пусть это будет плагиат,<br />В душе же не пенсионеры,<br />Любому кипишу я рад!<br /><br />Маршрут начнется с Замужанья.<br />Завалов много на реке.<br />Но главное это желание,<br />На досках, - значит налегке!<br /><br />Чуть не забыл сказать, ребята,<br />Был у меня по отцу дед.<br />Так вот, именно в эти даты<br />Ему исполнится сто лет.<br /><br />В этом проекте не ищите умиротворения, ностальгических вечеров, туристической романтики и размеренного отдыха с пениями у костра. Проект 87Б изначально хуевый.<br />После  анализа 86*«Любанский Инцидент» от 15 ноября 2020г установлено, что локальные мероприятия как-то сплавы на сап-бордах имеют право быть. Непосредственно в «Любанском Инциденте» собственно инцидент случился на финишной прямой и внешних от нас не зависящих причин. ПВД 87Б «Маршрутами Мужества» будет новый для нас вид сплавов. Это свежее веяние. Такие перемещения, как правило,  короткие, и  по сезонным паводковым рекам, оказывается, практикуются. Пока единично.<br /> Уровень впечатлений в рамках этого ПВД изначально, как бы ни пошло дело, ожидается высокий. ПВД 87Б будет проводиться по левому притоку Березины – реке Мужанка. Само название реки подразумевает назвать этот уикенд «Маршрутами Мужества». А другого - и быть не может! Тем более что трек начинается из населенного пункта в виде слившихся деревень Замужанье и Мужье. Вне паводка эта река представляет собой канаву-вонючку. Однако по весне и после таяния снегов она превращается в полноценный насыщенный поток. А нынешняя зима обещает обилие воды. Множество завалов, мостков и кладок предопределяют затрату значительного физического ресурса, а порою и склонность к импровизации. Я изначально рассматривал реку Мужанка, как объект для байдарочного похода (с расчетом на сезонный первопроход), но наткнулся на экстраординарные видео. https://yandex.by/video/preview/?text=сплав%20о%20реке%20мужанка&path<br />А такое ведь в наших силах повторить. Насыщенность каждого километра русла препятствиями делает не выгодными условия сплава байдарочным экипажем. Как нельзя лучше здесь подойдут сап-борды. В противном случае сап можно взять под мышку и обойти протяженные препятствия по берегу. Группа моральной поддержки и технического обеспечения здесь, в этом формате ПВД, обязательна. С собой в багаж берется только небольшая герма с термосом и разве бутылочкой коньяка (только для согрева и расширения сосудов). <br />Подобное в Секте пока не практиковалось. Активный состав участников планируется камерный. То есть небольшая группа идеально в 4-6 человек. Требования к участникам выше, нежели в любой прочий водный поход. Наличие гидрокостюма обязательно. Заброска дешевая – это близко, Минская область. Траты на аренду сапов превосходят таковые на байдарки вдвое. Отсутствие навыка передвижения на них можно компенсировать  склонностью к импровизации. Лагерь в беседке на правом берегу (17 км от старта). Конкуренты на нее в виде отдыхающих в это время года не актуальны. Завершение маршрута будет на разливах Березины. А протяженность последнего 28 километров.<br />Кроме имеющегося кворума рассмотрю участие в проекте всех желающих. Как матрацев, так и активных туристов. Смельчакам присоединиться на байдарке рекомендую разве бензопилу.<br /> Даты проведения 20-21 марта<br /><br /><br /><br />\n\n</BODY>\n</HTML>

LOCATION:
END:VEVENT

END:VCALENDAR
