BEGIN:VCALENDAR
VERSION:2.0
PRODID:-//hacksw/handcal//NONSGML v1.0//EN
BEGIN:VEVENT
UID:60fc7c0f405ff65ee3de6c510f164012
DTSTAMP:20260420T154458Z

DTSTART:20210220T220000
DTEND:20210221T220000
SUMMARY:87А «Ни хлебом единым»
DESCRIPTION:Жив Магадан не только хлебом.\nБудет поход под стать Дулебам.\nЧем социальная тюрьма,\nЛучше болото и зима!\n\nДай Боже нам, чтоб снег остался,\nПоход чтоб лыжный состоялся.\nЕжЕли оттепель займется,\nИдти тогда пешком придется!\n\nИ нет иной альтернативы,\nЧем через топкий лес прорывы.\nВот это понимаю праздник,  - \nПройти сквозь Припятский Заказник!\n\nНа запад строго будет путь:\nС болота некуда свернуть.\nИ точно так Дулебы были, \nПо мостку реку проходили.\n\nНо есть один нюанс, друзья!\nХодить там, кажется, нельзя…\nЧтобы прошло все тихо-гладко,\nСтарт в темноте будет украдкой.\n\n«Напеу Зямлi» не пустозвон,\nХотя туда не брали дрон.\nПоход тот был отнюдь не скушен,\nТогда дрон нахуй был не нужен.\n\nСредь многочисленных невзгод\nПересекать нам Свиновод!\nФорсИровать реку я рад,\nА кто нести будет пакрафт?!\n\nНе ждите будет что гламурно.\nПрорыв сей станет физкультурным!\nНам не до астмы и ковидов.\nПример есть – Николай Свиридов!\n\nИ будет не до стихоплетства,\nКаждый, пожалуй, заебеться.\nНо все ж любой со мной согласен:\nМесяц февраль всегда прекрасен!\n\nНи хлебом единым жив человек. Я уже слышал в свой адрес упреки, что «мы выживаем, а ты, сука-Глаз только о развлечениях думаешь. Не серьезный человек, алкаш, баловень, штрейкбрехер». С соцами и стареющими созерцателями мне точно не по пути, я даже не успеваю отслеживать их новшества, сленги, термины. \nЗима (не межсезонье) лучшее время для путешествий, особенно регионарных.  И на временные издержки нам нечего смотреть. Словить бы эту нестабильную зиму хотя бы в этом году за хвост…\n20-21 февраля будет проводиться ПВД 87А  «Ни хлебом единым» в лыжном (в зависимости от погоды пешем) формате по территории Припятского Национального Ландшафтного Заказника (до 1996г  одноименного заповедника). Маршрут линейный. Стандартные 36 +\- километров по заболоченной территории. Промежуточных населенных пунктов по треку нет. Идти придется с востока на запад. Имеется множество совпадений с легендарным «Duleby-mix». Совпадений, которые не только настораживают, но даже пугают. Трек 87А «Ни хлебом единым» предварительно не  уступает ПВД 81 А«Duleby-mix» по сложности. Между ними много общего. Одинаковые по протяженности они, да и по направлению тоже. И более того придется форсировать речку Свиновод. А  она точно такая же размерами, как и Дулебка. С той, конечно, разницей, что Свиновод течет на север, а Дулебка на юг. \nСостав группы 4 + (до 10) человека. В отличие от похода ПВД 81 А«Duleby-mix» железной дороги рядом нет. Здесь нельзя вернуться назад или пойти, хоть и со значительным опозданием ценою в день перпендикулярно к железке. Нет, друзья, и цепочки дюн, как то было при «Прорыве через Ольманы» или при аналогичных условиях в Выгонощанском Заказнике. \nВыход на трек будет обязательно в темноте. На изучение юридических вопросов посещения Припятского Ландшафтного Заказника просто нет время. Да и изучать незачем. Вопреки «Напеву Зямлi Маёй», здесь не молодой лес, а в основном болото. Территория посвободнее от растительности и далеко просматривается. Более того объект режимный. Нам могут устроить обструкцию как природоохранная, так и пограничная служба. Но они нас не поймают! С собой возьмем дрон. Я в предвкушении. Ни хлебом единым жив человек. \nДля большинства\nКовид, Белмаркет, Лукашенко, ожирение…\nА как по мне, -\nТак лучше чрез заказник прохождение.\nИнтересующимся  участие согласовывать с Глазом. Колеблющимся кандидатам посоветую склониться в сторону «нет». В этом ПВД все будет по-настоящему. \n\n

X-ALT-DESC;FMTTYPE=text/html:<!DOCTYPE HTML PUBLIC "-//W3C//DTD HTML 3.2//EN">\n<HTML>\n<HEAD>\n<META NAME="Generator" CONTENT="MS Exchange Server version 08.00.0681.000">\n<TITLE></TITLE>\n</HEAD>\n<BODY>\n<!-- Converted from text/rtf format -->\n\nЖив Магадан не только хлебом.<br />Будет поход под стать Дулебам.<br />Чем социальная тюрьма,<br />Лучше болото и зима!<br /><br />Дай Боже нам, чтоб снег остался,<br />Поход чтоб лыжный состоялся.<br />ЕжЕли оттепель займется,<br />Идти тогда пешком придется!<br /><br />И нет иной альтернативы,<br />Чем через топкий лес прорывы.<br />Вот это понимаю праздник,  - <br />Пройти сквозь Припятский Заказник!<br /><br />На запад строго будет путь:<br />С болота некуда свернуть.<br />И точно так Дулебы были, <br />По мостку реку проходили.<br /><br />Но есть один нюанс, друзья!<br />Ходить там, кажется, нельзя…<br />Чтобы прошло все тихо-гладко,<br />Старт в темноте будет украдкой.<br /><br />«Напеу Зямлi» не пустозвон,<br />Хотя туда не брали дрон.<br />Поход тот был отнюдь не скушен,<br />Тогда дрон нахуй был не нужен.<br /><br />Средь многочисленных невзгод<br />Пересекать нам Свиновод!<br />ФорсИровать реку я рад,<br />А кто нести будет пакрафт?!<br /><br />Не ждите будет что гламурно.<br />Прорыв сей станет физкультурным!<br />Нам не до астмы и ковидов.<br />Пример есть – Николай Свиридов!<br /><br />И будет не до стихоплетства,<br />Каждый, пожалуй, заебеться.<br />Но все ж любой со мной согласен:<br />Месяц февраль всегда прекрасен!<br /><br />Ни хлебом единым жив человек. Я уже слышал в свой адрес упреки, что «мы выживаем, а ты, сука-Глаз только о развлечениях думаешь. Не серьезный человек, алкаш, баловень, штрейкбрехер». С соцами и стареющими созерцателями мне точно не по пути, я даже не успеваю отслеживать их новшества, сленги, термины. <br />Зима (не межсезонье) лучшее время для путешествий, особенно регионарных.  И на временные издержки нам нечего смотреть. Словить бы эту нестабильную зиму хотя бы в этом году за хвост…<br />20-21 февраля будет проводиться ПВД 87А  «Ни хлебом единым» в лыжном (в зависимости от погоды пешем) формате по территории Припятского Национального Ландшафтного Заказника (до 1996г  одноименного заповедника). Маршрут линейный. Стандартные 36 +\- километров по заболоченной территории. Промежуточных населенных пунктов по треку нет. Идти придется с востока на запад. Имеется множество совпадений с легендарным «Duleby-mix». Совпадений, которые не только настораживают, но даже пугают. Трек 87А «Ни хлебом единым» предварительно не  уступает ПВД 81 А«Duleby-mix» по сложности. Между ними много общего. Одинаковые по протяженности они, да и по направлению тоже. И более того придется форсировать речку Свиновод. А  она точно такая же размерами, как и Дулебка. С той, конечно, разницей, что Свиновод течет на север, а Дулебка на юг. <br />Состав группы 4 + (до 10) человека. В отличие от похода ПВД 81 А«Duleby-mix» железной дороги рядом нет. Здесь нельзя вернуться назад или пойти, хоть и со значительным опозданием ценою в день перпендикулярно к железке. Нет, друзья, и цепочки дюн, как то было при «Прорыве через Ольманы» или при аналогичных условиях в Выгонощанском Заказнике. <br />Выход на трек будет обязательно в темноте. На изучение юридических вопросов посещения Припятского Ландшафтного Заказника просто нет время. Да и изучать незачем. Вопреки «Напеву Зямлi Маёй», здесь не молодой лес, а в основном болото. Территория посвободнее от растительности и далеко просматривается. Более того объект режимный. Нам могут устроить обструкцию как природоохранная, так и пограничная служба. Но они нас не поймают! С собой возьмем дрон. Я в предвкушении. Ни хлебом единым жив человек. <br />Для большинства<br />Ковид, Белмаркет, Лукашенко, ожирение…<br />А как по мне, -<br />Так лучше чрез заказник прохождение.<br />Интересующимся  участие согласовывать с Глазом. Колеблющимся кандидатам посоветую склониться в сторону «нет». В этом ПВД все будет по-настоящему. <br /><br />\n\n</BODY>\n</HTML>

LOCATION:
END:VEVENT

END:VCALENDAR
