BEGIN:VCALENDAR
VERSION:2.0
PRODID:-//hacksw/handcal//NONSGML v1.0//EN
BEGIN:VEVENT
UID:81fce04cea10e76a592fff5accc3a133
DTSTAMP:20260420T142241Z

DTSTART:20210522T090000
DTEND:20210523T090000
SUMMARY:88А «Slovechna Expleto»
DESCRIPTION:Недавно в нашей коллекции Беларуских рек на одну стало больше. Жемчужина Полесья – река Словечна.\nПесчаные берега и обрывы. Реликтовые дубы, оторванность реки от антропогенных факторов, да еще и радиация по берегам создают непревзойденную атмосферу. Май месяц буйствования на Полесье зелени. Еще не должна до меженного уровня упасть вода. А она характерного кирпичного цвета. Более того в это время массово выползают на берег болотные черепахи. В наших предыдущих походах на Полесье мы их встречали. \nВпечатленные заключительной частью маршрута в ноябре 2020 года мы решили не откладывать этот проект в долгий ящик и  реку, младшую сестру Уборти непременно повторить. Не то чтобы повторить, а продолжить и завершить. Столкнулись мы в ноябре с неожиданным препятствием – сверхзакоряженность русла. По маю ожидается в большей или меньшей степени, что этот фактор нивелируется. Иначе фактическая траектория вдвое превосходит расстояние по руслу. \nСроки проведения 22-23 мая. Проект двухдневный. Возвращаться будем ночью. Старт на том же замечательном канале с бобровыми плотинами. Финиш – трасса Е 37 (граница с БГПРЭЗ). Дальше уже нельзя.\nЭстетично-художественная компонента похода особенно высока. Мы впечатлены были, будучи не в вегетативный сезон – ноябрь. Хотя самое, казалось бы унылое время. Желающим просьба записываться. \nФотографии обложки из сети\n

X-ALT-DESC;FMTTYPE=text/html:<!DOCTYPE HTML PUBLIC "-//W3C//DTD HTML 3.2//EN">\n<HTML>\n<HEAD>\n<META NAME="Generator" CONTENT="MS Exchange Server version 08.00.0681.000">\n<TITLE></TITLE>\n</HEAD>\n<BODY>\n<!-- Converted from text/rtf format -->\n\nНедавно в нашей коллекции Беларуских рек на одну стало больше. Жемчужина Полесья – река Словечна.<br />Песчаные берега и обрывы. Реликтовые дубы, оторванность реки от антропогенных факторов, да еще и радиация по берегам создают непревзойденную атмосферу. Май месяц буйствования на Полесье зелени. Еще не должна до меженного уровня упасть вода. А она характерного кирпичного цвета. Более того в это время массово выползают на берег болотные черепахи. В наших предыдущих походах на Полесье мы их встречали. <br />Впечатленные заключительной частью маршрута в ноябре 2020 года мы решили не откладывать этот проект в долгий ящик и  реку, младшую сестру Уборти непременно повторить. Не то чтобы повторить, а продолжить и завершить. Столкнулись мы в ноябре с неожиданным препятствием – сверхзакоряженность русла. По маю ожидается в большей или меньшей степени, что этот фактор нивелируется. Иначе фактическая траектория вдвое превосходит расстояние по руслу. <br />Сроки проведения 22-23 мая. Проект двухдневный. Возвращаться будем ночью. Старт на том же замечательном канале с бобровыми плотинами. Финиш – трасса Е 37 (граница с БГПРЭЗ). Дальше уже нельзя.<br />Эстетично-художественная компонента похода особенно высока. Мы впечатлены были, будучи не в вегетативный сезон – ноябрь. Хотя самое, казалось бы унылое время. Желающим просьба записываться. <br />Фотографии обложки из сети<br />\n\n</BODY>\n</HTML>

LOCATION:
END:VEVENT

END:VCALENDAR
