BEGIN:VCALENDAR
VERSION:2.0
PRODID:-//hacksw/handcal//NONSGML v1.0//EN
BEGIN:VEVENT
UID:d95d9d1da869db800e619592cc27fe34
DTSTAMP:20260420T142117Z

DTSTART:20210625T200000
DTEND:20210628T200000
SUMMARY:88 «Юдоль Ущная»
DESCRIPTION:Пусть не смущает дебильное название. Ниже все разъясню.\nВ прошлом году обещал общественности пройти Дрису, описать, отснять материал. Давно хотел по ней сплавиться. Но раз идти такую реку, то от ее истока. Вытекает она из озера Дриссы. В нее входит другая река. Течет на юг из Псковской области. Название ей Уща. Естественно, если проходить Дрису, то именно с её логичным началом - Ущей.\nМаршрут запланирован на числа 25 (вечер пятницы) -28 июня (поздний вечер понедельника). Это будет сплав на байдарках. Протяженность 81 километр. Река течет вне населенки. Возможности схода с маршрута нет. Отсутствие мобильной связи гарантировано. Берега лесные или болотистая пойма ограниченная лесом по коренному берегу долины. Летом актуально зарастание русла растительностью.\nВместе с тем маршрут по Уще на слуху, хоть описан он не достаточно и фотоматериал в сети предоставлен скудно. Возможно, Уща была раньше популярна до начала девяностых (время гибели старого совдеповского туризма), а забыли про неё теперь, когда уже развиты гаджеты и фототехника. \nДруг и товарищ, апологет робинзонад, репортер, турист, натуралист и романтик дискомфорта Тихомиров Кирилл, естественно, по Уще сплавиться уже успел. Начал нетривиально с ее левого притока Рущеры. По предоставленным материалам это нечто типа ручья в глубокой лесной балке со всеми вытекающими. До таких сплавов я, пожалуй, не тороват. Поэтому в проекте 88 подобной экзотики не предлагаю. Уща достаточно полноводна. Воды должно хватить при любой погоде. \nЖивописность и оторванность от социалки гарантирую. Июнь не лучшее время для байдарочных сплавов. Инфернальная жара может сочетаться с тяжелыми нападками кровососущих насекомых.\nЖелающим просьба записываться. Акцентирую внимание, что сплав не два, а три дня. Дорого. Состав предварительно планируется камерный.\n                                                                                                                       Фото к анонсу из сети\n\n\n\n

X-ALT-DESC;FMTTYPE=text/html:<!DOCTYPE HTML PUBLIC "-//W3C//DTD HTML 3.2//EN">\n<HTML>\n<HEAD>\n<META NAME="Generator" CONTENT="MS Exchange Server version 08.00.0681.000">\n<TITLE></TITLE>\n</HEAD>\n<BODY>\n<!-- Converted from text/rtf format -->\n\nПусть не смущает дебильное название. Ниже все разъясню.<br />В прошлом году обещал общественности пройти Дрису, описать, отснять материал. Давно хотел по ней сплавиться. Но раз идти такую реку, то от ее истока. Вытекает она из озера Дриссы. В нее входит другая река. Течет на юг из Псковской области. Название ей Уща. Естественно, если проходить Дрису, то именно с её логичным началом - Ущей.<br />Маршрут запланирован на числа 25 (вечер пятницы) -28 июня (поздний вечер понедельника). Это будет сплав на байдарках. Протяженность 81 километр. Река течет вне населенки. Возможности схода с маршрута нет. Отсутствие мобильной связи гарантировано. Берега лесные или болотистая пойма ограниченная лесом по коренному берегу долины. Летом актуально зарастание русла растительностью.<br />Вместе с тем маршрут по Уще на слуху, хоть описан он не достаточно и фотоматериал в сети предоставлен скудно. Возможно, Уща была раньше популярна до начала девяностых (время гибели старого совдеповского туризма), а забыли про неё теперь, когда уже развиты гаджеты и фототехника. <br />Друг и товарищ, апологет робинзонад, репортер, турист, натуралист и романтик дискомфорта Тихомиров Кирилл, естественно, по Уще сплавиться уже успел. Начал нетривиально с ее левого притока Рущеры. По предоставленным материалам это нечто типа ручья в глубокой лесной балке со всеми вытекающими. До таких сплавов я, пожалуй, не тороват. Поэтому в проекте 88 подобной экзотики не предлагаю. Уща достаточно полноводна. Воды должно хватить при любой погоде. <br />Живописность и оторванность от социалки гарантирую. Июнь не лучшее время для байдарочных сплавов. Инфернальная жара может сочетаться с тяжелыми нападками кровососущих насекомых.<br />Желающим просьба записываться. Акцентирую внимание, что сплав не два, а три дня. Дорого. Состав предварительно планируется камерный.<br />                                                                                                                       Фото к анонсу из сети<br /><br /><br /><br />\n\n</BODY>\n</HTML>

LOCATION:
END:VEVENT

END:VCALENDAR
