BEGIN:VCALENDAR
VERSION:2.0
PRODID:-//hacksw/handcal//NONSGML v1.0//EN
BEGIN:VEVENT
UID:90c30ea386392bd30729105b6acd230a
DTSTAMP:20260420T142627Z

DTSTART:20210327T100000
DTEND:20210327T170000
SUMMARY:Голубая лента Свислочи.
DESCRIPTION:Все мы любим водные походы. Я тоже. И благодаря Алексею - это мой четвертый жизненный наркотик. Нужно ширнуться рекой, веслом, всплеском воды, да и засиделся я без событий.
В далекие времена люди перемещались между Европой и Америкой морским путем и судно которое совершало рейс быстрее всех, то есть ставило рекорд- получало приз. Голубую ленту Атлантики. Экипаж имел право вплетать в бескозырку голубые ленточки, а судно нести их на мачтах.
Река Свислочь от Шабанов до Караваево еще нами не пройдена. Вот я и решил пройти этот участок, но с фиксацией времени. По ашчушчэниям эти 43 км займут 7 часов ходу, если добавить остановки, то все 8. Чтобы все было чэстна я предлагаю независимой комиссии явиться часов в 10.00 под мост МКАД в Шабанах и зафиксировать отплытие. То есть момент когда байдарка отчалила от берега. Второй независимый эксперт будет фиксировать время прибытия под мост в Караваево. В итоге получим некоторое время. 
Да. Борзо. Но судно, на котором мы пойдем ( с Озеринским я договорился) может нести на себе синюю или голубую ленту, экипаж тоже может себя обозначить в водных походах данным атрибутом. До побития рекорда конечно.
Напарника в байду себе еще не нашел, но одного человека поставил перед фактом, что он в экипаже. Если есть желающие 27.03 зафиксировать отплытие, то приглашаю.

X-ALT-DESC;FMTTYPE=text/html:<!DOCTYPE HTML PUBLIC "-//W3C//DTD HTML 3.2//EN">\n<HTML>\n<HEAD>\n<META NAME="Generator" CONTENT="MS Exchange Server version 08.00.0681.000">\n<TITLE></TITLE>\n</HEAD>\n<BODY>\n<!-- Converted from text/rtf format -->\n\nВсе мы любим водные походы. Я тоже. И благодаря Алексею - это мой четвертый жизненный наркотик. Нужно ширнуться рекой, веслом, всплеском воды, да и засиделся я без событий.
В далекие времена люди перемещались между Европой и Америкой морским путем и судно которое совершало рейс быстрее всех, то есть ставило рекорд- получало приз. Голубую ленту Атлантики. Экипаж имел право вплетать в бескозырку голубые ленточки, а судно нести их на мачтах.
Река Свислочь от Шабанов до Караваево еще нами не пройдена. Вот я и решил пройти этот участок, но с фиксацией времени. По ашчушчэниям эти 43 км займут 7 часов ходу, если добавить остановки, то все 8. Чтобы все было чэстна я предлагаю независимой комиссии явиться часов в 10.00 под мост МКАД в Шабанах и зафиксировать отплытие. То есть момент когда байдарка отчалила от берега. Второй независимый эксперт будет фиксировать время прибытия под мост в Караваево. В итоге получим некоторое время. 
Да. Борзо. Но судно, на котором мы пойдем ( с Озеринским я договорился) может нести на себе синюю или голубую ленту, экипаж тоже может себя обозначить в водных походах данным атрибутом. До побития рекорда конечно.
Напарника в байду себе еще не нашел, но одного человека поставил перед фактом, что он в экипаже. Если есть желающие 27.03 зафиксировать отплытие, то приглашаю.\n\n</BODY>\n</HTML>

LOCATION:
END:VEVENT

END:VCALENDAR
