BEGIN:VCALENDAR
VERSION:2.0
PRODID:-//hacksw/handcal//NONSGML v1.0//EN
BEGIN:VEVENT
UID:fa8062895c1bc29c9e842b528de7b73c
DTSTAMP:20260420T142652Z

DTSTART:20210509T080000
DTEND:20210511T200000
SUMMARY:Три по пятьдесят. Взболтать но не смешивать. 
DESCRIPTION:На длинные майские выходные приглашаем в велопоход.\nМаршрут пройдет в регионе между Березиной и Лукомльским озером. \nВ программе - посещение Березинского заповедника, экологической тропы и локального зоопарка. \nТрек не сложный. Подойдет всем, кто может проехать на велосипеде 50 км в день. \nСтарт из Минска (будет автобусная заброска). Финиш в Крупках и далее на электричке. \nПо вопросам участия писать Смирнову. \n

X-ALT-DESC;FMTTYPE=text/html:<!DOCTYPE HTML PUBLIC "-//W3C//DTD HTML 3.2//EN">\n<HTML>\n<HEAD>\n<META NAME="Generator" CONTENT="MS Exchange Server version 08.00.0681.000">\n<TITLE></TITLE>\n</HEAD>\n<BODY>\n<!-- Converted from text/rtf format -->\n\nНа длинные майские выходные приглашаем в велопоход.<br />Маршрут пройдет в регионе между Березиной и Лукомльским озером. <br />В программе - посещение Березинского заповедника, экологической тропы и локального зоопарка. <br />Трек не сложный. Подойдет всем, кто может проехать на велосипеде 50 км в день. <br />Старт из Минска (будет автобусная заброска). Финиш в Крупках и далее на электричке. <br />По вопросам участия писать Смирнову. <br />\n\n</BODY>\n</HTML>

LOCATION:
END:VEVENT

END:VCALENDAR
