BEGIN:VCALENDAR
VERSION:2.0
PRODID:-//hacksw/handcal//NONSGML v1.0//EN
BEGIN:VEVENT
UID:df7d9bfe334d720df2ea0984ba3182ef
DTSTAMP:20260420T142223Z

DTSTART:20211030T130000
DTEND:20211031T130000
SUMMARY:90А «К Лелю с Укулеле» 30-31 октября 2021
DESCRIPTION:Вниманием мы миновали Гродненскую область. В неё все эти годы доводилось паломничать наименее часто. Крепко заинтересовали меня заброшенные полигоны в районе агрогородка Поречье (это на север от Гродно). Незаселенные верховья Котры. Опросил я страстного велолюбителя, который родом из Гродно на предмет, как тАм. Ответ был довольно безапелляционный. Сплошные пески. С велосипедом севернее Гродно делать нечего.\nЗначит, едем на мотоциклах (если кто-то раздобудет, можно и на квадроциклах). В планах их взять в аренду, зарезервированы шесть. А у некоторых участников они имеются в личном пользовании.  Вне дорог общего назначения на полях правами категории А можно пренебречь. Суточная аренда техники 60-120 рублей. Маршрут, который я разработал асфальт только пересекает, самый минимум содержит гравеек, в основном будет представлен лесными дорогами, полями да грунтовыми проселками. Доставка к месту старта на лафете (аренда 65 рублей в сутки). \nБескрайние убранные нивы Щучинского района будут следующим достоинством пасторального октябрьского маршрута. Трек проходит прямо по ним (с привязкой, конечно, к полевым дорогам). Летающая в осеннем воздухе паутина в сочетание с ароматными выхлопами бензина оставит в душе неизгладимые впечатления.\nВ первый день проехать придется 110 км. Во второй день 88.\nПосле трек забегает на левый берег Немана. Принеманские проселочные дороги, как правило песок. Следующий этап – полигон юго-западнее Березовки. Туда я тоже давно хотел попасть. Но как же на велосипеде, когда с Гугл Земли и то угадывается, что там сплошной песок.\nМаршрут завершается в Березовке подле стеклозавода Неман. От Поречья 198 километров пути. Больше, пожалуй, для дебюта и не надо. \nР.S.\n1 ноября в понедельник Глазу не звонить\n31 октября Хэллоуин. Но праздник это американский, ничего общего не имеющий со славянской мифологией. Да и когда-то он у нас уже был. С Татьяной Ковган мы придумали новую тематику. Я напишу пьесу с участием легкомысленного и веселого славянского божества Леля (образ скорее всего создан писателями искусственно). Живет он в лесу и играет на свирели. Мне подарят гитару укулеле (хозяин от нее хочет избавится). Актер на роль персонажа Лель есть. И играть он на четырехструнной гитаре как раз умеет. Её я потом презентую в общественный фонд Секты. А премьера пьесы состоится в лагере ( река Неман возле Орли).\nГруппа моральной поддержки, технического обеспечения, велосипедисты, да и просто наблюдатели вполне могут принять парциальное участие в этом безобразии. Более того запланировано две аранжировки - Король и Шут "Мотоцикл" и Сектор Газа "Ява".\nМероприятие не из дешевых. Его организация тоже требует немало душевных сил. Поэтому настолько заранее и заявляется. \nНа обложке фото из сети\n\n

X-ALT-DESC;FMTTYPE=text/html:<!DOCTYPE HTML PUBLIC "-//W3C//DTD HTML 3.2//EN">\n<HTML>\n<HEAD>\n<META NAME="Generator" CONTENT="MS Exchange Server version 08.00.0681.000">\n<TITLE></TITLE>\n</HEAD>\n<BODY>\n<!-- Converted from text/rtf format -->\n\nВниманием мы миновали Гродненскую область. В неё все эти годы доводилось паломничать наименее часто. Крепко заинтересовали меня заброшенные полигоны в районе агрогородка Поречье (это на север от Гродно). Незаселенные верховья Котры. Опросил я страстного велолюбителя, который родом из Гродно на предмет, как тАм. Ответ был довольно безапелляционный. Сплошные пески. С велосипедом севернее Гродно делать нечего.<br />Значит, едем на мотоциклах (если кто-то раздобудет, можно и на квадроциклах). В планах их взять в аренду, зарезервированы шесть. А у некоторых участников они имеются в личном пользовании.  Вне дорог общего назначения на полях правами категории А можно пренебречь. Суточная аренда техники 60-120 рублей. Маршрут, который я разработал асфальт только пересекает, самый минимум содержит гравеек, в основном будет представлен лесными дорогами, полями да грунтовыми проселками. Доставка к месту старта на лафете (аренда 65 рублей в сутки). <br />Бескрайние убранные нивы Щучинского района будут следующим достоинством пасторального октябрьского маршрута. Трек проходит прямо по ним (с привязкой, конечно, к полевым дорогам). Летающая в осеннем воздухе паутина в сочетание с ароматными выхлопами бензина оставит в душе неизгладимые впечатления.<br />В первый день проехать придется 110 км. Во второй день 88.<br />После трек забегает на левый берег Немана. Принеманские проселочные дороги, как правило песок. Следующий этап – полигон юго-западнее Березовки. Туда я тоже давно хотел попасть. Но как же на велосипеде, когда с Гугл Земли и то угадывается, что там сплошной песок.<br />Маршрут завершается в Березовке подле стеклозавода Неман. От Поречья 198 километров пути. Больше, пожалуй, для дебюта и не надо. <br />Р.S.<br />1 ноября в понедельник Глазу не звонить<br />31 октября Хэллоуин. Но праздник это американский, ничего общего не имеющий со славянской мифологией. Да и когда-то он у нас уже был. С Татьяной Ковган мы придумали новую тематику. Я напишу пьесу с участием легкомысленного и веселого славянского божества Леля (образ скорее всего создан писателями искусственно). Живет он в лесу и играет на свирели. Мне подарят гитару укулеле (хозяин от нее хочет избавится). Актер на роль персонажа Лель есть. И играть он на четырехструнной гитаре как раз умеет. Её я потом презентую в общественный фонд Секты. А премьера пьесы состоится в лагере ( река Неман возле Орли).<br />Группа моральной поддержки, технического обеспечения, велосипедисты, да и просто наблюдатели вполне могут принять парциальное участие в этом безобразии. Более того запланировано две аранжировки - Король и Шут "Мотоцикл" и Сектор Газа "Ява".<br />Мероприятие не из дешевых. Его организация тоже требует немало душевных сил. Поэтому настолько заранее и заявляется. <br />На обложке фото из сети<br /><br />\n\n</BODY>\n</HTML>

LOCATION:
END:VEVENT

END:VCALENDAR
