BEGIN:VCALENDAR
VERSION:2.0
PRODID:-//hacksw/handcal//NONSGML v1.0//EN
BEGIN:VEVENT
UID:6f360c11529d215eb91b153ac05835ea
DTSTAMP:20260420T142225Z

DTSTART:20210925T200000
DTEND:20210926T200000
SUMMARY:89Б. Дрисливый 2. Бархатный Сезон
DESCRIPTION:Сентябрь – бархатный сезон всякого отдыха и региона. Обычно самый тихий месяц в году. 25-26 сентября будет проводится завершение проекта Уща-Дрисса-Западная Двина. Напоминаю 88-ой поход «Юдоль Ущная»  - начало проекта: 81 км мы прошли по Уще-Дриссе на байдарках. 89А «Дрисливый 1» - его продолжение: 97 километров мы прошли по Дриссе на сплотке моторка-рафт. Оставшиеся 75 километров от трассы Полоцк-Опочка до Леонполя и придутся на завершение проекта - ПВД 89Б. \nРека Дрисса с чистой водой, не засраными берегами, безлюдна и лесиста. В большом обилии обитает широкопалый рак. В первом походе мы их видели. В первом и втором походах группа была съедена кровососущими насекомыми, в частности слепнями, заживо. У всех участников группы отмечались явления табанидоза. Но сентябрь – комфортный месяц! Этого трэшака не будет\nДрисса великовата для байдарки. Да и расстояния в рамках ПВД значительные, чтобы идти на весельном ходу. 89Б будет пройден на рафтах. В рафт теперь содим пассажиров на треть меньше, моторы берем на треть мощнее. В сравнении с дебютным 2020-ым годом по Дриссе мы ехали на этот раз оперативнее и четко контролируя расстояние и время. На Дриссу в состав допускаются дрисливые участники, в том числе пенсионеры и параолимпийцы. Заранее предупреждаю, что участник может быть рекрутирован для каких-либо общественных работ.\nУчитывая необходимость взятия в аренду значительного количества наименований, длинный логистический маршрут, общественный сбор значительный – порядка 150 рублей. При самой интенсивной рационализации, оптимизации и экономии, урезать расходы на общественный сбор возможно не более чем на четверть.\nЖелающим просьба записываться (у Глаза). Мотористы, водители, музыканты, повара и прочие инициативные лица в приоритете. У кого нет - приобрести пенсионные удостоверения!\nНа обложке фото раков наше, фото реки из сети\n

X-ALT-DESC;FMTTYPE=text/html:<!DOCTYPE HTML PUBLIC "-//W3C//DTD HTML 3.2//EN">\n<HTML>\n<HEAD>\n<META NAME="Generator" CONTENT="MS Exchange Server version 08.00.0681.000">\n<TITLE></TITLE>\n</HEAD>\n<BODY>\n<!-- Converted from text/rtf format -->\n\nСентябрь – бархатный сезон всякого отдыха и региона. Обычно самый тихий месяц в году. 25-26 сентября будет проводится завершение проекта Уща-Дрисса-Западная Двина. Напоминаю 88-ой поход «Юдоль Ущная»  - начало проекта: 81 км мы прошли по Уще-Дриссе на байдарках. 89А «Дрисливый 1» - его продолжение: 97 километров мы прошли по Дриссе на сплотке моторка-рафт. Оставшиеся 75 километров от трассы Полоцк-Опочка до Леонполя и придутся на завершение проекта - ПВД 89Б. <br />Река Дрисса с чистой водой, не засраными берегами, безлюдна и лесиста. В большом обилии обитает широкопалый рак. В первом походе мы их видели. В первом и втором походах группа была съедена кровососущими насекомыми, в частности слепнями, заживо. У всех участников группы отмечались явления табанидоза. Но сентябрь – комфортный месяц! Этого трэшака не будет<br />Дрисса великовата для байдарки. Да и расстояния в рамках ПВД значительные, чтобы идти на весельном ходу. 89Б будет пройден на рафтах. В рафт теперь содим пассажиров на треть меньше, моторы берем на треть мощнее. В сравнении с дебютным 2020-ым годом по Дриссе мы ехали на этот раз оперативнее и четко контролируя расстояние и время. На Дриссу в состав допускаются дрисливые участники, в том числе пенсионеры и параолимпийцы. Заранее предупреждаю, что участник может быть рекрутирован для каких-либо общественных работ.<br />Учитывая необходимость взятия в аренду значительного количества наименований, длинный логистический маршрут, общественный сбор значительный – порядка 150 рублей. При самой интенсивной рационализации, оптимизации и экономии, урезать расходы на общественный сбор возможно не более чем на четверть.<br />Желающим просьба записываться (у Глаза). Мотористы, водители, музыканты, повара и прочие инициативные лица в приоритете. У кого нет - приобрести пенсионные удостоверения!<br />На обложке фото раков наше, фото реки из сети<br />\n\n</BODY>\n</HTML>

LOCATION:
END:VEVENT

END:VCALENDAR
