BEGIN:VCALENDAR
VERSION:2.0
PRODID:-//hacksw/handcal//NONSGML v1.0//EN
BEGIN:VEVENT
UID:0af1872484df107a18e35a7b9c6b9485
DTSTAMP:20260421T053610Z

DTSTART:20220401T100000
DTEND:20220410T100000
SUMMARY:9X: Бужный Юг в апреле 2023, теперь уже он
DESCRIPTION:Ничего нового в этом анонсе вам я не предложу. Этот проект имел место в конце марта 2014 ого года. После начавшихся беспорядков на Украине, опасаясь в том числе и грабежа на дорогах, пошли мы тогда по другому маршруту. Гранитно-Степное Побужье благоразумно заменили на Новгородскую область. Но в Магадане если что-то откладывается, то в лист ожидания. И раньше или позднее, до того или иного проекта дело наконец доходит.\nВ целях расширения географии Секты Magadan.by в период 01-10 апреля 2022г состоится сплав по реке Южный Буг в том числе с прохождением порогов. Предварительно от населенного пункта Га́йворон (Кировоградская обл.) до Южноукраинска. Протяженность маршрута 2-3 к.с. – 162 км. Выбор пограничного сезона обусловлен двумя факторами: симпатия представителей Секты к межсезонью и более высокой водоносностью реки, нежели более поздней весной. Более того, поздняя весна занята другими событиями. Сплав будет осуществляться на рафте.\nПоход как, обычно, обещается насыщенный. Природа беспрецедентная. К участию в мероприятии допускаются все желающие. Запланированный период похода выгоден легкой доступностью различных плавсредств в аренду. По завершении сплава запланирована экскурсия в Арбузинский Каньон и Актовский Каньон. Близость объекта путешествия делает сплав бюджетным. Вопросы логистики будут решаться после утряски состава группы. Мероприятие находится в фазе разработки и детали будут уточняться по мере приближения сроков.\nВыезд на Украину из Беларуси закрыт. Какая будет политическая и эпидемиологическая обстановка к 1 апрелю предсказывать не берусь. Может, подвесят за яйца Узурпатора и закроют верховных прихлебателей и адептов режима. В противном случае ехать придется через территорию Российской Федерации.\n \nО, Южный Буг, свои ты воды\nНесешь просторами страны\nСреди причудливой природы\nВ твои мы плесы влюблены.\nЕще что человеку надо,\nВ апреле предложить я рад.\nПо Бугу сплавиться, бригаду\nВсю усадить в пузатый рафт. \nХоть ты не Днепр, но нам милее,\nУ каждого своя река,\nОна других всех красивее,\nРодные сердцу берега.\n                                                   \n     Фото в анонсе из сети                                      \n                                                            \n\n

X-ALT-DESC;FMTTYPE=text/html:<!DOCTYPE HTML PUBLIC "-//W3C//DTD HTML 3.2//EN">\n<HTML>\n<HEAD>\n<META NAME="Generator" CONTENT="MS Exchange Server version 08.00.0681.000">\n<TITLE></TITLE>\n</HEAD>\n<BODY>\n<!-- Converted from text/rtf format -->\n\nНичего нового в этом анонсе вам я не предложу. Этот проект имел место в конце марта 2014 ого года. После начавшихся беспорядков на Украине, опасаясь в том числе и грабежа на дорогах, пошли мы тогда по другому маршруту. Гранитно-Степное Побужье благоразумно заменили на Новгородскую область. Но в Магадане если что-то откладывается, то в лист ожидания. И раньше или позднее, до того или иного проекта дело наконец доходит.<br />В целях расширения географии Секты Magadan.by в период 01-10 апреля 2022г состоится сплав по реке Южный Буг в том числе с прохождением порогов. Предварительно от населенного пункта Га́йворон (Кировоградская обл.) до Южноукраинска. Протяженность маршрута 2-3 к.с. – 162 км. Выбор пограничного сезона обусловлен двумя факторами: симпатия представителей Секты к межсезонью и более высокой водоносностью реки, нежели более поздней весной. Более того, поздняя весна занята другими событиями. Сплав будет осуществляться на рафте.<br />Поход как, обычно, обещается насыщенный. Природа беспрецедентная. К участию в мероприятии допускаются все желающие. Запланированный период похода выгоден легкой доступностью различных плавсредств в аренду. По завершении сплава запланирована экскурсия в Арбузинский Каньон и Актовский Каньон. Близость объекта путешествия делает сплав бюджетным. Вопросы логистики будут решаться после утряски состава группы. Мероприятие находится в фазе разработки и детали будут уточняться по мере приближения сроков.<br />Выезд на Украину из Беларуси закрыт. Какая будет политическая и эпидемиологическая обстановка к 1 апрелю предсказывать не берусь. Может, подвесят за яйца Узурпатора и закроют верховных прихлебателей и адептов режима. В противном случае ехать придется через территорию Российской Федерации.<br /> <br />О, Южный Буг, свои ты воды<br />Несешь просторами страны<br />Среди причудливой природы<br />В твои мы плесы влюблены.<br />Еще что человеку надо,<br />В апреле предложить я рад.<br />По Бугу сплавиться, бригаду<br />Всю усадить в пузатый рафт. <br />Хоть ты не Днепр, но нам милее,<br />У каждого своя река,<br />Она других всех красивее,<br />Родные сердцу берега.<br />                                                   <br />     Фото в анонсе из сети                                      <br />                                                            <br /><br />\n\n</BODY>\n</HTML>

LOCATION:
END:VEVENT

END:VCALENDAR
