BEGIN:VCALENDAR
VERSION:2.0
PRODID:-//hacksw/handcal//NONSGML v1.0//EN
BEGIN:VEVENT
UID:05b13c1d7a73f4a4e2553535604ed4e1
DTSTAMP:20260420T142230Z

DTSTART:20211106T070000
DTEND:20211107T190000
SUMMARY:Фьюче симпл. Пешеходная реинкорнация.
DESCRIPTION:Пешеходная реинкорнация весеннего похода про Песах. Напомню, что тогда мы смогли пройти по разобранной узкоколейке Шиманов Кут -р. Птичь только половину трека, а потом были вынуждены сойти из-за брутального весеннего разлива. \nВ этот раз мы попытаемся пройти его от финиша в начало. Надеюсь в этот раз на треке не будет столько воды, но нужно быть готовым к любым неожиданностям. Тем интереснее! \nРегион: Болото Поречский Мох. \nПротяженность 30+\nУровень сложности: новичок. (Участвуют даже подростки)\n

X-ALT-DESC;FMTTYPE=text/html:<!DOCTYPE HTML PUBLIC "-//W3C//DTD HTML 3.2//EN">\n<HTML>\n<HEAD>\n<META NAME="Generator" CONTENT="MS Exchange Server version 08.00.0681.000">\n<TITLE></TITLE>\n</HEAD>\n<BODY>\n<!-- Converted from text/rtf format -->\n\nПешеходная реинкорнация весеннего похода про Песах. Напомню, что тогда мы смогли пройти по разобранной узкоколейке Шиманов Кут -р. Птичь только половину трека, а потом были вынуждены сойти из-за брутального весеннего разлива. <br />В этот раз мы попытаемся пройти его от финиша в начало. Надеюсь в этот раз на треке не будет столько воды, но нужно быть готовым к любым неожиданностям. Тем интереснее! <br />Регион: Болото Поречский Мох. <br />Протяженность 30+<br />Уровень сложности: новичок. (Участвуют даже подростки)<br />\n\n</BODY>\n</HTML>

LOCATION:
END:VEVENT

END:VCALENDAR
