BEGIN:VCALENDAR
VERSION:2.0
PRODID:-//hacksw/handcal//NONSGML v1.0//EN
BEGIN:VEVENT
UID:b49ffcab4d0b424af5b4e2286d46d279
DTSTAMP:20260420T181148Z

DTSTART:20221015T220000
DTEND:20221016T220000
SUMMARY:94В Арт-хаус «Не элегантная элегия»
DESCRIPTION:ПВД 90А в последние числа октября затевался, как авантюра из авантюр. Проехать по Гродненской области в основном вне дорог общего пользования 165 км на мотоциклах!.. При том что сам предводитель ни разу за рулем его не сидел. После преодоления определенных трудностей ПВД состоялся и возымел головокружительный успех! Очевидно, что формат походов от Секты в дальнейшем будет расширен еще и мотоциклами с упором на бездорожье и природные ландшафты. Более того, непременно и бесповоротно увеличивающийся возраст участников делает такие форматы все более востребованными.\nСобытие, которое не состоялось в январе 2022 года хочу заявить вот теперь. Причины тогда были связаны с прилетом "черного лебедя": в аренду мотоциклы на зиму не сдавали нигде, поскольку их поставили на консервацию. Из имеющихся вариантов - только с инструктором и по ИХ маршрутам.\n94В - мероприятие не мейнстримовое, не рассчитанное оно на широкую аудиторию. ПВД на мотоциклах. Для камерной группы. Проект изначально наделен рядом недостатков. Во первых, он для рамок ПВД не из дешевых. Во вторых, нужно еще и уметь ездить на мотоцикле.\nНе каждый здесь разгадает романтизм. Маршрут отнюдь не элегантен. Нет никаких национальных парков, памятников природы, знаменитых развалин. Начинается он от поселка Колодищи, потом едем на свалку. Закрыли полигон четыре (или пять) лет назад. Теперь его вполне успешно пытаются превратить в природный ландшафт. Затем трек лазит по полигону. После этого правдами-не правдами выбирается дорога к задворкам аэропорта Мнск-2. А там уже и до Смиловичей не далеко. Еще потом смещаемся на юго-восток. Будет водохранилище Волма, Свислочь, гигантская линия электропередач, ТЭЦ 5.\nЛагерь неподалеку от г.п. Руденск. В первый день придется проехать 103 км. Но ничего. Выдюжим.\nВторой день ожидают нас мрачные агроугодья, выгребенные торфяники и даже отстойники возле Стаек, доверху забитые говном.  Дороги проселочные. Трек второго дня составил 91 км. По итогу проделать придется 200.\nКак одновременно достоинством, так и недостатком такого формата является тот момент, что исключается алкоголизация участников на активной части маршрута. Опираясь на опыт проведенного ПВД 90А, практика показала, что даже одиозные пьяницы это способны выдержать. Пессимистически настроенная часть фэнов Магадана не верили в соблюдение режима и подвергали Несчастного Глаза остракизму.\nПредпочтителен облегченный мотоцикл Х250. Тяжелый эндуро «Гусь» менее выгоден. В любом случае выглядеть подобная поездка будет процессуально, одновременно экстраординарно и дебильно. Участникам для большей помпы будут выданы противочумные костюмы. В качестве повара будет рекрутирован Француз. Попробуем купить лягушачьи лапки. Такой трапезы в кухне Магадана пока еще не припомню. \nОпределяющие финансовые затраты на мероприятие – аренда мотоцикла. Имеется кворум 8 участников. Но с удовольствием можем взять и дополнительных желающих. А маршрут исключительно доступен. \n\n

X-ALT-DESC;FMTTYPE=text/html:<!DOCTYPE HTML PUBLIC "-//W3C//DTD HTML 3.2//EN">\n<HTML>\n<HEAD>\n<META NAME="Generator" CONTENT="MS Exchange Server version 08.00.0681.000">\n<TITLE></TITLE>\n</HEAD>\n<BODY>\n<!-- Converted from text/rtf format -->\n\nПВД 90А в последние числа октября затевался, как авантюра из авантюр. Проехать по Гродненской области в основном вне дорог общего пользования 165 км на мотоциклах!.. При том что сам предводитель ни разу за рулем его не сидел. После преодоления определенных трудностей ПВД состоялся и возымел головокружительный успех! Очевидно, что формат походов от Секты в дальнейшем будет расширен еще и мотоциклами с упором на бездорожье и природные ландшафты. Более того, непременно и бесповоротно увеличивающийся возраст участников делает такие форматы все более востребованными.<br />Событие, которое не состоялось в январе 2022 года хочу заявить вот теперь. Причины тогда были связаны с прилетом "черного лебедя": в аренду мотоциклы на зиму не сдавали нигде, поскольку их поставили на консервацию. Из имеющихся вариантов - только с инструктором и по ИХ маршрутам.<br />94В - мероприятие не мейнстримовое, не рассчитанное оно на широкую аудиторию. ПВД на мотоциклах. Для камерной группы. Проект изначально наделен рядом недостатков. Во первых, он для рамок ПВД не из дешевых. Во вторых, нужно еще и уметь ездить на мотоцикле.<br />Не каждый здесь разгадает романтизм. Маршрут отнюдь не элегантен. Нет никаких национальных парков, памятников природы, знаменитых развалин. Начинается он от поселка Колодищи, потом едем на свалку. Закрыли полигон четыре (или пять) лет назад. Теперь его вполне успешно пытаются превратить в природный ландшафт. Затем трек лазит по полигону. После этого правдами-не правдами выбирается дорога к задворкам аэропорта Мнск-2. А там уже и до Смиловичей не далеко. Еще потом смещаемся на юго-восток. Будет водохранилище Волма, Свислочь, гигантская линия электропередач, ТЭЦ 5.<br />Лагерь неподалеку от г.п. Руденск. В первый день придется проехать 103 км. Но ничего. Выдюжим.<br />Второй день ожидают нас мрачные агроугодья, выгребенные торфяники и даже отстойники возле Стаек, доверху забитые говном.  Дороги проселочные. Трек второго дня составил 91 км. По итогу проделать придется 200.<br />Как одновременно достоинством, так и недостатком такого формата является тот момент, что исключается алкоголизация участников на активной части маршрута. Опираясь на опыт проведенного ПВД 90А, практика показала, что даже одиозные пьяницы это способны выдержать. Пессимистически настроенная часть фэнов Магадана не верили в соблюдение режима и подвергали Несчастного Глаза остракизму.<br />Предпочтителен облегченный мотоцикл Х250. Тяжелый эндуро «Гусь» менее выгоден. В любом случае выглядеть подобная поездка будет процессуально, одновременно экстраординарно и дебильно. Участникам для большей помпы будут выданы противочумные костюмы. В качестве повара будет рекрутирован Француз. Попробуем купить лягушачьи лапки. Такой трапезы в кухне Магадана пока еще не припомню. <br />Определяющие финансовые затраты на мероприятие – аренда мотоцикла. Имеется кворум 8 участников. Но с удовольствием можем взять и дополнительных желающих. А маршрут исключительно доступен. <br /><br />\n\n</BODY>\n</HTML>

LOCATION:
END:VEVENT

END:VCALENDAR
