BEGIN:VCALENDAR
VERSION:2.0
PRODID:-//hacksw/handcal//NONSGML v1.0//EN
BEGIN:VEVENT
UID:492811adf4e1768a9d3809a4797e0a17
DTSTAMP:20260420T180249Z

DTSTART:20211223T100000
DTEND:20211223T100000
SUMMARY:Игра в Смирнова 
DESCRIPTION:В начале 2022 года от Организации Magadan.by предлагаем вам, дорогие участники и гости, увлекательнейшее путешествие достаточно редкого в последнее время формата – это будет трехдневный пешеходный поход. Погода в Канун Нового 2022 Года нас собирается обрадовать. Синоптики предрекают стойкие морозы. А вместе с ними произойдет неизбежный и столь долгожданный ледостав.\nКасательно теории Глаза, время пеших походов как раз зимнее и именно такое, когда не эффективны лыжи. Мало удовольствия доставляет заниматься месиловом пересеченной местности в теплое вегетативное время. То ли дело, когда де происходит ледостав. Можно, много раз писал, быстро передвигаться по акватории водоемов. И меньшей ценой по физическим затратам преодолевать такие уголки, что не доступны пешему или, скажем, всаднику. Да и с лодкой ты будь - не везде управишься. \nКорейский сериал Игра В Кальмара к концу 2021 года возымел ошеломительный успех. Даже на фоне всеобщего пресыщения мирового зрителя далеко шагнувшими технологиями мирового кинематографа популярность он обрел неслыханную. По аналогии со стагнирующим, разленившимся, да и поверженным в ступор в последнее время из-за внешних причин (ковиды, политический кризис, экономический упадок и падение доходов) Магаданом для Игры В Кальмара создалась реальная предпосылка. \nНо мы в отличие от нашумевшего сериала убивать никого не будем. Да и играть хотим предложить вам не в Кальмара, а в Смирнова. Можно выбрать и другого экстраординарного адепта Секты. Но у каждого из таких последних можно снискать ряд решительно непримиримых недостатков. Ставка на менее одиозных последователей Магадана обречена на неуспех. Смирнов же почти безупречен. Он наиболее пассионарный, медийный, интеллектуально развитый, да и на текущий момент активно действующий бенефициар. \nМероприятие пеший поход 91 «Игра в Смирнова» назначен на 7-9 января. Ведущий Игры (Распорядитель) и есть Александр Смирнов. Для участия необходима специальная форма одежды. А именно – противочумный костюм и маска с треугольным (!) знаком различия. Такие маски свободно имеются в продаже. Противочумный костюм не составит труда раздобыть в любой больнице. Медработников среди нас хватает. \nМаршрут похода очень динамичный. Конфигурацию его лучше всего отражает термин «сквозной». Ожидается постоянная смена ландшафта. Часть пути будет проходить по акватории озер. Ледостав в этом году, как выше отмечалось, ожидается своевременный и надежный. Протяженность 51 километр. Участники Игры В Смирнова выходят из деревни с сакральным названием Бухово. Лично Глаз только с июня 2021 года на ней завязал три похода. Этот четвертый (!). Через 11 километров пути Курган Рогволода И Рогнеды. По преданиям Полоцкого князя Рогволода там убили.  А Рогнеда, кажется, завещала ее похоронить на месте смерти мужа. Но это совершенно другая история. \nВ первый день пройти придется 23 километра, по льду то легко, ежели не много снегу, но кроме льда идти еще доведется без дорог: как через густой темный лес, так и пересекать болота. Антропогенные факторы на маршруте минимизированы.\nДо второго лагеря топать 17. Спортивная аудитория скажет, мол, этого мало. Хотим больше. Однако, регион Игры в Смирнова все-таки медвежий угол нашей с вами республики. Трек еще и ненароком заползает в захолустье Псковской области. Современные сопредельные территории Смоленщины, Брянщины и Псковской области сравнимы с описаниями Габриэля Гарсиа Маркеса из романа Осень Патриарха. В чем я в 2021 году очередной раз убедился.\nДо финиша в третий день идти предстоит 12 километров. Дорога домой дальняя. Поэтому машину вызывать будем на 17.00. Приезд в Минск поздним вечером 9 января.\nПравила Игры В Смирнова будут формализованы в Легенде 91 «Игра В Смирнова»\nЖелающим просьба записываться. Запись ведет Глаз и Александр Смирнов. Легенда 91 «Игра В Смирнова» будет разослана индивидуально 4 января. \n10 января убедительная просьба НЕ ЗВОНИТЬ Несчастному Глазу.\n

X-ALT-DESC;FMTTYPE=text/html:<!DOCTYPE HTML PUBLIC "-//W3C//DTD HTML 3.2//EN">\n<HTML>\n<HEAD>\n<META NAME="Generator" CONTENT="MS Exchange Server version 08.00.0681.000">\n<TITLE></TITLE>\n</HEAD>\n<BODY>\n<!-- Converted from text/rtf format -->\n\nВ начале 2022 года от Организации Magadan.by предлагаем вам, дорогие участники и гости, увлекательнейшее путешествие достаточно редкого в последнее время формата – это будет трехдневный пешеходный поход. Погода в Канун Нового 2022 Года нас собирается обрадовать. Синоптики предрекают стойкие морозы. А вместе с ними произойдет неизбежный и столь долгожданный ледостав.<br />Касательно теории Глаза, время пеших походов как раз зимнее и именно такое, когда не эффективны лыжи. Мало удовольствия доставляет заниматься месиловом пересеченной местности в теплое вегетативное время. То ли дело, когда де происходит ледостав. Можно, много раз писал, быстро передвигаться по акватории водоемов. И меньшей ценой по физическим затратам преодолевать такие уголки, что не доступны пешему или, скажем, всаднику. Да и с лодкой ты будь - не везде управишься. <br />Корейский сериал Игра В Кальмара к концу 2021 года возымел ошеломительный успех. Даже на фоне всеобщего пресыщения мирового зрителя далеко шагнувшими технологиями мирового кинематографа популярность он обрел неслыханную. По аналогии со стагнирующим, разленившимся, да и поверженным в ступор в последнее время из-за внешних причин (ковиды, политический кризис, экономический упадок и падение доходов) Магаданом для Игры В Кальмара создалась реальная предпосылка. <br />Но мы в отличие от нашумевшего сериала убивать никого не будем. Да и играть хотим предложить вам не в Кальмара, а в Смирнова. Можно выбрать и другого экстраординарного адепта Секты. Но у каждого из таких последних можно снискать ряд решительно непримиримых недостатков. Ставка на менее одиозных последователей Магадана обречена на неуспех. Смирнов же почти безупречен. Он наиболее пассионарный, медийный, интеллектуально развитый, да и на текущий момент активно действующий бенефициар. <br />Мероприятие пеший поход 91 «Игра в Смирнова» назначен на 7-9 января. Ведущий Игры (Распорядитель) и есть Александр Смирнов. Для участия необходима специальная форма одежды. А именно – противочумный костюм и маска с треугольным (!) знаком различия. Такие маски свободно имеются в продаже. Противочумный костюм не составит труда раздобыть в любой больнице. Медработников среди нас хватает. <br />Маршрут похода очень динамичный. Конфигурацию его лучше всего отражает термин «сквозной». Ожидается постоянная смена ландшафта. Часть пути будет проходить по акватории озер. Ледостав в этом году, как выше отмечалось, ожидается своевременный и надежный. Протяженность 51 километр. Участники Игры В Смирнова выходят из деревни с сакральным названием Бухово. Лично Глаз только с июня 2021 года на ней завязал три похода. Этот четвертый (!). Через 11 километров пути Курган Рогволода И Рогнеды. По преданиям Полоцкого князя Рогволода там убили.  А Рогнеда, кажется, завещала ее похоронить на месте смерти мужа. Но это совершенно другая история. <br />В первый день пройти придется 23 километра, по льду то легко, ежели не много снегу, но кроме льда идти еще доведется без дорог: как через густой темный лес, так и пересекать болота. Антропогенные факторы на маршруте минимизированы.<br />До второго лагеря топать 17. Спортивная аудитория скажет, мол, этого мало. Хотим больше. Однако, регион Игры в Смирнова все-таки медвежий угол нашей с вами республики. Трек еще и ненароком заползает в захолустье Псковской области. Современные сопредельные территории Смоленщины, Брянщины и Псковской области сравнимы с описаниями Габриэля Гарсиа Маркеса из романа Осень Патриарха. В чем я в 2021 году очередной раз убедился.<br />До финиша в третий день идти предстоит 12 километров. Дорога домой дальняя. Поэтому машину вызывать будем на 17.00. Приезд в Минск поздним вечером 9 января.<br />Правила Игры В Смирнова будут формализованы в Легенде 91 «Игра В Смирнова»<br />Желающим просьба записываться. Запись ведет Глаз и Александр Смирнов. Легенда 91 «Игра В Смирнова» будет разослана индивидуально 4 января. <br />10 января убедительная просьба НЕ ЗВОНИТЬ Несчастному Глазу.<br />\n\n</BODY>\n</HTML>

LOCATION:Неизвестная дорога, Бухово, Беларусь
END:VEVENT

END:VCALENDAR
