BEGIN:VCALENDAR
VERSION:2.0
PRODID:-//hacksw/handcal//NONSGML v1.0//EN
BEGIN:VEVENT
UID:20d1385c725142ca7b421d604ce3e891
DTSTAMP:20260421T041912Z

DTSTART:20220506T200000
DTEND:20220524T200000
SUMMARY:92: «Полометь. УукСунаЙокке. Возвращение»
DESCRIPTION:Паводковые реки Южной Карелии на майские праздники Мекка для туристов водников. Будучи многократно в Карелии, туда в мае на воду до недавних пор я не ходил. \n В 2019 году на такие реки мы пошли. Южная Шуя, Лоймолайокке, Ууксунйокке... Это была незабываемая весна, буйство контрастов и бешеные впечатления. Нас было 12. Результат отличался от программы максимум, но что успели-удалось пройти  останется в памяти каждого пожизненной ностальгией и греющим душу очарованием.\nМаршрут завершился именно перед самыми технически интересными препятствиями на реке Ууксунайоке. Далее пороги третьей и четвертой категории. Теперь настал их черед.\nСроки похода 6-24 мая. К не реализованным проектам Глаз всегда возвращается. Реки заявляю такие – Полометь (только её технически интересный участок), Ууксунайокке от порога Мостовой. И, в довершение, – река Суна с обязательным посещением водопадов Гирвас и Кивач. Информация про изменение русла Суны вследствие антропогенных причин для анонса будет, пожалуй, избыточна. Рекомендую с лоциями ознакомится самостоятельно. Запланированные 18 дней сплава не позволят расслабляться даже на толику. Это своеобразная жизнь, быт, мир контрастов и динамика межсезонья. Сплав по паводковым Карельским рекам не даст заскучать никому. Те, кто попробовали хоть раз, - всегда возвращаются или хотят вернуться! \nЖелающим просьба записываться. Стоимость по себестоимости – питание и солярка. Учитывая политическую обстановку, затруднения с валютой, изменяющиеся каждый день геополитические,  условия, эпидемиологический режим и жизнь на пороховой бочке не позволяют четко транслировать организационные подробности. \nОрганизационная рассылка будет предоставлена непосредственно перед выездом. Сбор за пару дней. Требования к участникам – любовь к межсезонью и опыт ввозных походов. Нужны шлемы, гидрокостюм, жилет. Спортивное мастерство не требуется. Все равно там несет «как говно».  \nОтветы на все вопросы читать здесь: «Как пойдет». Глазу не звонить, голову не дурить, мемуары не рассказывать, алгоритмами действий не нагружать, в «удмуртсий бабушатник» не посвящать. Больным, ипохондрирующим и рефлексирующим не обращаться.  \nИспепеляющее майское солнце, стаивающий снег, шумящий в кронах леса ветер и коричневая, пенящаяся, словно пепси-кола, вода не забываются. Южная Карелия ждет нас, и мы ждем очередной поход на катамаранах. На катамаранах туда – в южную Карелию. \nФотографии из сети\n

X-ALT-DESC;FMTTYPE=text/html:<!DOCTYPE HTML PUBLIC "-//W3C//DTD HTML 3.2//EN">\n<HTML>\n<HEAD>\n<META NAME="Generator" CONTENT="MS Exchange Server version 08.00.0681.000">\n<TITLE></TITLE>\n</HEAD>\n<BODY>\n<!-- Converted from text/rtf format -->\n\nПаводковые реки Южной Карелии на майские праздники Мекка для туристов водников. Будучи многократно в Карелии, туда в мае на воду до недавних пор я не ходил. <br /> В 2019 году на такие реки мы пошли. Южная Шуя, Лоймолайокке, Ууксунйокке... Это была незабываемая весна, буйство контрастов и бешеные впечатления. Нас было 12. Результат отличался от программы максимум, но что успели-удалось пройти  останется в памяти каждого пожизненной ностальгией и греющим душу очарованием.<br />Маршрут завершился именно перед самыми технически интересными препятствиями на реке Ууксунайоке. Далее пороги третьей и четвертой категории. Теперь настал их черед.<br />Сроки похода 6-24 мая. К не реализованным проектам Глаз всегда возвращается. Реки заявляю такие – Полометь (только её технически интересный участок), Ууксунайокке от порога Мостовой. И, в довершение, – река Суна с обязательным посещением водопадов Гирвас и Кивач. Информация про изменение русла Суны вследствие антропогенных причин для анонса будет, пожалуй, избыточна. Рекомендую с лоциями ознакомится самостоятельно. Запланированные 18 дней сплава не позволят расслабляться даже на толику. Это своеобразная жизнь, быт, мир контрастов и динамика межсезонья. Сплав по паводковым Карельским рекам не даст заскучать никому. Те, кто попробовали хоть раз, - всегда возвращаются или хотят вернуться! <br />Желающим просьба записываться. Стоимость по себестоимости – питание и солярка. Учитывая политическую обстановку, затруднения с валютой, изменяющиеся каждый день геополитические,  условия, эпидемиологический режим и жизнь на пороховой бочке не позволяют четко транслировать организационные подробности. <br />Организационная рассылка будет предоставлена непосредственно перед выездом. Сбор за пару дней. Требования к участникам – любовь к межсезонью и опыт ввозных походов. Нужны шлемы, гидрокостюм, жилет. Спортивное мастерство не требуется. Все равно там несет «как говно».  <br />Ответы на все вопросы читать здесь: «Как пойдет». Глазу не звонить, голову не дурить, мемуары не рассказывать, алгоритмами действий не нагружать, в «удмуртсий бабушатник» не посвящать. Больным, ипохондрирующим и рефлексирующим не обращаться.  <br />Испепеляющее майское солнце, стаивающий снег, шумящий в кронах леса ветер и коричневая, пенящаяся, словно пепси-кола, вода не забываются. Южная Карелия ждет нас, и мы ждем очередной поход на катамаранах. На катамаранах туда – в южную Карелию. <br />Фотографии из сети<br />\n\n</BODY>\n</HTML>

LOCATION:
END:VEVENT

END:VCALENDAR
