BEGIN:VCALENDAR
VERSION:2.0
PRODID:-//hacksw/handcal//NONSGML v1.0//EN
BEGIN:VEVENT
UID:27025d99e527913a2d4afe1dbe168ed5
DTSTAMP:20260421T104956Z

DTSTART:20220610T080000
DTEND:20220612T080000
SUMMARY:93А Только Шоша 10-12 июня 2022 53км
DESCRIPTION:По байдарочным ПВД я всегда скучаю. Июнь то самое время, пока не упала до меженного уровня вода, но распускается по максимуму зелень и достигает своего апогея.  В Витебской области, возможно, еще ебашат соловьи. \nСплав будет проходить по реке Шоша. Только по ней, продолжение после озера Плиссо по реке Мнюта войдет в программу следующего водного уикэнда. Сроки проведения 10-12 июня. Формат – байдарочный. Шоша по популярности, конечно, уступает Страче Ислочи да Нарочанке. Не сказать, что это прям мекка байдарочников, но маршрут этот весьма избитый. Не сложный и не очень протяженный. Начинается с озеро Долгое (самое глубокое в Беларуси), потом следует пройти протокой в озеро Шо. Из Шо вытекает собственно Шоша. Берега лесные, малозаселенные, много заболоченных участков. До озера Плиссо идти 39 километров. Весь маршрут составит 53. Как раз хорошо успевается в 2 дня. Основные сложности – протока между Долгое и Шо. Возможны завалы, но ожидается, что они пропилены. По Шоше ведь часто ходят.\nЗаброска выброска – бус. На дорогу уйдет порядка 70 рублей. Аренда за лодку за выходные взлетела по сегодняшним меркам до ста. Выезд в ночь с пятницы на воскресенье. Желающим просьба записываться. Запись у Глаза через вайбер или телеграм. Просьба Глазу  не звонить \nВ понедельник 13 июня не звонить категорически. Да пребудет с Вами Господь!\nФотографии из сети\n

X-ALT-DESC;FMTTYPE=text/html:<!DOCTYPE HTML PUBLIC "-//W3C//DTD HTML 3.2//EN">\n<HTML>\n<HEAD>\n<META NAME="Generator" CONTENT="MS Exchange Server version 08.00.0681.000">\n<TITLE></TITLE>\n</HEAD>\n<BODY>\n<!-- Converted from text/rtf format -->\n\nПо байдарочным ПВД я всегда скучаю. Июнь то самое время, пока не упала до меженного уровня вода, но распускается по максимуму зелень и достигает своего апогея.  В Витебской области, возможно, еще ебашат соловьи. <br />Сплав будет проходить по реке Шоша. Только по ней, продолжение после озера Плиссо по реке Мнюта войдет в программу следующего водного уикэнда. Сроки проведения 10-12 июня. Формат – байдарочный. Шоша по популярности, конечно, уступает Страче Ислочи да Нарочанке. Не сказать, что это прям мекка байдарочников, но маршрут этот весьма избитый. Не сложный и не очень протяженный. Начинается с озеро Долгое (самое глубокое в Беларуси), потом следует пройти протокой в озеро Шо. Из Шо вытекает собственно Шоша. Берега лесные, малозаселенные, много заболоченных участков. До озера Плиссо идти 39 километров. Весь маршрут составит 53. Как раз хорошо успевается в 2 дня. Основные сложности – протока между Долгое и Шо. Возможны завалы, но ожидается, что они пропилены. По Шоше ведь часто ходят.<br />Заброска выброска – бус. На дорогу уйдет порядка 70 рублей. Аренда за лодку за выходные взлетела по сегодняшним меркам до ста. Выезд в ночь с пятницы на воскресенье. Желающим просьба записываться. Запись у Глаза через вайбер или телеграм. Просьба Глазу  не звонить <br />В понедельник 13 июня не звонить категорически. Да пребудет с Вами Господь!<br />Фотографии из сети<br />\n\n</BODY>\n</HTML>

LOCATION:
END:VEVENT

END:VCALENDAR
