BEGIN:VCALENDAR
VERSION:2.0
PRODID:-//hacksw/handcal//NONSGML v1.0//EN
BEGIN:VEVENT
UID:b00c5d052ad6c7260fa38e07f3f5e10f
DTSTAMP:20260420T231807Z

DTSTART:20220624T080000
DTEND:20220626T210000
SUMMARY:Поход хоть куда-нибудь
DESCRIPTION:Мне говорят: "Саша, пошли в поход хоть куда-нибудь."\nА я не могу. У меня рука сломана. Но вот наконец-то, я надеюсь, через пару дней снимут гипс, и можно сходить хоть куда-то. Предлагаю на болото.\nМы имеем опыт и зимних, и летних болот. И межьсезонья. И каждый раз это по-новому. То воды нет. То она в избытке. Но каждый раз впечатляет. Болото - это единственное, что прочно ассоциируется с Беларусью. Уж поверьте, я в этом разбираюсь. \nВ этом сезоне мокро. Можно ожидать интересных приключений.\nИтак: \nРегион Талька\nПротяженность маршрута: 15+8 км\nМестность в основном пересеченная. Идем по направлениям. Дорог мало.\nЕсть возможность приехать на ночевку на машине, кто желает.\nДедлайн вторник 21 июня.\nПо всем вопросам обращаться к Смирнову \n\n\n

X-ALT-DESC;FMTTYPE=text/html:<!DOCTYPE HTML PUBLIC "-//W3C//DTD HTML 3.2//EN">\n<HTML>\n<HEAD>\n<META NAME="Generator" CONTENT="MS Exchange Server version 08.00.0681.000">\n<TITLE></TITLE>\n</HEAD>\n<BODY>\n<!-- Converted from text/rtf format -->\n\nМне говорят: "Саша, пошли в поход хоть куда-нибудь."<br />А я не могу. У меня рука сломана. Но вот наконец-то, я надеюсь, через пару дней снимут гипс, и можно сходить хоть куда-то. Предлагаю на болото.<br />Мы имеем опыт и зимних, и летних болот. И межьсезонья. И каждый раз это по-новому. То воды нет. То она в избытке. Но каждый раз впечатляет. Болото - это единственное, что прочно ассоциируется с Беларусью. Уж поверьте, я в этом разбираюсь. <br />В этом сезоне мокро. Можно ожидать интересных приключений.<br />Итак: <br />Регион Талька<br />Протяженность маршрута: 15+8 км<br />Местность в основном пересеченная. Идем по направлениям. Дорог мало.<br />Есть возможность приехать на ночевку на машине, кто желает.<br />Дедлайн вторник 21 июня.<br />По всем вопросам обращаться к Смирнову <br /><br /><br />\n\n</BODY>\n</HTML>

LOCATION:Талька, Беларусь
END:VEVENT

END:VCALENDAR
