BEGIN:VCALENDAR
VERSION:2.0
PRODID:-//hacksw/handcal//NONSGML v1.0//EN
BEGIN:VEVENT
UID:7d36e4f4a495d238db45fce7094ea7dd
DTSTAMP:20260420T194315Z

DTSTART:20220820T180000
DTEND:20220821T180000
SUMMARY:94А: Друть-Круть!
DESCRIPTION:Глядишь, вот и пролетело лето. Запомнилось оно (Status quo на конец июля 22) ненавязчивым и не знойным. Для несчастного Глаза это ненавистное время года. На конец лета, обычно я в дальних путешествиях. Но в этом году будет исключение. \nАвгуст шикарный месяц для водных походов. Учитывая ожидаемый меженный уровень воды и зарастание русла рек растениями, целесообразно не выбирать малые реки, а делать ставку на что-то покрупнее. 20-21 числа отправимся мы недалеко. Вашему вниманию предлагается очередной ПВД 94А в рамках формата байдарочного сплава. Протяженность маршрута 58 км. На этот раз будет река Друть. \nПо Друти мне доводилось сплавляться от железной дороги Осиповичи-Могилев до устья. Друть особенно интересная и вместе с тем река удобная и не сложная. Отчего-то не пользуется она большой популярностью среди байдарочников, но периодически по ней ходят. Водоносность и протяженность как и у березинской Свислочи. Сразу два августа подряд когда-то по нижней части организовывал сплавы выходного дня Игорь Пузо. \nИзучал я Друть выше Белыничей. Река не интересная, луговая. Петляет по открытым выгонам долго, протяженно без какой-то смены унылого ландшафта. Это, пожалуй, нам не подойдет. Ниже Белыничей становится интересно. Русло сокрыто массивами кустов, появляются залесенные берега. \nСтарт из-под моста в райцентре Белыничи. Идти в первый день 27 километров. Навскидку это примерно пять часов ходового времени. Лагерь на лесном левом берегу. В воскресенье (второй день) проехать по реке предстоит 31. Километраж лайтовый, но это уже не говносплав. Почему так, - потому что будут участвовать дети (в том числе и мой ребенок). На момент редакции анонса есть одиннадцать участников, пятеро из которых дети 7-8 лет. Приглашаются дополнительные желающие. Однако, - сплав не подчинен интересам детей и поэтому не заявляется, как "детский". Пройти придется, как заявлено. При записи в состав иметь в виду, что требования к участникам - способность вывезти лодку 27 км и 31 км в одиночку. \nЛогистика автомобильная. Дорого. Выезд рано утром в субботу 20 августа. Прибытие поздно вечером 21 августа. Заинтересовавшимся обращаться в Веселому Глазу. Легенда будет разослана индивидуально 17 августа. \n23 августа Глазу не звонить, нагрузки не давать, трубку не снимаю. \nПримечание: фотографии из сети

X-ALT-DESC;FMTTYPE=text/html:<!DOCTYPE HTML PUBLIC "-//W3C//DTD HTML 3.2//EN">\n<HTML>\n<HEAD>\n<META NAME="Generator" CONTENT="MS Exchange Server version 08.00.0681.000">\n<TITLE></TITLE>\n</HEAD>\n<BODY>\n<!-- Converted from text/rtf format -->\n\nГлядишь, вот и пролетело лето. Запомнилось оно (Status quo на конец июля 22) ненавязчивым и не знойным. Для несчастного Глаза это ненавистное время года. На конец лета, обычно я в дальних путешествиях. Но в этом году будет исключение. <br />Август шикарный месяц для водных походов. Учитывая ожидаемый меженный уровень воды и зарастание русла рек растениями, целесообразно не выбирать малые реки, а делать ставку на что-то покрупнее. 20-21 числа отправимся мы недалеко. Вашему вниманию предлагается очередной ПВД 94А в рамках формата байдарочного сплава. Протяженность маршрута 58 км. На этот раз будет река Друть. <br />По Друти мне доводилось сплавляться от железной дороги Осиповичи-Могилев до устья. Друть особенно интересная и вместе с тем река удобная и не сложная. Отчего-то не пользуется она большой популярностью среди байдарочников, но периодически по ней ходят. Водоносность и протяженность как и у березинской Свислочи. Сразу два августа подряд когда-то по нижней части организовывал сплавы выходного дня Игорь Пузо. <br />Изучал я Друть выше Белыничей. Река не интересная, луговая. Петляет по открытым выгонам долго, протяженно без какой-то смены унылого ландшафта. Это, пожалуй, нам не подойдет. Ниже Белыничей становится интересно. Русло сокрыто массивами кустов, появляются залесенные берега. <br />Старт из-под моста в райцентре Белыничи. Идти в первый день 27 километров. Навскидку это примерно пять часов ходового времени. Лагерь на лесном левом берегу. В воскресенье (второй день) проехать по реке предстоит 31. Километраж лайтовый, но это уже не говносплав. Почему так, - потому что будут участвовать дети (в том числе и мой ребенок). На момент редакции анонса есть одиннадцать участников, пятеро из которых дети 7-8 лет. Приглашаются дополнительные желающие. Однако, - сплав не подчинен интересам детей и поэтому не заявляется, как "детский". Пройти придется, как заявлено. При записи в состав иметь в виду, что требования к участникам - способность вывезти лодку 27 км и 31 км в одиночку. <br />Логистика автомобильная. Дорого. Выезд рано утром в субботу 20 августа. Прибытие поздно вечером 21 августа. Заинтересовавшимся обращаться в Веселому Глазу. Легенда будет разослана индивидуально 17 августа. <br />23 августа Глазу не звонить, нагрузки не давать, трубку не снимаю. <br />Примечание: фотографии из сети\n\n</BODY>\n</HTML>

LOCATION:
END:VEVENT

END:VCALENDAR
