BEGIN:VCALENDAR
VERSION:2.0
PRODID:-//hacksw/handcal//NONSGML v1.0//EN
BEGIN:VEVENT
UID:3f8bb67fa3bd0d5bc085ed262aeadaf3
DTSTAMP:20260421T011139Z

DTSTART:20221105T230000
DTEND:20221106T230000
SUMMARY:94Г «Те реки будем прославлять, чьё имя Птичь и Шать»
DESCRIPTION:Конец сезона, как то поздняя осень, хоть казалось бы и уныла, но она неповторима и особенно романтична. В ноябре водная растительность как раз ложится на дно, и малые реки снова становятся легко проходимы, вот почти, как весной. Ноябрь месяц ни в коем случае не сиротливый. Он по-своему хорош и прекрасен, а в первую его декаду ещё обычно тепло. \n5-6 ноября 2022г от Секты будет проводиться необычный экстравагантный поход 94 В. Это будет сплав на байдарках. Маршрут необычный. Начинается с реки Шать, с его канализированных истоков. Фотографий Шати на просторах интернета практически нет. Про байдарочные сплавы по ней - ни слова! Скорее всего, здесь предлагается первопроход, во всяком случае, так будем считать. Хотя река и находится близко к Минску, а не в коком-нибудь приграничном захолустье, про неё ничего неизвестно. Тем более заманчиво её пройти и снять эффективный фотоматериал. \nШать по характеру своему - болотная. Согласно данным Гугл Земля, русло бежит в коридорах тростников (как Глаз больше всего и любит). Иной раз петли реки подходят к лесистым коренным берегам. Шать река малая и короткая. Запланированный участок 26 километров. Далее впадает она в Птичь справа. Но по ней, Птичи, идти нам дальше еще 39 километров до Клетного. Там шоссе, мост и она же точка выброски. Верхняя Птичь тоже река такая же болотная, но вдвое или втрое больше Шати. По Птичи мы уже ходили. Этот участок Глаз даже дважды. Однако, согласен пройти и в третий раз – настолько он необычный, живописный и депрессивный.\nСразу настраивайтесь на достаточно спортивный режим. В ноябре на воде сравнительно холодно. Это первое. Во-вторых, - на существенное течение не уповайте, дорогие друзья. 65 километров придется отработать на веслах практически по стояку. И, более того, в- третьих -  короток в это время световой день! Так что большая вероятность, нахуй, что идти придется с фонарями на лбу. Последнее, в принципе довольно привычно, но лучше заранее предупредить. \nЖелающим присоединиться просьба записываться. Обращайтесь к Глазу. Ограничения по набору - для лиц, не переносящих холодовой дискомфорт, для детей и для дебютов водных походов, даже ПВД.\nИтак, ностальгические болота, первопроход в сочетание с относительной спортивностью не оставят равнодушными никого, даже пресыщенного впечатлениями участника. Маршрут новый и не для кого не знакомый. \n\nТе реки будем прославлять, чьё имя Птичь и Шать!\nЗЫ: На обложке фотографии ноябрьской реки Птичь из сети\n

X-ALT-DESC;FMTTYPE=text/html:<!DOCTYPE HTML PUBLIC "-//W3C//DTD HTML 3.2//EN">\n<HTML>\n<HEAD>\n<META NAME="Generator" CONTENT="MS Exchange Server version 08.00.0681.000">\n<TITLE></TITLE>\n</HEAD>\n<BODY>\n<!-- Converted from text/rtf format -->\n\nКонец сезона, как то поздняя осень, хоть казалось бы и уныла, но она неповторима и особенно романтична. В ноябре водная растительность как раз ложится на дно, и малые реки снова становятся легко проходимы, вот почти, как весной. Ноябрь месяц ни в коем случае не сиротливый. Он по-своему хорош и прекрасен, а в первую его декаду ещё обычно тепло. <br />5-6 ноября 2022г от Секты будет проводиться необычный экстравагантный поход 94 В. Это будет сплав на байдарках. Маршрут необычный. Начинается с реки Шать, с его канализированных истоков. Фотографий Шати на просторах интернета практически нет. Про байдарочные сплавы по ней - ни слова! Скорее всего, здесь предлагается первопроход, во всяком случае, так будем считать. Хотя река и находится близко к Минску, а не в коком-нибудь приграничном захолустье, про неё ничего неизвестно. Тем более заманчиво её пройти и снять эффективный фотоматериал. <br />Шать по характеру своему - болотная. Согласно данным Гугл Земля, русло бежит в коридорах тростников (как Глаз больше всего и любит). Иной раз петли реки подходят к лесистым коренным берегам. Шать река малая и короткая. Запланированный участок 26 километров. Далее впадает она в Птичь справа. Но по ней, Птичи, идти нам дальше еще 39 километров до Клетного. Там шоссе, мост и она же точка выброски. Верхняя Птичь тоже река такая же болотная, но вдвое или втрое больше Шати. По Птичи мы уже ходили. Этот участок Глаз даже дважды. Однако, согласен пройти и в третий раз – настолько он необычный, живописный и депрессивный.<br />Сразу настраивайтесь на достаточно спортивный режим. В ноябре на воде сравнительно холодно. Это первое. Во-вторых, - на существенное течение не уповайте, дорогие друзья. 65 километров придется отработать на веслах практически по стояку. И, более того, в- третьих -  короток в это время световой день! Так что большая вероятность, нахуй, что идти придется с фонарями на лбу. Последнее, в принципе довольно привычно, но лучше заранее предупредить. <br />Желающим присоединиться просьба записываться. Обращайтесь к Глазу. Ограничения по набору - для лиц, не переносящих холодовой дискомфорт, для детей и для дебютов водных походов, даже ПВД.<br />Итак, ностальгические болота, первопроход в сочетание с относительной спортивностью не оставят равнодушными никого, даже пресыщенного впечатлениями участника. Маршрут новый и не для кого не знакомый. <br /><br />Те реки будем прославлять, чьё имя Птичь и Шать!<br />ЗЫ: На обложке фотографии ноябрьской реки Птичь из сети<br />\n\n</BODY>\n</HTML>

LOCATION:
END:VEVENT

END:VCALENDAR
