BEGIN:VCALENDAR
VERSION:2.0
PRODID:-//hacksw/handcal//NONSGML v1.0//EN
BEGIN:VEVENT
UID:1548abcd80d3e7e50e91d44654fdf5cb
DTSTAMP:20260420T141836Z

DTSTART:20221014T230000
DTEND:20221016T230000
SUMMARY:Поход Мостовой
DESCRIPTION:Предлагаю прокатиться на велосипедах вдоль Немана. Фантастические пейзажи, хорошая компания, уютный и не очень сложный трек сделают эти выходные незабываемыми. Поход будет посвящен мостам и всему, что с ними связано. Поэтому старт трека - из города Мосты. \nВыезд из Минска поездом в пятницу в 23-30. \nПротяженность трека 80+км (50+30). Маршрут преимущественно по дорогам. Лесные и труднопроходимые участки в небольшом количестве. \nУровень сложности Новичок +\nПо пути возможно несколько водных и грязевых преград, но это не является целью похода в этот раз.\nПо всем вопросам звонить Александру Смирнову.\nПоследний день приема заявок 11 октября.  \n

X-ALT-DESC;FMTTYPE=text/html:<!DOCTYPE HTML PUBLIC "-//W3C//DTD HTML 3.2//EN">\n<HTML>\n<HEAD>\n<META NAME="Generator" CONTENT="MS Exchange Server version 08.00.0681.000">\n<TITLE></TITLE>\n</HEAD>\n<BODY>\n<!-- Converted from text/rtf format -->\n\nПредлагаю прокатиться на велосипедах вдоль Немана. Фантастические пейзажи, хорошая компания, уютный и не очень сложный трек сделают эти выходные незабываемыми. Поход будет посвящен мостам и всему, что с ними связано. Поэтому старт трека - из города Мосты. <br />Выезд из Минска поездом в пятницу в 23-30. <br />Протяженность трека 80+км (50+30). Маршрут преимущественно по дорогам. Лесные и труднопроходимые участки в небольшом количестве. <br />Уровень сложности Новичок +<br />По пути возможно несколько водных и грязевых преград, но это не является целью похода в этот раз.<br />По всем вопросам звонить Александру Смирнову.<br />Последний день приема заявок 11 октября.  <br />\n\n</BODY>\n</HTML>

LOCATION:Мосты, Беларусь
END:VEVENT

END:VCALENDAR
