BEGIN:VCALENDAR
VERSION:2.0
PRODID:-//hacksw/handcal//NONSGML v1.0//EN
BEGIN:VEVENT
UID:77d54f2a972085a81aa6633aa74b2b70
DTSTAMP:20260420T125532Z

DTSTART:20230325T170000
DTEND:20230326T170000
SUMMARY:94Д «ОСТЕР егись!»
DESCRIPTION:Реки Остер-Сож 103 км. ПВД-реванш. От деревни Ходунь-до Черикова\n\n                  "Кто не прыгал из окошка\n                   Вместе с маминым зонтом,\n                   Тот лихим парашютистом \n                   Не считается пока.\n                   Не летать тому, как птица\n                   Над взволнованной толпой,\n                   Не лежать ему в больнице\n                   С забинтованной ногой".\n                   Григорий Остер «Вредные советы»\n\n9-10 сентября 2022г проводился ПВД по названым рекам. Сентябрь время прекрасное. И подобные водные сплавы уже, пожалуй, традиционны. Старт в Кричевском районе в деревне Старый Дедин. По замечательной реке Остер до этого ходили мы в 2012-ом году от Рославля (Россия) до деревни Старый Дедин. Маршруты обычно завершаем. Руки добить Остер дошли лишь только теперь через десять лет. \nЕхать от Старого Дедина до устья 46 км. До лагеря тогда планировалось 49. Едва ли была актуальна группа моральной поддержи и технического обеспечения, ибо вряд ли найдутся желающие поехать на задворки Беларуси в Кричевский район.\nНа следующий день планировался Сож. На Сож мы несколько раз ездили на рыбалку, на Кленковский Мост на роупджампинг, но по самой реке никогда не ходили. Следовало исправить недостаток да заткнуть эту брешь. По Сожу идти предстояло еще километров 65 вплоть до города Чериков. Для байдарки если не Остер, то Сож явно великоваты. \n9-10 сентября в рамках штатного расписания, вышли мы, ребята, в составе 9 человек на сплотке моторная лодка-рафт. Группа потерпела фиаско. К этому времени река жесточайше обмелела, но главное, что нас не хотел везти мотор. Моторы в 5 л.с. до этого неоднократно нас тягали, причем весьма результативно. Однако, в те злосчастные сентябрьские числа было всё против нас! Ненужные весла Глаз не взял. Захватив только 4 для чалки. Так что пройдено было 12 (!) километров. Закончили сплав в деревне Ходунь. https://magadan.by/tours/94b-oster-razgromnyj-12km-10-11-09-2022\nВ том уже идущем к закату 2022 году нужно формализовать завершение проекта и вбить последний гвоздь в крышку гроба. Одному Богу известно, когда дойдут руки еще раз до Остера, да и дойдут ли вообще. В свете последних событий, чтобы все успеть целесообразно жечь свечу с двух концов. \nДля ПВД формат дорогой, но ожидается финансово проще, нежели его сентябрьский приквел. Ехать на Остер сравнительно далеко, в аренду же тогда взять планировали только два мотора. Никакие пузатые рафты тягать за собой не собирались. Моторы поставить на два катамарана. Но просьба относиться к этому институту расходов с пониманием. \nСроки реализации мероприятия, запланированные на 03-04 декабря 2022г в связи с быстротечно и бурно начавшейся зимой благоразумно перенесены на 25-26 марта 2023г. \nНачнем, откуда закончили. То есть из деревни Ходунь. До Черикова остается 103 км. Для интересующихся иметь в виду, что мартовские сплавы для большинства могут выходить за пределы зоны комфорта. В первую очередь температурного. Но записавшийся тогда уж - ОСТЕРегись!\nГодятся все желающие, кроме токсичных людей. Фотографы котируются категорически. Запись проводит Веселый Глаз. Звонить и давать нагрузки Глазу нельзя. 27 марта не звонить категорически! На все вопросы ответ универсальный: «Как пойдет». \nСрочно требуется инициативный и работоспособный, смекалистый и пассионарный напарник-референт.\n\nФотографии из сети\n

X-ALT-DESC;FMTTYPE=text/html:<!DOCTYPE HTML PUBLIC "-//W3C//DTD HTML 3.2//EN">\n<HTML>\n<HEAD>\n<META NAME="Generator" CONTENT="MS Exchange Server version 08.00.0681.000">\n<TITLE></TITLE>\n</HEAD>\n<BODY>\n<!-- Converted from text/rtf format -->\n\nРеки Остер-Сож 103 км. ПВД-реванш. От деревни Ходунь-до Черикова<br /><br />                  "Кто не прыгал из окошка<br />                   Вместе с маминым зонтом,<br />                   Тот лихим парашютистом <br />                   Не считается пока.<br />                   Не летать тому, как птица<br />                   Над взволнованной толпой,<br />                   Не лежать ему в больнице<br />                   С забинтованной ногой".<br />                   Григорий Остер «Вредные советы»<br /><br />9-10 сентября 2022г проводился ПВД по названым рекам. Сентябрь время прекрасное. И подобные водные сплавы уже, пожалуй, традиционны. Старт в Кричевском районе в деревне Старый Дедин. По замечательной реке Остер до этого ходили мы в 2012-ом году от Рославля (Россия) до деревни Старый Дедин. Маршруты обычно завершаем. Руки добить Остер дошли лишь только теперь через десять лет. <br />Ехать от Старого Дедина до устья 46 км. До лагеря тогда планировалось 49. Едва ли была актуальна группа моральной поддержи и технического обеспечения, ибо вряд ли найдутся желающие поехать на задворки Беларуси в Кричевский район.<br />На следующий день планировался Сож. На Сож мы несколько раз ездили на рыбалку, на Кленковский Мост на роупджампинг, но по самой реке никогда не ходили. Следовало исправить недостаток да заткнуть эту брешь. По Сожу идти предстояло еще километров 65 вплоть до города Чериков. Для байдарки если не Остер, то Сож явно великоваты. <br />9-10 сентября в рамках штатного расписания, вышли мы, ребята, в составе 9 человек на сплотке моторная лодка-рафт. Группа потерпела фиаско. К этому времени река жесточайше обмелела, но главное, что нас не хотел везти мотор. Моторы в 5 л.с. до этого неоднократно нас тягали, причем весьма результативно. Однако, в те злосчастные сентябрьские числа было всё против нас! Ненужные весла Глаз не взял. Захватив только 4 для чалки. Так что пройдено было 12 (!) километров. Закончили сплав в деревне Ходунь. https://magadan.by/tours/94b-oster-razgromnyj-12km-10-11-09-2022<br />В том уже идущем к закату 2022 году нужно формализовать завершение проекта и вбить последний гвоздь в крышку гроба. Одному Богу известно, когда дойдут руки еще раз до Остера, да и дойдут ли вообще. В свете последних событий, чтобы все успеть целесообразно жечь свечу с двух концов. <br />Для ПВД формат дорогой, но ожидается финансово проще, нежели его сентябрьский приквел. Ехать на Остер сравнительно далеко, в аренду же тогда взять планировали только два мотора. Никакие пузатые рафты тягать за собой не собирались. Моторы поставить на два катамарана. Но просьба относиться к этому институту расходов с пониманием. <br />Сроки реализации мероприятия, запланированные на 03-04 декабря 2022г в связи с быстротечно и бурно начавшейся зимой благоразумно перенесены на 25-26 марта 2023г. <br />Начнем, откуда закончили. То есть из деревни Ходунь. До Черикова остается 103 км. Для интересующихся иметь в виду, что мартовские сплавы для большинства могут выходить за пределы зоны комфорта. В первую очередь температурного. Но записавшийся тогда уж - ОСТЕРегись!<br />Годятся все желающие, кроме токсичных людей. Фотографы котируются категорически. Запись проводит Веселый Глаз. Звонить и давать нагрузки Глазу нельзя. 27 марта не звонить категорически! На все вопросы ответ универсальный: «Как пойдет». <br />Срочно требуется инициативный и работоспособный, смекалистый и пассионарный напарник-референт.<br /><br />Фотографии из сети<br />\n\n</BODY>\n</HTML>

LOCATION:
END:VEVENT

END:VCALENDAR
