BEGIN:VCALENDAR
VERSION:2.0
PRODID:-//hacksw/handcal//NONSGML v1.0//EN
BEGIN:VEVENT
UID:e6c7c5525bbedc04948eb960af535162
DTSTAMP:20260421T053351Z

DTSTART:20230121T000000
DTEND:20230122T000000
SUMMARY:94Д «Планета Добра» 21-22 января 2022
DESCRIPTION:Наша Секта – это общество осознанных и здравомыслящих людей, живущих по совести, в ладу с природой и на благо Мира. Все наши действия направлены на возрождение древних знаний, родной культуры и, конечно, природы. Привлекая внимание к ресурсам внутреннего мира человека, мы ориентируемся на здоровый образ жизни и традиционные семейные ценности: нравственность, доброту, ответственность, честность, взаимопомощь, трудолюбие, щедрость. У нас нет спонсоров и хозяев, указывающих, что и как делать. Адепты Нашей Секты трудятся для достижения выбранных целей и задач на добровольных началах, поэтому Нам важна любая помощь, солидарность и поддержка.\nТуризм в Беларуси претерпевает рецессию, а попросту даже умирает. Причины экономические, политические, да и правовые. Я вкусам и увлечениям не изменяю. Они  уже и не поменяются. Время больших групп ушло. В последнее время актуален камерный состав. Возможно, со временем я приду к сольным путешествиям (как апологет последних Тихомиров Килилл). \nЗима в этом 2022 году пришла довольно неожиданно. Завершить 2022 год планировалось необычным водным сплавом по рекам Остер-Сож. Наступившие морозы более 10 градусов сделали необходимость замены формата очевидной. От зимней погоды не стоит отказываться, а, напротив, ловить момент. Я лично по зиме неимоверно соскучился. \nВ числа 03-04 декабря пытались провести пеший ПВД протяженностью трека 27 километров в Чашницком и Сеннинском районах Витебской области. И даже вышли на маршрут. Стрелки навигаторов Garmin с первых метров начали "залипать". Обнаружились проблемы с обнаружением спутников. Оказывается в связи с наложенными санкциями отныне в РФ и Беларуси garminы бесполезны. Прочих средств навигации не было: компас, бумажная карта адекватные телефоны с адекватными приложениями, power-banc. Ничего не оставалось, как вернуться обратно.\nРюкзак так и стоит собранный на балконе в ожидании намеченных дат. К тому времени вопрос с доступными приложениями и средствами навигации будет решен. \n\nИдти в основном придется по пересеченной местности. Большей частью маршрут проходит через болото, заболоченный лес, заброшенные торфоразработки. На пути два озера, Жеринское и озеро Стержень. Оба с высокой эвтрофикацией (как Глаз больше всего любит), которые едва ли заинтересуют непосвященного обывателя. По озерам и сопредельным территориям информация в сети лаконичная. Проходимость болота не известна. Поэтому трек 27 километров, а не как обычно 35-40. Исходя из уровня снежного покрова, формат будет пеший или лыжный.\nЖелающих просьба записываться. Заброска автомобильная. Лагерь на 17-ом километре трека. Возможности приехать матрасом нет. Поскольку лагерь в лесу в отдалении от дорог. В дополнение ко всему прочему, Смирнов говорил, что вредно жить шаблонами и если не выходить из зоны комфорта высок риск развития болезни Альцгеймера (старческий маразм).\nФотографии к анонсу из сети.\n

X-ALT-DESC;FMTTYPE=text/html:<!DOCTYPE HTML PUBLIC "-//W3C//DTD HTML 3.2//EN">\n<HTML>\n<HEAD>\n<META NAME="Generator" CONTENT="MS Exchange Server version 08.00.0681.000">\n<TITLE></TITLE>\n</HEAD>\n<BODY>\n<!-- Converted from text/rtf format -->\n\nНаша Секта – это общество осознанных и здравомыслящих людей, живущих по совести, в ладу с природой и на благо Мира. Все наши действия направлены на возрождение древних знаний, родной культуры и, конечно, природы. Привлекая внимание к ресурсам внутреннего мира человека, мы ориентируемся на здоровый образ жизни и традиционные семейные ценности: нравственность, доброту, ответственность, честность, взаимопомощь, трудолюбие, щедрость. У нас нет спонсоров и хозяев, указывающих, что и как делать. Адепты Нашей Секты трудятся для достижения выбранных целей и задач на добровольных началах, поэтому Нам важна любая помощь, солидарность и поддержка.<br />Туризм в Беларуси претерпевает рецессию, а попросту даже умирает. Причины экономические, политические, да и правовые. Я вкусам и увлечениям не изменяю. Они  уже и не поменяются. Время больших групп ушло. В последнее время актуален камерный состав. Возможно, со временем я приду к сольным путешествиям (как апологет последних Тихомиров Килилл). <br />Зима в этом 2022 году пришла довольно неожиданно. Завершить 2022 год планировалось необычным водным сплавом по рекам Остер-Сож. Наступившие морозы более 10 градусов сделали необходимость замены формата очевидной. От зимней погоды не стоит отказываться, а, напротив, ловить момент. Я лично по зиме неимоверно соскучился. <br />В числа 03-04 декабря пытались провести пеший ПВД протяженностью трека 27 километров в Чашницком и Сеннинском районах Витебской области. И даже вышли на маршрут. Стрелки навигаторов Garmin с первых метров начали "залипать". Обнаружились проблемы с обнаружением спутников. Оказывается в связи с наложенными санкциями отныне в РФ и Беларуси garminы бесполезны. Прочих средств навигации не было: компас, бумажная карта адекватные телефоны с адекватными приложениями, power-banc. Ничего не оставалось, как вернуться обратно.<br />Рюкзак так и стоит собранный на балконе в ожидании намеченных дат. К тому времени вопрос с доступными приложениями и средствами навигации будет решен. <br /><br />Идти в основном придется по пересеченной местности. Большей частью маршрут проходит через болото, заболоченный лес, заброшенные торфоразработки. На пути два озера, Жеринское и озеро Стержень. Оба с высокой эвтрофикацией (как Глаз больше всего любит), которые едва ли заинтересуют непосвященного обывателя. По озерам и сопредельным территориям информация в сети лаконичная. Проходимость болота не известна. Поэтому трек 27 километров, а не как обычно 35-40. Исходя из уровня снежного покрова, формат будет пеший или лыжный.<br />Желающих просьба записываться. Заброска автомобильная. Лагерь на 17-ом километре трека. Возможности приехать матрасом нет. Поскольку лагерь в лесу в отдалении от дорог. В дополнение ко всему прочему, Смирнов говорил, что вредно жить шаблонами и если не выходить из зоны комфорта высок риск развития болезни Альцгеймера (старческий маразм).<br />Фотографии к анонсу из сети.<br />\n\n</BODY>\n</HTML>

LOCATION:
END:VEVENT

END:VCALENDAR
