BEGIN:VCALENDAR
VERSION:2.0
PRODID:-//hacksw/handcal//NONSGML v1.0//EN
BEGIN:VEVENT
UID:63d89efbcbfa4c655396e9441da46f66
DTSTAMP:20260420T232947Z

DTSTART:20230304T000000
DTEND:20230311T000000
SUMMARY:Первое весеннее безумие!
DESCRIPTION:

Поход 1 кс пешеходный, продление до 2 кс в проработке. Требования: опыт в категорийном пешем походе, ПВД в межсезонке с ночёвкой, наличие необходимого личного снаряжения, необходимая физическая форма, терпимость ко всем и ко всему.. Формат похода - спортивный со всеми атрибутами. Район Налибокской пущи это 1 кс, 2 кс в разработке. Последний срок заявки на весеннее безумие 23 февраля.Детали и заявка в личной переписке. Руковод Свиридов Н., кмс.

X-ALT-DESC;FMTTYPE=text/html:<!DOCTYPE HTML PUBLIC "-//W3C//DTD HTML 3.2//EN">\n<HTML>\n<HEAD>\n<META NAME="Generator" CONTENT="MS Exchange Server version 08.00.0681.000">\n<TITLE></TITLE>\n</HEAD>\n<BODY>\n<!-- Converted from text/rtf format -->\n\n

Поход 1 кс пешеходный, продление до 2 кс в проработке. Требования: опыт в категорийном пешем походе, ПВД в межсезонке с ночёвкой, наличие необходимого личного снаряжения, необходимая физическая форма, терпимость ко всем и ко всему.. Формат похода - спортивный со всеми атрибутами. Район Налибокской пущи это 1 кс, 2 кс в разработке. Последний срок заявки на весеннее безумие 23 февраля.Детали и заявка в личной переписке. Руковод Свиридов Н., кмс.\n\n</BODY>\n</HTML>

LOCATION:
END:VEVENT

END:VCALENDAR
