BEGIN:VCALENDAR
VERSION:2.0
PRODID:-//hacksw/handcal//NONSGML v1.0//EN
BEGIN:VEVENT
UID:446a8ae5ffc13326d997c1835909e476
DTSTAMP:20260421T123953Z

DTSTART:20230805T080000
DTEND:20230819T080000
SUMMARY:Карелия, р.Суна с 05 августа 2023
DESCRIPTION:Туристический поход по р.Суна Карелия состоится с 05 августа.\nТрехразовое питание у костра (дежурство по очереди), проживание в 5-ти звездочных палатках (количество звезд, на выбор).\nНе коммерческий, т.е., бесплатно.\nПредполагаемые затраты участников:\n1. Транспортные расходы. Едем на личных авто. Наличие оного предпочтительно (но не критично)\n2. Приобрести продукты, список будет предоставлен. (10 дней на воде. В день 10р.*10 = 100руб.).\n3. Если нет своего снаряжения (перечень предоставим), то взять его в пунктах проката самостоятельно.\n4. Обеспечить себе в дорогу на непредвиденные затраты от 0 до 10 000 Рос.руб.\nЭто все не точно. Сколько потратите или сэкономите все Ваше. Каждый платит за себя (и я в том числе).\nВыезд из Минска 05 августа.\nМест почти не осталось, торопитесь!!!\n\n+375 25 98 302 66

X-ALT-DESC;FMTTYPE=text/html:<!DOCTYPE HTML PUBLIC "-//W3C//DTD HTML 3.2//EN">\n<HTML>\n<HEAD>\n<META NAME="Generator" CONTENT="MS Exchange Server version 08.00.0681.000">\n<TITLE></TITLE>\n</HEAD>\n<BODY>\n<!-- Converted from text/rtf format -->\n\nТуристический поход по р.Суна Карелия состоится с 05 августа.<br />Трехразовое питание у костра (дежурство по очереди), проживание в 5-ти звездочных палатках (количество звезд, на выбор).<br />Не коммерческий, т.е., бесплатно.<br />Предполагаемые затраты участников:<br />1. Транспортные расходы. Едем на личных авто. Наличие оного предпочтительно (но не критично)<br />2. Приобрести продукты, список будет предоставлен. (10 дней на воде. В день 10р.*10 = 100руб.).<br />3. Если нет своего снаряжения (перечень предоставим), то взять его в пунктах проката самостоятельно.<br />4. Обеспечить себе в дорогу на непредвиденные затраты от 0 до 10 000 Рос.руб.<br />Это все не точно. Сколько потратите или сэкономите все Ваше. Каждый платит за себя (и я в том числе).<br />Выезд из Минска 05 августа.<br />Мест почти не осталось, торопитесь!!!<br /><br />+375 25 98 302 66\n\n</BODY>\n</HTML>

LOCATION:
END:VEVENT

END:VCALENDAR
