BEGIN:VCALENDAR
VERSION:2.0
PRODID:-//hacksw/handcal//NONSGML v1.0//EN
BEGIN:VEVENT
UID:93bc79ff41a840e2350a15f997b420c8
DTSTAMP:20260421T012041Z

DTSTART:20231013T060000
DTEND:20231015T200000
SUMMARY:Кастрычницкае Дулебскае Балото
DESCRIPTION:Болото Дулебы - это болотный массив, находящийся в Белоруссии на границе Могилевской и Минской областей. Оно является одним из крупнейших болот в стране, его площадь составляет более 8000 гектар. Дулебы - это также наименование древнего племени, которое обитало на территории современной Беларуси и Украины. В честь этого племени болото и получило свое название. Болото Дулебы является важным птицеобитаемым местом, где водятся редкие и исчезающие виды птиц. В 2002 году болото было включено в список международно значимых болот по Рамсарской конвенции.\nВсе это, а также другие знания об этом месте не пригодятся, потому что мы все время будем крутить педали и смотреть вниз, чтобы не упасть в грязь. \nИтак, велопоход Кастрычницкае Дулебскае Балото объявляет набор участников. \nПо расстоянию - небольшой, около 70 км. Подойдет новичкам, которые уже побывали в походах типа Новичок+ и ВелоСуперЛайт. \nВозможны мокрые участки, хотя есть надежда, что в это время года там относительно сухо. Ночлег на живописном месте под названием Малыш. Возможен подъезд машин\nЛогистика пока что на электричках, если не заявится достаточно водителей, чтобы поехать на автомашинах. \nСтарт из Минска в 6 утра в субботу. Заявки принимаются до четверга. Девятому записавшемуся - специальный приз. 

X-ALT-DESC;FMTTYPE=text/html:<!DOCTYPE HTML PUBLIC "-//W3C//DTD HTML 3.2//EN">\n<HTML>\n<HEAD>\n<META NAME="Generator" CONTENT="MS Exchange Server version 08.00.0681.000">\n<TITLE></TITLE>\n</HEAD>\n<BODY>\n<!-- Converted from text/rtf format -->\n\nБолото Дулебы - это болотный массив, находящийся в Белоруссии на границе Могилевской и Минской областей. Оно является одним из крупнейших болот в стране, его площадь составляет более 8000 гектар. Дулебы - это также наименование древнего племени, которое обитало на территории современной Беларуси и Украины. В честь этого племени болото и получило свое название. Болото Дулебы является важным птицеобитаемым местом, где водятся редкие и исчезающие виды птиц. В 2002 году болото было включено в список международно значимых болот по Рамсарской конвенции.<br />Все это, а также другие знания об этом месте не пригодятся, потому что мы все время будем крутить педали и смотреть вниз, чтобы не упасть в грязь. <br />Итак, велопоход Кастрычницкае Дулебскае Балото объявляет набор участников. <br />По расстоянию - небольшой, около 70 км. Подойдет новичкам, которые уже побывали в походах типа Новичок+ и ВелоСуперЛайт. <br />Возможны мокрые участки, хотя есть надежда, что в это время года там относительно сухо. Ночлег на живописном месте под названием Малыш. Возможен подъезд машин<br />Логистика пока что на электричках, если не заявится достаточно водителей, чтобы поехать на автомашинах. <br />Старт из Минска в 6 утра в субботу. Заявки принимаются до четверга. Девятому записавшемуся - специальный приз. \n\n</BODY>\n</HTML>

LOCATION:Duleby, Беларусь
END:VEVENT

END:VCALENDAR
