BEGIN:VCALENDAR
VERSION:2.0
PRODID:-//hacksw/handcal//NONSGML v1.0//EN
BEGIN:VEVENT
UID:456562c655c2ed54fbb3eb0057888403
DTSTAMP:20260420T141836Z

DTSTART:20260417T140000
DTEND:20260426T140000
SUMMARY:96:Полисть 2-Полометь
DESCRIPTION:96:Полисть2-Полометь\nВсем привет! С 17 апреля 2026 года планируется сплав на байдарках по рекам Полисть-Полометь.\nБудет две подгруппы. Одна выезжает на микроавтобусе из Минска, другая на поезде из Москвы до Старой Руссы. Для последней еще придется подъехать на машине в Карабинец (Бычково).\nВ прошлом апреле верхний заповедно-болотный участок Полисти нами был пройден. Впечатления от реки соответствуют ожидаемым. По горячим следам рассказ-фельетон не был написан ввиду отсутствия фотоматриала. Поэтому по первой части предоставить нечего. Между тем у аудитории запрос на подбный поход-андеграунд поступил. Продолжаем в этом апреле дальше вниз 90 километров от деревни Карабинец. Это почти до устья. Но прямо "до конца" идти не целесообразно, последние два десятка километров реки откровенно скучные. Полисть после Карабинца динамична: появляются перекаты, шиверы, пороги, которые, чем ниже, тем становятся интенсивнее. Самый существенный из них Браклавицкий. Последний при паводковой воде на фотографиях для байдарки (без юбки) выглядит устрашающе. Это уже почти в конце маршрута. Заканчиваем Полисть 20 апреля вечером.\nВдоль реки в разной степени удаленности проходит гравийная дорога Старая Русса-Карабинец. Теоретически возможен сход с маршрута в любом месте. Но населенка там, в буквальном смысле того, сейчас практически вымерла.\nТеперь когда-то приснопамятная Полисть утратила среди тууристов былую популярность. Современных лоций на сегодняшний день, пожалуй, не существует.\nДля желающих продолжить поход, переезжаем на реку Полометь. Проходим наиболее спортивный кондуит Дворец-Яжелбицы. Обычно на эти 22 километра, мчащейся (если это апрель) в оврагах реки, требуется пару часов. При желании и временных возможностях продолжаем сплавляться по Поломети дальше.\nИщем дополнительных участников. Целевая аудитория - стареющие женщины и мужчины. Режим похода «как пойдет». Не коммерция и не спорт. Учитывая рекордное за последние годы количество снега, уровень воды ожидается паводковый. Возможно, наличие гидрокостюма будет облигатно. Холодовой дискомфорт гарантирован.\nКроме того запланировано посещение Священного Ильменя и конкретно Ильменьский Глинт. Скорее всего, глинт в начале похода на этапе заброски. Находится он в логистической близости с рекой Полисть.\nФотографы, корреспонденты, гоу-про, хипстеры, блогеры и прочие медийные лица приветствуются.\nТел. 8 980 181 11 79. То же Ватс Апп и Телеграм. Алексей\nТел. 8 029 668 36 83 То же Телеграм. Алексей\nФотографии в свободном доступе\n

X-ALT-DESC;FMTTYPE=text/html:<!DOCTYPE HTML PUBLIC "-//W3C//DTD HTML 3.2//EN">\n<HTML>\n<HEAD>\n<META NAME="Generator" CONTENT="MS Exchange Server version 08.00.0681.000">\n<TITLE></TITLE>\n</HEAD>\n<BODY>\n<!-- Converted from text/rtf format -->\n\n96:Полисть2-Полометь<br />Всем привет! С 17 апреля 2026 года планируется сплав на байдарках по рекам Полисть-Полометь.<br />Будет две подгруппы. Одна выезжает на микроавтобусе из Минска, другая на поезде из Москвы до Старой Руссы. Для последней еще придется подъехать на машине в Карабинец (Бычково).<br />В прошлом апреле верхний заповедно-болотный участок Полисти нами был пройден. Впечатления от реки соответствуют ожидаемым. По горячим следам рассказ-фельетон не был написан ввиду отсутствия фотоматриала. Поэтому по первой части предоставить нечего. Между тем у аудитории запрос на подбный поход-андеграунд поступил. Продолжаем в этом апреле дальше вниз 90 километров от деревни Карабинец. Это почти до устья. Но прямо "до конца" идти не целесообразно, последние два десятка километров реки откровенно скучные. Полисть после Карабинца динамична: появляются перекаты, шиверы, пороги, которые, чем ниже, тем становятся интенсивнее. Самый существенный из них Браклавицкий. Последний при паводковой воде на фотографиях для байдарки (без юбки) выглядит устрашающе. Это уже почти в конце маршрута. Заканчиваем Полисть 20 апреля вечером.<br />Вдоль реки в разной степени удаленности проходит гравийная дорога Старая Русса-Карабинец. Теоретически возможен сход с маршрута в любом месте. Но населенка там, в буквальном смысле того, сейчас практически вымерла.<br />Теперь когда-то приснопамятная Полисть утратила среди тууристов былую популярность. Современных лоций на сегодняшний день, пожалуй, не существует.<br />Для желающих продолжить поход, переезжаем на реку Полометь. Проходим наиболее спортивный кондуит Дворец-Яжелбицы. Обычно на эти 22 километра, мчащейся (если это апрель) в оврагах реки, требуется пару часов. При желании и временных возможностях продолжаем сплавляться по Поломети дальше.<br />Ищем дополнительных участников. Целевая аудитория - стареющие женщины и мужчины. Режим похода «как пойдет». Не коммерция и не спорт. Учитывая рекордное за последние годы количество снега, уровень воды ожидается паводковый. Возможно, наличие гидрокостюма будет облигатно. Холодовой дискомфорт гарантирован.<br />Кроме того запланировано посещение Священного Ильменя и конкретно Ильменьский Глинт. Скорее всего, глинт в начале похода на этапе заброски. Находится он в логистической близости с рекой Полисть.<br />Фотографы, корреспонденты, гоу-про, хипстеры, блогеры и прочие медийные лица приветствуются.<br />Тел. 8 980 181 11 79. То же Ватс Апп и Телеграм. Алексей<br />Тел. 8 029 668 36 83 То же Телеграм. Алексей<br />Фотографии в свободном доступе<br />\n\n</BODY>\n</HTML>

LOCATION:
END:VEVENT

END:VCALENDAR
